{"text_format":"1","workbook":"xlsx","n_sheets":19,"sheets":["User Tips","RentRollUpload","VALIDATION","Property Info","EWEMs","Units and Spaces","Observations","Photos","RemediationConversion","RemediationInfo","RemediationEWEMs","RemediationUnits","RemediationObservations","RemediationPhotos","LoanPropdat","EWEMdat","SecurityKey","Data","Updates"],"not_rendered":{"charts":0,"images":1,"macros":1,"external_links":0,"defined_names":22,"comments":10,"pivot_tables":0},"unopened":[],"bounds":{"document_bytes":16777216,"sheet_cells":100000,"rows_first":2000,"rows_last":500,"rows_between":2000,"halvings":0,"cell_chars":16384,"cell_head_chars":4096},"cells_cut":0,"cells_raw":0,"read":"whole","date_system":"1900"}

{"sheet":"User Tips","index":0,"n_rows":37,"n_cols":4,"rows_kept":37,"cut":false,"hidden":false,"merged":[[10,3,13,3],[14,3,16,3],[17,3,22,3]]}
["Red Cells are warnings",null,"This is Form 4221 Version 3-2"]
["Orange cell is a Partial Measure warning"]
["Yellow Cells are required fields that are blank"]
["Gray Cells are calculated or pulled from database"]
["Green Cells are auto calculations"]
["Black Cells are not required"]
[]
[null,null,null,"Note: Macros are Required to be enabled to activate the Remediation Section"]
[]
["Warning Flags:","Tab:",null,"Remediation Section"]
["There is a Complex EWEM","Property Info",null,"To convert this 4221 form to a Remediation Form, after the completion of a Verification Inspection, navigate to the Remediation Conversion worksheet and click on the conversion button. "]
["Not enough units inspected","Property Info and Observations"]
["There may be a partial measure","Property Info"]
["Completed after inspection ERROR","Property Info"]
["Partial measure flag shows Orange","EWEMs",null,"Converting a 4221 Form to Remediation can not be reversed. If you need assistance, please ask green_inspections@fanniemae.com"]
["Unusual Nameplate Specification","EWEMs"]
[]
["EWEMs Worksheet:",null,null,"After conversion, complete the inspection data fields in the Remediation section, which is very similar to a regular Verification inspection. The main difference is that you will only need to inspect the EWEMs that were noncompliant. "]
["Column E (Nameplate Specification) must match the number from Column D (EWEM Description)"]
[]
[]
[]
[]
[]
["Guidance for Comments:"]
["Describe what you observed:"]
["- Quantities"]
["- Types of equipment"]
[]
["Was anything out of the ordinary?"]
["- Could you not get access?"]
["- Was there a noncompliance?"]
[]
["Is there anything you would want to note for later?"]
["- The property may ask to see the inspection report"]
[]
["FOR MORE SPACE IN CELLS: You can adjust the row height manually."]

{"sheet":"RentRollUpload","index":1,"n_rows":3,"n_cols":2,"rows_kept":3,"cut":false,"hidden":false,"merged":[]}
[]
["Use this button to attach a Rent Roll or other appropriate document to indicate in which units the Partial EWEMs were installed. \n\nIf there are no partial EWEMs, you do not need to upload anything here. \n\nName your file something descriptive, including the name of the property and a description of the document. ","uploaded file ↓"]
[null,"(blank)"]

{"sheet":"VALIDATION","index":2,"n_rows":43,"n_cols":5,"rows_kept":43,"cut":false,"hidden":false,"merged":[[2,0,2,1]]}
["Validation Worksheet"]
["Instructions:"]
["Review each COMPLETENESS WARNING. If you are shown a warning, investigate to see if there is an error or update required. If it is OK, enter a comment for that warning explaining why it is OK.  \nReview each CHECKLIST item. In Column B provide a confirmation that this requirement has been fulfilled, or if it has not been fulfilled, provide a comment in Column C for that checklist item. \nBLANK YELLOW CELLS indicate that content needs to be provided in that cell. "]
[]
["COMPLETENESS WARNINGS"]
["Error or Warning","Status","INSPECTOR: Comment if the Status shows a warning, and explain why this is OK. ","Is error?","error with no explanation"]
["Property Info: all required fields are completed",{"$f":"IF(VALIDATION!D7=1,\"WARNING. Review for yellow blanks.\", \"ok\")","v":"WARNING. Review for yellow blanks."},null,{"$f":"IF(OR(ISBLANK('Property Info'!B14),ISBLANK('Property Info'!C20),ISBLANK('Property Info'!C21),ISBLANK('Property Info'!C22), ISBLANK('Property Info'!C24), ISBLANK('Property Info'!C25), ISBLANK('Property Info'!C26), ISBLANK('Property Info'!C28)),1,0)","v":1},{"$f":"IF(AND(D7=1, ISBLANK(VALIDATION!C7)),1,0)","v":1}]
["There is no unconfirmed Partial EWEM warning.",{"$f":"IF(VALIDATION!D8=1,\"WARNING: There is an unconfirmed Partial EWEM warning.\", \"ok\")","v":"ok"},null,{"$f":"IF(AND('Property Info'!B17<>\"\", 'Property Info'!E28=\"\"),  1, 0)","v":0},{"$f":"IF(AND(D8=1, ISBLANK(VALIDATION!C8)),1,0)","v":0}]
["Date of Inspection is in a correct date format",{"$f":"IF(VALIDATION!D9=1,\"WARNING. Review date field. Date format (mm/dd/yyyy)\", \"ok\")","v":"ok"},null,{"$f":"IF(ISERROR(DATE(MONTH('Property Info'!C22),DAY('Property Info'!C22),YEAR('Property Info'!C22))),1,0)","v":0},{"$f":"IF(AND(D9=1, ISBLANK(VALIDATION!C9)),1,0)","v":0}]
["All apartment EWEMs meet the minimum sample size for observed units. ",{"$f":"IF(VALIDATION!D10=1,\"WARNING. Review 'EWEMs' worksheet (Column N)\", \"ok\")","v":"ok"},null,{"$f":"IF(SUM(EWEMs!Z5:Z29)>0,1,0)","v":0},{"$f":"IF(AND(D10=1, ISBLANK(VALIDATION!C10)),1,0)","v":0}]
["All Apartment units have at least as many observations as the number of Apartment EWEMs. ",{"$f":"IF(VALIDATION!D11=1,\"WARNING. Review 'Units and Spaces' worksheet (Column F)\", \"ok\")","v":"ok"},null,{"$f":"IF(SUMPRODUCT(--(LEN('Units and Spaces'!F7:F108)>0))>0,1,0)","v":0},{"$f":"IF(AND(D11=1, ISBLANK(VALIDATION!C11)),1,0)","v":0}]
["All EWEM nameplate specifications are entered",{"$f":"IF(VALIDATION!D12=1,\"WARNING. Review 'EWEMs' worksheet (Column F) for completeness.\", \"ok\")","v":"ok"},null,{"$f":"IF(COUNTIF(EWEMs!AC5:AC29,TRUE)<=COUNTIF(EWEMs!F5:F29,\">0\"),0,1)","v":0},{"$f":"IF(AND(D12=1, ISBLANK(VALIDATION!C12)),1,0)","v":0}]
["No EWEM nameplates specifications are \"unusual\". ",{"$f":"IF(VALIDATION!D13=1,\"WARNING. Review 'EWEMs' worksheet (Column E) for accuracy.\", \"ok\")","v":"ok"},null,{"$f":"IF(EWEMs!F2=\"↓Unusual Nameplate Spec - Please Review\",1,0)","v":0},{"$f":"IF(AND(D13=1, ISBLANK(VALIDATION!C13)),1,0)","v":0}]
["All EWEMs have at least one observation. ",{"$f":"IF(VALIDATION!D14=1,\"WARNING. Review 'EWEMs' worksheet (Column N).\", \"ok\")","v":"ok"},null,{"$f":"IF(COUNTIF(EWEMs!N5:N29,0)=0,0,1)","v":0},{"$f":"IF(AND(D14=1, ISBLANK(VALIDATION!C14)),1,0)","v":0}]
["All EWEM Inspection Descriptions have been entered. ",{"$f":"IF(VALIDATION!D15=1,\"WARNING. Review 'EWEMs' worksheet (Column M) for completeness.\", \"ok\")","v":"ok"},null,{"$f":"IF(COUNTIF(EWEMs!B5:B29,\"\")=COUNTIF(EWEMs!M5:M29,\"\"),0,1)","v":0},{"$f":"IF(AND(D15=1, ISBLANK(VALIDATION!C15)),1,0)","v":0}]
["An 'Actual Cost' is 10x more or less than predicted cost.",{"$f":"IF(VALIDATION!D16=1,\"WARNING. Review 'EWEMs' worksheet (Column G)\", \"ok\")","v":"ok"},null,{"$f":"IF(EWEMs!H2=\"WARNING: 'Actual Cost' is very high or very low\",1,0)","v":0},{"$f":"IF(AND(D16=1, ISBLANK(VALIDATION!C16)),1,0)","v":0}]
["No EWEM nameplate observations are \"unusual\".",{"$f":"IF(VALIDATION!D17=1,\"WARNING. Review 'Observations' worksheet (Column E)\", \"ok\")","v":"ok"},null,{"$f":"IF(Observations!E5=\"↓Unusual Nameplate Spec - Please Review\",1,0)","v":0},{"$f":"IF(AND(D17=1, ISBLANK(VALIDATION!C17)),1,0)","v":0}]
["Observations: all required fields are completed",{"$f":"IF(VALIDATION!D18=1,\"WARNING. Review 'Observations' worksheet for yellow blank cells\", \"ok\")","v":"ok"},null,{"$f":"IF(Observations!U6>0,1,0)","v":0},{"$f":"IF(AND(D18=1, ISBLANK(VALIDATION!C18)),1,0)","v":0}]
["Photos: All required photos have at least one photo.",{"$f":"IF(VALIDATION!D19=1,\"WARNING. Review 'Photos' worksheet for yellow blank cells\", \"ok\")","v":"WARNING. Review 'Photos' worksheet for yellow blank cells"},null,{"$f":"IFERROR(IF(SUM(Photos!A3:B100)>0, 1, 0), 1)","v":1},{"$f":"IF(AND(D19=1, ISBLANK(VALIDATION!C19)),1,0)","v":1}]
[]
["PHOTOS CONFIRMATION CHECKLIST"]
["Status to confirm","Confirmation","Comment (If needed)"]
["Photos are clear and not blurry",null,null,{"$f":"IF(ISBLANK(B23), 1, 0)","v":1},{"$f":"IF(OR(ISBLANK(B23), AND(B23=\"No - See Comment\", ISBLANK(C23))), 1, 0)","v":1}]
["Photos have readable labels and nameplates",null,null,1,{"$f":"IF(OR(ISBLANK(B24), AND(B24=\"No - See Comment\", ISBLANK(C24))), 1, 0)","v":1}]
["Photos support observation and compliance determinations",null,null,1,1]
["If an EWEM has a numerical specification, a photo has been included of the specification/label on the part.",null,null,1,1]
["Photos of stock/inventory items are provided",null,null,1,1]
["Every noncompliant observation has an included photo",null,null,1,1]
["For each EWEM, a photo of each type of part/equipment observed has been uploaded. ",null,null,1,1]
[]
["COMPLIANCE CONFIRMATION CHECKLIST"]
["Status to confirm","Confirmation","Comment (If needed)"]
["Compliance determinations take into account all specifications, such as settings, certifications or numerical specs, from the Description",null,null,{"$f":"IF(ISBLANK(B33), 1, 0)","v":1},{"$f":"IF(OR(ISBLANK(B33), AND(B33=\"No - See Comment\", ISBLANK(C33))), 1, 0)","v":1}]
["If an EWEM is a partial measure, DO NOT write in observations that are empty, or 'no observation made'. Only Enter actual observations made.",null,null,1,1]
["Compliance determination is reached by checking all reasonable parts of the installation",null,null,1,1]
["EnergyStar EWEMs have been verified by a label or by checking the EnergyStar database online.",null,null,1,1]
["All numerical ratings from EWEM Descriptions have been accounted for.",null,null,1,1]
["All certifications referenced in EWEM Descriptions have been accounted for. ",null,null,1,1]
[]
["WRITTEN DESCRIPTIONS  CONFIRMATION CHECKLIST"]
["Status to confirm","Confirmation","Comment (If needed)"]
["EWEM Verification Descriptions fully describe the overall observed EWEM, and include any context needed for a reviewer to understand what was found and its corresponding compliance determination",null,null,{"$f":"IF(ISBLANK(B42), 1, 0)","v":1},{"$f":"IF(OR(ISBLANK(B42), AND(B42=\"No - See Comment\", ISBLANK(C42))), 1, 0)","v":1}]
["Observation Descriptions fully describe what was observed.",null,null,{"$f":"IF(ISBLANK(B43), 1, 0)","v":1},1]

{"sheet":"Property Info","index":3,"n_rows":34,"n_cols":7,"rows_kept":34,"cut":false,"hidden":false,"merged":[]}
[null,null,"Green Rewards Verification Inspection Form"]
[null,"INPUT: Property and Inspection Information"]
[null,"Instructions:  Enter the Fannie Mae Loan ID and Property Linkage ID. The Servicer must confirm that the EWEMs listed in this Inspection Form match what is shown in the Schedule 6 and/or any Schedule 6 amendments. The inspector may then enter the inspection information."]
[null,"When completed and reviewed, submit this form to green_inspections@fanniemae.com."]
[null,"PROJECT INFORMATION"]
[]
[null,"Enter the Fannie Mae Loan ID here ↓","Property Name",{"$f":"IFERROR(VLOOKUP(SecurityKey!$C$2,LoanPropdat!A:E,5,FALSE),\"\")","v":""}]
[null,null,"Street Address",{"$f":"IFERROR(VLOOKUP(SecurityKey!$C$2,LoanPropdat!A:J,10,FALSE),\"\")","v":""}]
[null,null,"City",{"$f":"IFERROR(VLOOKUP(SecurityKey!$C$2,LoanPropdat!A:K,11,FALSE),\"\")","v":""}]
[null,"Enter the Property Linkage ID here ↓","State",{"$f":"IFERROR(VLOOKUP(SecurityKey!$C$2,LoanPropdat!A:L,12,FALSE),\"\")","v":""}]
[null,null,"Zip",{"$f":"IFERROR(VLOOKUP(SecurityKey!$C$2,LoanPropdat!A:M,13,FALSE),\"\")","v":""}]
[null,null,"Origination Date",{"$f":"IFERROR(VLOOKUP(SecurityKey!$C$2,LoanPropdat!A:I,8,FALSE),\"\")","v":""}]
[null,"Servicer Confirmation of EWEMs ↓","Original Expected EWEM Completion Date",{"$f":"IFERROR(VLOOKUP(SecurityKey!$C$2,LoanPropdat!A:I,9,FALSE),\"\")","v":""}]
[null,null,"Servicer",{"$f":"IFERROR(VLOOKUP(SecurityKey!$C$2,LoanPropdat!A:G,7,FALSE),\"\")","v":""}]
[null,null,"HPB Consultant",{"$f":"IFERROR(VLOOKUP(SecurityKey!$C$2,LoanPropdat!A:G,6,FALSE),\"\")","v":""}]
[null,{"$f":"IF(D7=\"\",\"\",IF(COUNTIF(EWEMs!V5:V29,\"complex\")>0,\"This inspection contains complex EWEMs\",\"Does not contain complex EWEMs\"))","v":""},"Number of Units",{"$f":"IFERROR(VLOOKUP(SecurityKey!$C$2,LoanPropdat!A:N,14,FALSE),\"\")","v":""}]
[null,{"$f":"IF(COUNTIF(EWEMs!W5:W29,\"maybe partial\")>0, \"There may be a partial measure\", \"\")","v":""}]
[null,"INSPECTION INFORMATION"]
[]
[null,"Name of Inspector",null,null,"Total EWEMs",{"$f":"25-COUNTBLANK(selectedEWEMs)","v":0}]
[null,"Inspection Company",null,null,"Noncompliant EWEMs",{"$f":"COUNTIF(EWEMs!Q5:Q29,\"No\")","v":0},{"$f":"IF(F21>0,\"This property contains a noncompliant EWEM\",\"\")","v":""}]
[null,"Date of Inspection",null,null,"Noncompliant EWEM %",{"$f":"IFERROR(F21/F20,\"-\")","v":"-"}]
[null,"Date when all EWEMs were Completed",{"$f":"IF(MAX(EWEMs!I5:I29)=0,\"\", MAX(EWEMs!I5:I29))","v":""},{"$f":"IF(C23>C22,\"Completed after inspection ERROR\",\"\")","v":""},"Minimum number of units to inspect:",{"$f":"ROUND(IF('Property Info'!D16<20,3,IF('Property Info'!D16>600,30,IF('Property Info'!D16<56,5,IF('Property Info'!D16<100,'Property Info'!D16*0.1,IF('Property Info'!D16<201,10,'Property Info'!D16*0.05))))),0)","v":30}]
[null,"Site Visit Contact Name",null,null,"Number of units inspected:",{"$f":"Observations!D5","v":0},{"$f":"IF(SUM(EWEMs!Z5:Z29)>0, \"One or more EWEMs has fewer than the minimum number of Apartment observations\", \"\")","v":""}]
[null,"Contact Phone Number"]
[null,"Contact Email Address",null,{"$f":"IF(C26=\"\", \"\", IF(AND(ISNUMBER(FIND(\"@\",C26)),ISNUMBER(FIND(\".\",C26)),LEN(C26)>5), \"\", \"Possible email formatting error\"))","v":""}]
[null,null,null,null,{"$f":"IF(B17=\"\",\"\",\"Inspector Confirmation of Partial EWEMs ↓\")","v":""}]
[null,"General Inspection Comments"]
[]
[null,"VALIDATION WORKSHEET REVIEW  ",{"$f":"IF(LEN(C32&C34)>10, \"INCOMPLETE ITEMS\", \"OK\")","v":"INCOMPLETE ITEMS"}]
[]
[null,{"$f":"HYPERLINK(CELL(\"address\", VALIDATION!A15), \"Completeness Checks    \")","v":"Completeness Checks    "},{"$f":"IF(SUM(VALIDATION!E$7:E$19)>0,\"Warning: Completeness checks require review\", \"OK\")","v":"Warning: Completeness checks require review"}]
[]
[null,{"$f":"HYPERLINK(CELL(\"address\", VALIDATION!A21), \"Confirmation Checklist    \")","v":"Confirmation Checklist    "},{"$f":"IF(SUM(VALIDATION!E$23:E$43)>0, \"Warning: Checklist items require review\", \"OK\")","v":"Warning: Checklist items require review"}]

{"sheet":"EWEMs","index":4,"n_rows":29,"n_cols":32,"rows_kept":29,"cut":false,"hidden":false,"merged":[[1,9,1,11]]}
[null,null,"INPUT: EWEM Inspection Information",null,null,null,null,null,null,null,null,null,null,null,null,null,null,null,null,null,"EWEM Description","basic/complex","maybe partial","EWEM list name","Weird nameplate error","Not enough apartments tests","This is an apartment EWEM","This is a pool pump","This is a water EWEM","Weird actual cost","EWEM Backstock required","Photo row should be shown b/c not blank or 100% noncompliance"]
[null,null,"Instructions:  Fill out the nameplate specification if it is an aerator, showerhead, or toilet. Add any EWEM-level comments.",null,null,{"$f":"IF(SUM(Y5:Y29)>0,\"↓Unusual Nameplate Spec - Please Review\",\"\")","v":""},null,{"$f":"IF(AD4>0,\"WARNING: 'Actual Cost' is very high or very low\",\"\")","v":""},null,{"$f":"\"Total Units in Bldg: \"&'Property Info'!D16","v":"Total Units in Bldg: "},null,null,{"$f":"\"Apartment sample size: \"&'Property Info'!F23","v":"Apartment sample size: 30"}]
[]
["Number","EWEM Number","EWEM Name","EWEM Description","General EWEM Inspection Guidance","Nameplate Specification","EWEM Estimated Cost","EWEM ACTUAL Cost","EWEM ACTUAL Date Completed","Space Category","Estimated Quantity Installed","Number of units in which to install","Inspection Result Description","Total Observations","Noncompliant Observations","Noncompliance %","EWEM Compliant Per S6? *Preliminary",null,null,null,null,null,null,null,null,null,{"$f":"COUNTIF(AA5:AA29,TRUE)","v":0},null,null,{"$f":"COUNTIF(AD5:AD29,TRUE)","v":0}]
[1,{"$f":"IFERROR(INDEX(EWEMdat!D:D,SMALL(IF(ewem_bp_ids=SecurityKey!$C$2,ROW(ewem_bp_ids)-MIN(ROW(ewem_bp_ids))+1),EWEMs!$A5)),\"\")","v":""},{"$f":"IFERROR(INDEX(EWEMdat!F:F,SMALL(IF(ewem_bp_ids=SecurityKey!$C$2,ROW(ewem_bp_ids)-MIN(ROW(ewem_bp_ids))+1),EWEMs!$A5)),\"\")","v":""},{"$f":"U5&IFERROR(\" - \"&V5,\"\")","v":""},{"$f":"IFERROR(VLOOKUP(C5,Data!A:D,4,FALSE),\"\")","v":""},null,{"$f":"IFERROR(INDEX(EWEMdat!K:K,SMALL(IF(ewem_bp_ids=SecurityKey!$C$2,ROW(ewem_bp_ids)-MIN(ROW(ewem_bp_ids))+1),EWEMs!$A5)),\"\")","v":""},null,null,{"$f":"IFERROR(INDEX(EWEMdat!H:H,SMALL(IF(ewem_bp_ids=SecurityKey!$C$2,ROW(ewem_bp_ids)-MIN(ROW(ewem_bp_ids))+1),EWEMs!$A5)),\"\")","v":""},{"$f":"IFERROR(INDEX(EWEMdat!I:I,SMALL(IF(ewem_bp_ids=SecurityKey!$C$2,ROW(ewem_bp_ids)-MIN(ROW(ewem_bp_ids))+1),EWEMs!$A5)),\"\")","v":""},{"$f":"IFERROR(INDEX(EWEMdat!J:J,SMALL(IF(ewem_bp_ids=SecurityKey!$C$2,ROW(ewem_bp_ids)-MIN(ROW(ewem_bp_ids))+1),EWEMs!$A5)),\"\")","v":""},null,{"$f":"IF(C5<>\"\",COUNTIF(Observations!$D$7:$D$506,EWEMs!X5),\"\")","v":""},{"$f":"IF(C5<>\"\",COUNTIF(Observations!L$7:L$506,EWEMs!X5&\"noncompliant\"),\"\")","v":""},{"$f":"IF(C5<>\"\",O5/N5,\"\")","v":""},{"$f":"IFERROR(IF(C5<>\"\",IF(ISNUMBER(FIND(\"low-flow\",C5,1)), IF(P5<=0.5,\"Yes\",\"No\"),\nIF(C5=\"Upgrade in-unit lighting\",IF(P5<0.255,\"Yes\",\"No\"),\nIF(OR(ISNUMBER(FIND(\"low-flush\",C5,1)), C5=\"Upgrade exterior lighting\", C5=\"Upgrade common area lighting\", C5=\"Upgrade whole building lighting\",C5=\"Replace wall/window AC\", C5=\"Add window films\", C5=\"Install or replace solar screens\"), IF(P5<0.105,\"Yes\", \"No\"),\nIF(P5=0,\"Yes\",\"No\")))),\"\"), \"\")","v":""},null,null,null,{"$f":"IFERROR(INDEX(EWEMdat!G:G,SMALL(IF(ewem_bp_ids=SecurityKey!$C$2,ROW(ewem_bp_ids)-MIN(ROW(ewem_bp_ids))+1),EWEMs!$A5)),\"\")","v":""},{"$f":"IF(AB5=TRUE, \"BASIC\", INDEX(Data!J:J, MATCH(C5, Data!A:A,0)))","v":{"$error":"#N/A"}},{"$f":"IF(AND(OR(J5=\"Apartments and Common Areas\", J5=\"Apartments\"),L5<0.95*'Property Info'!$D$16),\"maybe partial\",\"\")","v":{"$error":"#VALUE!"}},{"$f":"IF(C5=\"\",\"\",B5&\" - \"&C5&\" - \"&J5)","v":""},{"$f":"IF(NOT(OR(F5=\"\",F5=0.5,F5=0.8, F5=1,F5=1.1, F5=1.2, F5=1.25, F5=1.28, F5=1.5, F5=1.75, F5=2)),1,0)","v":0},{"$f":"IF(AND(ISNUMBER(SEARCH(\"apartment\",J5)), N5<'Property Info'!$F$23), 1, 0)","v":0},{"$f":"ISNUMBER(SEARCH(\"apartment\",J5))","v":false},{"$f":"AND(ISNUMBER(SEARCH(\"pump\",U5)), ISNUMBER(SEARCH(\"pool\",U5)))","v":false},{"$f":"IF(C5=\"\", \"\", IF(OR(ISNUMBER(FIND(\"low-flow\",C5,1)), ISNUMBER(FIND(\"low-flush\",C5,1))),TRUE,FALSE))","v":""},{"$f":"AND(OR(H5>=G5*10,H5<=G5*0.1),H5<>\"\")","v":{"$error":"#VALUE!"}},{"$f":"C5&\" - \"&J5&\" \"&IF(VLOOKUP(C5,Data!A$7:C$105,3, FALSE)=1, \"\n(Backstock photo required)\", \"\")","v":{"$error":"#N/A"}},{"$f":"IF(OR(B5=\"\", N5=O5), FALSE, TRUE)","v":false}]
[2,{"$f":"IFERROR(INDEX(EWEMdat!D:D,SMALL(IF(ewem_bp_ids=SecurityKey!$C$2,ROW(ewem_bp_ids)-MIN(ROW(ewem_bp_ids))+1),EWEMs!$A6)),\"\")","v":""},{"$f":"IFERROR(INDEX(EWEMdat!F:F,SMALL(IF(ewem_bp_ids=SecurityKey!$C$2,ROW(ewem_bp_ids)-MIN(ROW(ewem_bp_ids))+1),EWEMs!$A6)),\"\")","v":""},{"$f":"U6&IFERROR(\" - \"&V6,\"\")","v":""},{"$f":"IFERROR(VLOOKUP(C6,Data!A:D,4,FALSE),\"\")","v":""},null,{"$f":"IFERROR(INDEX(EWEMdat!K:K,SMALL(IF(ewem_bp_ids=SecurityKey!$C$2,ROW(ewem_bp_ids)-MIN(ROW(ewem_bp_ids))+1),EWEMs!$A6)),\"\")","v":""},null,null,{"$f":"IFERROR(INDEX(EWEMdat!H:H,SMALL(IF(ewem_bp_ids=SecurityKey!$C$2,ROW(ewem_bp_ids)-MIN(ROW(ewem_bp_ids))+1),EWEMs!$A6)),\"\")","v":""},{"$f":"IFERROR(INDEX(EWEMdat!I:I,SMALL(IF(ewem_bp_ids=SecurityKey!$C$2,ROW(ewem_bp_ids)-MIN(ROW(ewem_bp_ids))+1),EWEMs!$A6)),\"\")","v":""},{"$f":"IFERROR(INDEX(EWEMdat!J:J,SMALL(IF(ewem_bp_ids=SecurityKey!$C$2,ROW(ewem_bp_ids)-MIN(ROW(ewem_bp_ids))+1),EWEMs!$A6)),\"\")","v":""},null,{"$f":"IF(C6<>\"\",COUNTIF(Observations!$D$7:$D$506,EWEMs!X6),\"\")","v":""},{"$f":"IF(C6<>\"\",COUNTIF(Observations!L$7:L$506,EWEMs!X6&\"noncompliant\"),\"\")","v":""},"",{"$f":"IFERROR(IF(C6<>\"\",IF(ISNUMBER(FIND(\"low-flow\",C6,1)), IF(P6<=0.5,\"Yes\",\"No\"),\nIF(C6=\"Upgrade in-unit lighting\",IF(P6<0.255,\"Yes\",\"No\"),\nIF(OR(ISNUMBER(FIND(\"low-flush\",C6,1)), C6=\"Upgrade exterior lighting\", C6=\"Upgrade common area lighting\", C6=\"Upgrade whole building lighting\",C6=\"Replace wall/window AC\", C6=\"Add window films\", C6=\"Install or replace solar screens\"), IF(P6<0.105,\"Yes\", \"No\"),\nIF(P6=0,\"Yes\",\"No\")))),\"\"), \"\")","v":""},null,null,null,{"$f":"IFERROR(INDEX(EWEMdat!G:G,SMALL(IF(ewem_bp_ids=SecurityKey!$C$2,ROW(ewem_bp_ids)-MIN(ROW(ewem_bp_ids))+1),EWEMs!$A6)),\"\")","v":""},{"$f":"IF(AB6=TRUE, \"BASIC\", INDEX(Data!J:J, MATCH(C6, Data!A:A,0)))","v":{"$error":"#N/A"}},{"$f":"IF(AND(OR(J6=\"Apartments and Common Areas\", J6=\"Apartments\"),L6<0.95*'Property Info'!$D$16),\"maybe partial\",\"\")","v":{"$error":"#VALUE!"}},"",{"$f":"IF(NOT(OR(F6=\"\",F6=0.5,F6=0.8, F6=1,F6=1.1, F6=1.2, F6=1.25, F6=1.28, F6=1.5, F6=1.75, F6=2)),1,0)","v":0},{"$f":"IF(AND(ISNUMBER(SEARCH(\"apartment\",J6)), N6<'Property Info'!$F$23), 1, 0)","v":0},{"$f":"ISNUMBER(SEARCH(\"apartment\",J6))","v":false},false,{"$f":"IF(C6=\"\", \"\", IF(OR(ISNUMBER(FIND(\"low-flow\",C6,1)), ISNUMBER(FIND(\"low-flush\",C6,1))),TRUE,FALSE))","v":""},{"$f":"AND(OR(H6>=G6*10,H6<=G6*0.1),H6<>\"\")","v":{"$error":"#VALUE!"}},{"$f":"C6&\" - \"&J6&\" \"&IF(VLOOKUP(C6,Data!A$7:C$105,3, FALSE)=1, \"\n(Backstock photo required)\", \"\")","v":{"$error":"#N/A"}},{"$f":"IF(OR(B6=\"\", N6=O6), FALSE, TRUE)","v":false}]
[3,{"$f":"IFERROR(INDEX(EWEMdat!D:D,SMALL(IF(ewem_bp_ids=SecurityKey!$C$2,ROW(ewem_bp_ids)-MIN(ROW(ewem_bp_ids))+1),EWEMs!$A7)),\"\")","v":""},{"$f":"IFERROR(INDEX(EWEMdat!F:F,SMALL(IF(ewem_bp_ids=SecurityKey!$C$2,ROW(ewem_bp_ids)-MIN(ROW(ewem_bp_ids))+1),EWEMs!$A7)),\"\")","v":""},"",{"$f":"IFERROR(VLOOKUP(C7,Data!A:D,4,FALSE),\"\")","v":""},null,{"$f":"IFERROR(INDEX(EWEMdat!K:K,SMALL(IF(ewem_bp_ids=SecurityKey!$C$2,ROW(ewem_bp_ids)-MIN(ROW(ewem_bp_ids))+1),EWEMs!$A7)),\"\")","v":""},null,null,{"$f":"IFERROR(INDEX(EWEMdat!H:H,SMALL(IF(ewem_bp_ids=SecurityKey!$C$2,ROW(ewem_bp_ids)-MIN(ROW(ewem_bp_ids))+1),EWEMs!$A7)),\"\")","v":""},{"$f":"IFERROR(INDEX(EWEMdat!I:I,SMALL(IF(ewem_bp_ids=SecurityKey!$C$2,ROW(ewem_bp_ids)-MIN(ROW(ewem_bp_ids))+1),EWEMs!$A7)),\"\")","v":""},{"$f":"IFERROR(INDEX(EWEMdat!J:J,SMALL(IF(ewem_bp_ids=SecurityKey!$C$2,ROW(ewem_bp_ids)-MIN(ROW(ewem_bp_ids))+1),EWEMs!$A7)),\"\")","v":""},null,{"$f":"IF(C7<>\"\",COUNTIF(Observations!$D$7:$D$506,EWEMs!X7),\"\")","v":""},{"$f":"IF(C7<>\"\",COUNTIF(Observations!L$7:L$506,EWEMs!X7&\"noncompliant\"),\"\")","v":""},"","",null,null,null,{"$f":"IFERROR(INDEX(EWEMdat!G:G,SMALL(IF(ewem_bp_ids=SecurityKey!$C$2,ROW(ewem_bp_ids)-MIN(ROW(ewem_bp_ids))+1),EWEMs!$A7)),\"\")","v":""},{"$f":"IF(AB7=TRUE, \"BASIC\", INDEX(Data!J:J, MATCH(C7, Data!A:A,0)))","v":{"$error":"#N/A"}},{"$f":"IF(AND(OR(J7=\"Apartments and Common Areas\", J7=\"Apartments\"),L7<0.95*'Property Info'!$D$16),\"maybe partial\",\"\")","v":{"$error":"#VALUE!"}},"",0,{"$f":"IF(AND(ISNUMBER(SEARCH(\"apartment\",J7)), N7<'Property Info'!$F$23), 1, 0)","v":0},false,false,"",{"$error":"#VALUE!"},{"$f":"C7&\" - \"&J7&\" \"&IF(VLOOKUP(C7,Data!A$7:C$105,3, FALSE)=1, \"\n(Backstock photo required)\", \"\")","v":{"$error":"#N/A"}},false]
[4,{"$f":"IFERROR(INDEX(EWEMdat!D:D,SMALL(IF(ewem_bp_ids=SecurityKey!$C$2,ROW(ewem_bp_ids)-MIN(ROW(ewem_bp_ids))+1),EWEMs!$A8)),\"\")","v":""},{"$f":"IFERROR(INDEX(EWEMdat!F:F,SMALL(IF(ewem_bp_ids=SecurityKey!$C$2,ROW(ewem_bp_ids)-MIN(ROW(ewem_bp_ids))+1),EWEMs!$A8)),\"\")","v":""},"",{"$f":"IFERROR(VLOOKUP(C8,Data!A:D,4,FALSE),\"\")","v":""},null,{"$f":"IFERROR(INDEX(EWEMdat!K:K,SMALL(IF(ewem_bp_ids=SecurityKey!$C$2,ROW(ewem_bp_ids)-MIN(ROW(ewem_bp_ids))+1),EWEMs!$A8)),\"\")","v":""},null,null,{"$f":"IFERROR(INDEX(EWEMdat!H:H,SMALL(IF(ewem_bp_ids=SecurityKey!$C$2,ROW(ewem_bp_ids)-MIN(ROW(ewem_bp_ids))+1),EWEMs!$A8)),\"\")","v":""},{"$f":"IFERROR(INDEX(EWEMdat!I:I,SMALL(IF(ewem_bp_ids=SecurityKey!$C$2,ROW(ewem_bp_ids)-MIN(ROW(ewem_bp_ids))+1),EWEMs!$A8)),\"\")","v":""},{"$f":"IFERROR(INDEX(EWEMdat!J:J,SMALL(IF(ewem_bp_ids=SecurityKey!$C$2,ROW(ewem_bp_ids)-MIN(ROW(ewem_bp_ids))+1),EWEMs!$A8)),\"\")","v":""},null,{"$f":"IF(C8<>\"\",COUNTIF(Observations!$D$7:$D$506,EWEMs!X8),\"\")","v":""},{"$f":"IF(C8<>\"\",COUNTIF(Observations!L$7:L$506,EWEMs!X8&\"noncompliant\"),\"\")","v":""},"","",null,null,null,{"$f":"IFERROR(INDEX(EWEMdat!G:G,SMALL(IF(ewem_bp_ids=SecurityKey!$C$2,ROW(ewem_bp_ids)-MIN(ROW(ewem_bp_ids))+1),EWEMs!$A8)),\"\")","v":""},{"$f":"IF(AB8=TRUE, \"BASIC\", INDEX(Data!J:J, MATCH(C8, Data!A:A,0)))","v":{"$error":"#N/A"}},{"$f":"IF(AND(OR(J8=\"Apartments and Common Areas\", J8=\"Apartments\"),L8<0.95*'Property Info'!$D$16),\"maybe partial\",\"\")","v":{"$error":"#VALUE!"}},"",0,{"$f":"IF(AND(ISNUMBER(SEARCH(\"apartment\",J8)), N8<'Property Info'!$F$23), 1, 0)","v":0},false,{"$f":"AND(ISNUMBER(SEARCH(\"pump\",U8)), ISNUMBER(SEARCH(\"pool\",U8)))","v":false},"",{"$error":"#VALUE!"},{"$f":"C8&\" - \"&J8&\" \"&IF(VLOOKUP(C8,Data!A$7:C$105,3, FALSE)=1, \"\n(Backstock photo required)\", \"\")","v":{"$error":"#N/A"}},false]
[5,{"$f":"IFERROR(INDEX(EWEMdat!D:D,SMALL(IF(ewem_bp_ids=SecurityKey!$C$2,ROW(ewem_bp_ids)-MIN(ROW(ewem_bp_ids))+1),EWEMs!$A9)),\"\")","v":""},{"$f":"IFERROR(INDEX(EWEMdat!F:F,SMALL(IF(ewem_bp_ids=SecurityKey!$C$2,ROW(ewem_bp_ids)-MIN(ROW(ewem_bp_ids))+1),EWEMs!$A9)),\"\")","v":""},"",{"$f":"IFERROR(VLOOKUP(C9,Data!A:D,4,FALSE),\"\")","v":""},null,{"$f":"IFERROR(INDEX(EWEMdat!K:K,SMALL(IF(ewem_bp_ids=SecurityKey!$C$2,ROW(ewem_bp_ids)-MIN(ROW(ewem_bp_ids))+1),EWEMs!$A9)),\"\")","v":""},null,null,{"$f":"IFERROR(INDEX(EWEMdat!H:H,SMALL(IF(ewem_bp_ids=SecurityKey!$C$2,ROW(ewem_bp_ids)-MIN(ROW(ewem_bp_ids))+1),EWEMs!$A9)),\"\")","v":""},{"$f":"IFERROR(INDEX(EWEMdat!I:I,SMALL(IF(ewem_bp_ids=SecurityKey!$C$2,ROW(ewem_bp_ids)-MIN(ROW(ewem_bp_ids))+1),EWEMs!$A9)),\"\")","v":""},{"$f":"IFERROR(INDEX(EWEMdat!J:J,SMALL(IF(ewem_bp_ids=SecurityKey!$C$2,ROW(ewem_bp_ids)-MIN(ROW(ewem_bp_ids))+1),EWEMs!$A9)),\"\")","v":""},null,{"$f":"IF(C9<>\"\",COUNTIF(Observations!$D$7:$D$506,EWEMs!X9),\"\")","v":""},{"$f":"IF(C9<>\"\",COUNTIF(Observations!L$7:L$506,EWEMs!X9&\"noncompliant\"),\"\")","v":""},"","",null,null,null,{"$f":"IFERROR(INDEX(EWEMdat!G:G,SMALL(IF(ewem_bp_ids=SecurityKey!$C$2,ROW(ewem_bp_ids)-MIN(ROW(ewem_bp_ids))+1),EWEMs!$A9)),\"\")","v":""},{"$f":"IF(AB9=TRUE, \"BASIC\", INDEX(Data!J:J, MATCH(C9, Data!A:A,0)))","v":{"$error":"#N/A"}},{"$f":"IF(AND(OR(J9=\"Apartments and Common Areas\", J9=\"Apartments\"),L9<0.95*'Property Info'!$D$16),\"maybe partial\",\"\")","v":{"$error":"#VALUE!"}},"",0,{"$f":"IF(AND(ISNUMBER(SEARCH(\"apartment\",J9)), N9<'Property Info'!$F$23), 1, 0)","v":0},false,false,"",{"$error":"#VALUE!"},{"$f":"C9&\" - \"&J9&\" \"&IF(VLOOKUP(C9,Data!A$7:C$105,3, FALSE)=1, \"\n(Backstock photo required)\", \"\")","v":{"$error":"#N/A"}},false]
[6,{"$f":"IFERROR(INDEX(EWEMdat!D:D,SMALL(IF(ewem_bp_ids=SecurityKey!$C$2,ROW(ewem_bp_ids)-MIN(ROW(ewem_bp_ids))+1),EWEMs!$A10)),\"\")","v":""},{"$f":"IFERROR(INDEX(EWEMdat!F:F,SMALL(IF(ewem_bp_ids=SecurityKey!$C$2,ROW(ewem_bp_ids)-MIN(ROW(ewem_bp_ids))+1),EWEMs!$A10)),\"\")","v":""},"",{"$f":"IFERROR(VLOOKUP(C10,Data!A:D,4,FALSE),\"\")","v":""},null,{"$f":"IFERROR(INDEX(EWEMdat!K:K,SMALL(IF(ewem_bp_ids=SecurityKey!$C$2,ROW(ewem_bp_ids)-MIN(ROW(ewem_bp_ids))+1),EWEMs!$A10)),\"\")","v":""},null,null,{"$f":"IFERROR(INDEX(EWEMdat!H:H,SMALL(IF(ewem_bp_ids=SecurityKey!$C$2,ROW(ewem_bp_ids)-MIN(ROW(ewem_bp_ids))+1),EWEMs!$A10)),\"\")","v":""},{"$f":"IFERROR(INDEX(EWEMdat!I:I,SMALL(IF(ewem_bp_ids=SecurityKey!$C$2,ROW(ewem_bp_ids)-MIN(ROW(ewem_bp_ids))+1),EWEMs!$A10)),\"\")","v":""},{"$f":"IFERROR(INDEX(EWEMdat!J:J,SMALL(IF(ewem_bp_ids=SecurityKey!$C$2,ROW(ewem_bp_ids)-MIN(ROW(ewem_bp_ids))+1),EWEMs!$A10)),\"\")","v":""},null,{"$f":"IF(C10<>\"\",COUNTIF(Observations!$D$7:$D$506,EWEMs!X10),\"\")","v":""},{"$f":"IF(C10<>\"\",COUNTIF(Observations!L$7:L$506,EWEMs!X10&\"noncompliant\"),\"\")","v":""},"","",null,null,null,{"$f":"IFERROR(INDEX(EWEMdat!G:G,SMALL(IF(ewem_bp_ids=SecurityKey!$C$2,ROW(ewem_bp_ids)-MIN(ROW(ewem_bp_ids))+1),EWEMs!$A10)),\"\")","v":""},{"$f":"IF(AB10=TRUE, \"BASIC\", INDEX(Data!J:J, MATCH(C10, Data!A:A,0)))","v":{"$error":"#N/A"}},{"$f":"IF(AND(OR(J10=\"Apartments and Common Areas\", J10=\"Apartments\"),L10<0.95*'Property Info'!$D$16),\"maybe partial\",\"\")","v":{"$error":"#VALUE!"}},"",0,{"$f":"IF(AND(ISNUMBER(SEARCH(\"apartment\",J10)), N10<'Property Info'!$F$23), 1, 0)","v":0},false,false,"",{"$error":"#VALUE!"},{"$f":"C10&\" - \"&J10&\" \"&IF(VLOOKUP(C10,Data!A$7:C$105,3, FALSE)=1, \"\n(Backstock photo required)\", \"\")","v":{"$error":"#N/A"}},false]
[7,{"$f":"IFERROR(INDEX(EWEMdat!D:D,SMALL(IF(ewem_bp_ids=SecurityKey!$C$2,ROW(ewem_bp_ids)-MIN(ROW(ewem_bp_ids))+1),EWEMs!$A11)),\"\")","v":""},{"$f":"IFERROR(INDEX(EWEMdat!F:F,SMALL(IF(ewem_bp_ids=SecurityKey!$C$2,ROW(ewem_bp_ids)-MIN(ROW(ewem_bp_ids))+1),EWEMs!$A11)),\"\")","v":""},"",{"$f":"IFERROR(VLOOKUP(C11,Data!A:D,4,FALSE),\"\")","v":""},null,{"$f":"IFERROR(INDEX(EWEMdat!K:K,SMALL(IF(ewem_bp_ids=SecurityKey!$C$2,ROW(ewem_bp_ids)-MIN(ROW(ewem_bp_ids))+1),EWEMs!$A11)),\"\")","v":""},null,null,{"$f":"IFERROR(INDEX(EWEMdat!H:H,SMALL(IF(ewem_bp_ids=SecurityKey!$C$2,ROW(ewem_bp_ids)-MIN(ROW(ewem_bp_ids))+1),EWEMs!$A11)),\"\")","v":""},{"$f":"IFERROR(INDEX(EWEMdat!I:I,SMALL(IF(ewem_bp_ids=SecurityKey!$C$2,ROW(ewem_bp_ids)-MIN(ROW(ewem_bp_ids))+1),EWEMs!$A11)),\"\")","v":""},{"$f":"IFERROR(INDEX(EWEMdat!J:J,SMALL(IF(ewem_bp_ids=SecurityKey!$C$2,ROW(ewem_bp_ids)-MIN(ROW(ewem_bp_ids))+1),EWEMs!$A11)),\"\")","v":""},null,{"$f":"IF(C11<>\"\",COUNTIF(Observations!$D$7:$D$506,EWEMs!X11),\"\")","v":""},{"$f":"IF(C11<>\"\",COUNTIF(Observations!L$7:L$506,EWEMs!X11&\"noncompliant\"),\"\")","v":""},"","",null,null,null,{"$f":"IFERROR(INDEX(EWEMdat!G:G,SMALL(IF(ewem_bp_ids=SecurityKey!$C$2,ROW(ewem_bp_ids)-MIN(ROW(ewem_bp_ids))+1),EWEMs!$A11)),\"\")","v":""},{"$f":"IF(AB11=TRUE, \"BASIC\", INDEX(Data!J:J, MATCH(C11, Data!A:A,0)))","v":{"$error":"#N/A"}},{"$f":"IF(AND(OR(J11=\"Apartments and Common Areas\", J11=\"Apartments\"),L11<0.95*'Property Info'!$D$16),\"maybe partial\",\"\")","v":{"$error":"#VALUE!"}},"",0,{"$f":"IF(AND(ISNUMBER(SEARCH(\"apartment\",J11)), N11<'Property Info'!$F$23), 1, 0)","v":0},false,false,"",{"$error":"#VALUE!"},{"$f":"C11&\" - \"&J11&\" \"&IF(VLOOKUP(C11,Data!A$7:C$105,3, FALSE)=1, \"\n(Backstock photo required)\", \"\")","v":{"$error":"#N/A"}},false]
[8,{"$f":"IFERROR(INDEX(EWEMdat!D:D,SMALL(IF(ewem_bp_ids=SecurityKey!$C$2,ROW(ewem_bp_ids)-MIN(ROW(ewem_bp_ids))+1),EWEMs!$A12)),\"\")","v":""},{"$f":"IFERROR(INDEX(EWEMdat!F:F,SMALL(IF(ewem_bp_ids=SecurityKey!$C$2,ROW(ewem_bp_ids)-MIN(ROW(ewem_bp_ids))+1),EWEMs!$A12)),\"\")","v":""},"",{"$f":"IFERROR(VLOOKUP(C12,Data!A:D,4,FALSE),\"\")","v":""},null,{"$f":"IFERROR(INDEX(EWEMdat!K:K,SMALL(IF(ewem_bp_ids=SecurityKey!$C$2,ROW(ewem_bp_ids)-MIN(ROW(ewem_bp_ids))+1),EWEMs!$A12)),\"\")","v":""},null,null,{"$f":"IFERROR(INDEX(EWEMdat!H:H,SMALL(IF(ewem_bp_ids=SecurityKey!$C$2,ROW(ewem_bp_ids)-MIN(ROW(ewem_bp_ids))+1),EWEMs!$A12)),\"\")","v":""},{"$f":"IFERROR(INDEX(EWEMdat!I:I,SMALL(IF(ewem_bp_ids=SecurityKey!$C$2,ROW(ewem_bp_ids)-MIN(ROW(ewem_bp_ids))+1),EWEMs!$A12)),\"\")","v":""},{"$f":"IFERROR(INDEX(EWEMdat!J:J,SMALL(IF(ewem_bp_ids=SecurityKey!$C$2,ROW(ewem_bp_ids)-MIN(ROW(ewem_bp_ids))+1),EWEMs!$A12)),\"\")","v":""},null,{"$f":"IF(C12<>\"\",COUNTIF(Observations!$D$7:$D$506,EWEMs!X12),\"\")","v":""},{"$f":"IF(C12<>\"\",COUNTIF(Observations!L$7:L$506,EWEMs!X12&\"noncompliant\"),\"\")","v":""},"","",null,null,null,{"$f":"IFERROR(INDEX(EWEMdat!G:G,SMALL(IF(ewem_bp_ids=SecurityKey!$C$2,ROW(ewem_bp_ids)-MIN(ROW(ewem_bp_ids))+1),EWEMs!$A12)),\"\")","v":""},{"$f":"IF(AB12=TRUE, \"BASIC\", INDEX(Data!J:J, MATCH(C12, Data!A:A,0)))","v":{"$error":"#N/A"}},{"$f":"IF(AND(OR(J12=\"Apartments and Common Areas\", J12=\"Apartments\"),L12<0.95*'Property Info'!$D$16),\"maybe partial\",\"\")","v":{"$error":"#VALUE!"}},"",0,{"$f":"IF(AND(ISNUMBER(SEARCH(\"apartment\",J12)), N12<'Property Info'!$F$23), 1, 0)","v":0},false,false,"",{"$error":"#VALUE!"},{"$f":"C12&\" - \"&J12&\" \"&IF(VLOOKUP(C12,Data!A$7:C$105,3, FALSE)=1, \"\n(Backstock photo required)\", \"\")","v":{"$error":"#N/A"}},false]
[9,{"$f":"IFERROR(INDEX(EWEMdat!D:D,SMALL(IF(ewem_bp_ids=SecurityKey!$C$2,ROW(ewem_bp_ids)-MIN(ROW(ewem_bp_ids))+1),EWEMs!$A13)),\"\")","v":""},{"$f":"IFERROR(INDEX(EWEMdat!F:F,SMALL(IF(ewem_bp_ids=SecurityKey!$C$2,ROW(ewem_bp_ids)-MIN(ROW(ewem_bp_ids))+1),EWEMs!$A13)),\"\")","v":""},"",{"$f":"IFERROR(VLOOKUP(C13,Data!A:D,4,FALSE),\"\")","v":""},null,{"$f":"IFERROR(INDEX(EWEMdat!K:K,SMALL(IF(ewem_bp_ids=SecurityKey!$C$2,ROW(ewem_bp_ids)-MIN(ROW(ewem_bp_ids))+1),EWEMs!$A13)),\"\")","v":""},null,null,{"$f":"IFERROR(INDEX(EWEMdat!H:H,SMALL(IF(ewem_bp_ids=SecurityKey!$C$2,ROW(ewem_bp_ids)-MIN(ROW(ewem_bp_ids))+1),EWEMs!$A13)),\"\")","v":""},{"$f":"IFERROR(INDEX(EWEMdat!I:I,SMALL(IF(ewem_bp_ids=SecurityKey!$C$2,ROW(ewem_bp_ids)-MIN(ROW(ewem_bp_ids))+1),EWEMs!$A13)),\"\")","v":""},{"$f":"IFERROR(INDEX(EWEMdat!J:J,SMALL(IF(ewem_bp_ids=SecurityKey!$C$2,ROW(ewem_bp_ids)-MIN(ROW(ewem_bp_ids))+1),EWEMs!$A13)),\"\")","v":""},null,{"$f":"IF(C13<>\"\",COUNTIF(Observations!$D$7:$D$506,EWEMs!X13),\"\")","v":""},{"$f":"IF(C13<>\"\",COUNTIF(Observations!L$7:L$506,EWEMs!X13&\"noncompliant\"),\"\")","v":""},"","",null,null,null,{"$f":"IFERROR(INDEX(EWEMdat!G:G,SMALL(IF(ewem_bp_ids=SecurityKey!$C$2,ROW(ewem_bp_ids)-MIN(ROW(ewem_bp_ids))+1),EWEMs!$A13)),\"\")","v":""},{"$f":"IF(AB13=TRUE, \"BASIC\", INDEX(Data!J:J, MATCH(C13, Data!A:A,0)))","v":{"$error":"#N/A"}},{"$f":"IF(AND(OR(J13=\"Apartments and Common Areas\", J13=\"Apartments\"),L13<0.95*'Property Info'!$D$16),\"maybe partial\",\"\")","v":{"$error":"#VALUE!"}},"",0,{"$f":"IF(AND(ISNUMBER(SEARCH(\"apartment\",J13)), N13<'Property Info'!$F$23), 1, 0)","v":0},false,false,"",{"$error":"#VALUE!"},{"$f":"C13&\" - \"&J13&\" \"&IF(VLOOKUP(C13,Data!A$7:C$105,3, FALSE)=1, \"\n(Backstock photo required)\", \"\")","v":{"$error":"#N/A"}},false]
[10,{"$f":"IFERROR(INDEX(EWEMdat!D:D,SMALL(IF(ewem_bp_ids=SecurityKey!$C$2,ROW(ewem_bp_ids)-MIN(ROW(ewem_bp_ids))+1),EWEMs!$A14)),\"\")","v":""},{"$f":"IFERROR(INDEX(EWEMdat!F:F,SMALL(IF(ewem_bp_ids=SecurityKey!$C$2,ROW(ewem_bp_ids)-MIN(ROW(ewem_bp_ids))+1),EWEMs!$A14)),\"\")","v":""},"",{"$f":"IFERROR(VLOOKUP(C14,Data!A:D,4,FALSE),\"\")","v":""},null,{"$f":"IFERROR(INDEX(EWEMdat!K:K,SMALL(IF(ewem_bp_ids=SecurityKey!$C$2,ROW(ewem_bp_ids)-MIN(ROW(ewem_bp_ids))+1),EWEMs!$A14)),\"\")","v":""},null,null,{"$f":"IFERROR(INDEX(EWEMdat!H:H,SMALL(IF(ewem_bp_ids=SecurityKey!$C$2,ROW(ewem_bp_ids)-MIN(ROW(ewem_bp_ids))+1),EWEMs!$A14)),\"\")","v":""},{"$f":"IFERROR(INDEX(EWEMdat!I:I,SMALL(IF(ewem_bp_ids=SecurityKey!$C$2,ROW(ewem_bp_ids)-MIN(ROW(ewem_bp_ids))+1),EWEMs!$A14)),\"\")","v":""},{"$f":"IFERROR(INDEX(EWEMdat!J:J,SMALL(IF(ewem_bp_ids=SecurityKey!$C$2,ROW(ewem_bp_ids)-MIN(ROW(ewem_bp_ids))+1),EWEMs!$A14)),\"\")","v":""},null,{"$f":"IF(C14<>\"\",COUNTIF(Observations!$D$7:$D$506,EWEMs!X14),\"\")","v":""},{"$f":"IF(C14<>\"\",COUNTIF(Observations!L$7:L$506,EWEMs!X14&\"noncompliant\"),\"\")","v":""},"","",null,null,null,{"$f":"IFERROR(INDEX(EWEMdat!G:G,SMALL(IF(ewem_bp_ids=SecurityKey!$C$2,ROW(ewem_bp_ids)-MIN(ROW(ewem_bp_ids))+1),EWEMs!$A14)),\"\")","v":""},{"$f":"IF(AB14=TRUE, \"BASIC\", INDEX(Data!J:J, MATCH(C14, Data!A:A,0)))","v":{"$error":"#N/A"}},{"$f":"IF(AND(OR(J14=\"Apartments and Common Areas\", J14=\"Apartments\"),L14<0.95*'Property Info'!$D$16),\"maybe partial\",\"\")","v":{"$error":"#VALUE!"}},"",0,{"$f":"IF(AND(ISNUMBER(SEARCH(\"apartment\",J14)), N14<'Property Info'!$F$23), 1, 0)","v":0},false,false,"",{"$error":"#VALUE!"},{"$f":"C14&\" - \"&J14&\" \"&IF(VLOOKUP(C14,Data!A$7:C$105,3, FALSE)=1, \"\n(Backstock photo required)\", \"\")","v":{"$error":"#N/A"}},false]
[11,{"$f":"IFERROR(INDEX(EWEMdat!D:D,SMALL(IF(ewem_bp_ids=SecurityKey!$C$2,ROW(ewem_bp_ids)-MIN(ROW(ewem_bp_ids))+1),EWEMs!$A15)),\"\")","v":""},{"$f":"IFERROR(INDEX(EWEMdat!F:F,SMALL(IF(ewem_bp_ids=SecurityKey!$C$2,ROW(ewem_bp_ids)-MIN(ROW(ewem_bp_ids))+1),EWEMs!$A15)),\"\")","v":""},"",{"$f":"IFERROR(VLOOKUP(C15,Data!A:D,4,FALSE),\"\")","v":""},null,{"$f":"IFERROR(INDEX(EWEMdat!K:K,SMALL(IF(ewem_bp_ids=SecurityKey!$C$2,ROW(ewem_bp_ids)-MIN(ROW(ewem_bp_ids))+1),EWEMs!$A15)),\"\")","v":""},null,null,{"$f":"IFERROR(INDEX(EWEMdat!H:H,SMALL(IF(ewem_bp_ids=SecurityKey!$C$2,ROW(ewem_bp_ids)-MIN(ROW(ewem_bp_ids))+1),EWEMs!$A15)),\"\")","v":""},{"$f":"IFERROR(INDEX(EWEMdat!I:I,SMALL(IF(ewem_bp_ids=SecurityKey!$C$2,ROW(ewem_bp_ids)-MIN(ROW(ewem_bp_ids))+1),EWEMs!$A15)),\"\")","v":""},{"$f":"IFERROR(INDEX(EWEMdat!J:J,SMALL(IF(ewem_bp_ids=SecurityKey!$C$2,ROW(ewem_bp_ids)-MIN(ROW(ewem_bp_ids))+1),EWEMs!$A15)),\"\")","v":""},null,{"$f":"IF(C15<>\"\",COUNTIF(Observations!$D$7:$D$506,EWEMs!X15),\"\")","v":""},{"$f":"IF(C15<>\"\",COUNTIF(Observations!L$7:L$506,EWEMs!X15&\"noncompliant\"),\"\")","v":""},"","",null,null,null,{"$f":"IFERROR(INDEX(EWEMdat!G:G,SMALL(IF(ewem_bp_ids=SecurityKey!$C$2,ROW(ewem_bp_ids)-MIN(ROW(ewem_bp_ids))+1),EWEMs!$A15)),\"\")","v":""},{"$f":"IF(AB15=TRUE, \"BASIC\", INDEX(Data!J:J, MATCH(C15, Data!A:A,0)))","v":{"$error":"#N/A"}},{"$f":"IF(AND(OR(J15=\"Apartments and Common Areas\", J15=\"Apartments\"),L15<0.95*'Property Info'!$D$16),\"maybe partial\",\"\")","v":{"$error":"#VALUE!"}},"",0,{"$f":"IF(AND(ISNUMBER(SEARCH(\"apartment\",J15)), N15<'Property Info'!$F$23), 1, 0)","v":0},false,false,"",{"$error":"#VALUE!"},{"$f":"C15&\" - \"&J15&\" \"&IF(VLOOKUP(C15,Data!A$7:C$105,3, FALSE)=1, \"\n(Backstock photo required)\", \"\")","v":{"$error":"#N/A"}},false]
[12,{"$f":"IFERROR(INDEX(EWEMdat!D:D,SMALL(IF(ewem_bp_ids=SecurityKey!$C$2,ROW(ewem_bp_ids)-MIN(ROW(ewem_bp_ids))+1),EWEMs!$A16)),\"\")","v":""},{"$f":"IFERROR(INDEX(EWEMdat!F:F,SMALL(IF(ewem_bp_ids=SecurityKey!$C$2,ROW(ewem_bp_ids)-MIN(ROW(ewem_bp_ids))+1),EWEMs!$A16)),\"\")","v":""},"",{"$f":"IFERROR(VLOOKUP(C16,Data!A:D,4,FALSE),\"\")","v":""},null,{"$f":"IFERROR(INDEX(EWEMdat!K:K,SMALL(IF(ewem_bp_ids=SecurityKey!$C$2,ROW(ewem_bp_ids)-MIN(ROW(ewem_bp_ids))+1),EWEMs!$A16)),\"\")","v":""},null,null,{"$f":"IFERROR(INDEX(EWEMdat!H:H,SMALL(IF(ewem_bp_ids=SecurityKey!$C$2,ROW(ewem_bp_ids)-MIN(ROW(ewem_bp_ids))+1),EWEMs!$A16)),\"\")","v":""},{"$f":"IFERROR(INDEX(EWEMdat!I:I,SMALL(IF(ewem_bp_ids=SecurityKey!$C$2,ROW(ewem_bp_ids)-MIN(ROW(ewem_bp_ids))+1),EWEMs!$A16)),\"\")","v":""},{"$f":"IFERROR(INDEX(EWEMdat!J:J,SMALL(IF(ewem_bp_ids=SecurityKey!$C$2,ROW(ewem_bp_ids)-MIN(ROW(ewem_bp_ids))+1),EWEMs!$A16)),\"\")","v":""},null,{"$f":"IF(C16<>\"\",COUNTIF(Observations!$D$7:$D$506,EWEMs!X16),\"\")","v":""},{"$f":"IF(C16<>\"\",COUNTIF(Observations!L$7:L$506,EWEMs!X16&\"noncompliant\"),\"\")","v":""},"","",null,null,null,{"$f":"IFERROR(INDEX(EWEMdat!G:G,SMALL(IF(ewem_bp_ids=SecurityKey!$C$2,ROW(ewem_bp_ids)-MIN(ROW(ewem_bp_ids))+1),EWEMs!$A16)),\"\")","v":""},{"$f":"IF(AB16=TRUE, \"BASIC\", INDEX(Data!J:J, MATCH(C16, Data!A:A,0)))","v":{"$error":"#N/A"}},{"$f":"IF(AND(OR(J16=\"Apartments and Common Areas\", J16=\"Apartments\"),L16<0.95*'Property Info'!$D$16),\"maybe partial\",\"\")","v":{"$error":"#VALUE!"}},"",0,{"$f":"IF(AND(ISNUMBER(SEARCH(\"apartment\",J16)), N16<'Property Info'!$F$23), 1, 0)","v":0},false,false,"",{"$error":"#VALUE!"},{"$f":"C16&\" - \"&J16&\" \"&IF(VLOOKUP(C16,Data!A$7:C$105,3, FALSE)=1, \"\n(Backstock photo required)\", \"\")","v":{"$error":"#N/A"}},false]
[13,{"$f":"IFERROR(INDEX(EWEMdat!D:D,SMALL(IF(ewem_bp_ids=SecurityKey!$C$2,ROW(ewem_bp_ids)-MIN(ROW(ewem_bp_ids))+1),EWEMs!$A17)),\"\")","v":""},{"$f":"IFERROR(INDEX(EWEMdat!F:F,SMALL(IF(ewem_bp_ids=SecurityKey!$C$2,ROW(ewem_bp_ids)-MIN(ROW(ewem_bp_ids))+1),EWEMs!$A17)),\"\")","v":""},"",{"$f":"IFERROR(VLOOKUP(C17,Data!A:D,4,FALSE),\"\")","v":""},null,{"$f":"IFERROR(INDEX(EWEMdat!K:K,SMALL(IF(ewem_bp_ids=SecurityKey!$C$2,ROW(ewem_bp_ids)-MIN(ROW(ewem_bp_ids))+1),EWEMs!$A17)),\"\")","v":""},null,null,{"$f":"IFERROR(INDEX(EWEMdat!H:H,SMALL(IF(ewem_bp_ids=SecurityKey!$C$2,ROW(ewem_bp_ids)-MIN(ROW(ewem_bp_ids))+1),EWEMs!$A17)),\"\")","v":""},{"$f":"IFERROR(INDEX(EWEMdat!I:I,SMALL(IF(ewem_bp_ids=SecurityKey!$C$2,ROW(ewem_bp_ids)-MIN(ROW(ewem_bp_ids))+1),EWEMs!$A17)),\"\")","v":""},{"$f":"IFERROR(INDEX(EWEMdat!J:J,SMALL(IF(ewem_bp_ids=SecurityKey!$C$2,ROW(ewem_bp_ids)-MIN(ROW(ewem_bp_ids))+1),EWEMs!$A17)),\"\")","v":""},null,{"$f":"IF(C17<>\"\",COUNTIF(Observations!$D$7:$D$506,EWEMs!X17),\"\")","v":""},{"$f":"IF(C17<>\"\",COUNTIF(Observations!L$7:L$506,EWEMs!X17&\"noncompliant\"),\"\")","v":""},"","",null,null,null,{"$f":"IFERROR(INDEX(EWEMdat!G:G,SMALL(IF(ewem_bp_ids=SecurityKey!$C$2,ROW(ewem_bp_ids)-MIN(ROW(ewem_bp_ids))+1),EWEMs!$A17)),\"\")","v":""},{"$f":"IF(AB17=TRUE, \"BASIC\", INDEX(Data!J:J, MATCH(C17, Data!A:A,0)))","v":{"$error":"#N/A"}},{"$f":"IF(AND(OR(J17=\"Apartments and Common Areas\", J17=\"Apartments\"),L17<0.95*'Property Info'!$D$16),\"maybe partial\",\"\")","v":{"$error":"#VALUE!"}},"",0,{"$f":"IF(AND(ISNUMBER(SEARCH(\"apartment\",J17)), N17<'Property Info'!$F$23), 1, 0)","v":0},false,false,"",{"$error":"#VALUE!"},{"$f":"C17&\" - \"&J17&\" \"&IF(VLOOKUP(C17,Data!A$7:C$105,3, FALSE)=1, \"\n(Backstock photo required)\", \"\")","v":{"$error":"#N/A"}},false]
[14,{"$f":"IFERROR(INDEX(EWEMdat!D:D,SMALL(IF(ewem_bp_ids=SecurityKey!$C$2,ROW(ewem_bp_ids)-MIN(ROW(ewem_bp_ids))+1),EWEMs!$A18)),\"\")","v":""},{"$f":"IFERROR(INDEX(EWEMdat!F:F,SMALL(IF(ewem_bp_ids=SecurityKey!$C$2,ROW(ewem_bp_ids)-MIN(ROW(ewem_bp_ids))+1),EWEMs!$A18)),\"\")","v":""},"",{"$f":"IFERROR(VLOOKUP(C18,Data!A:D,4,FALSE),\"\")","v":""},null,{"$f":"IFERROR(INDEX(EWEMdat!K:K,SMALL(IF(ewem_bp_ids=SecurityKey!$C$2,ROW(ewem_bp_ids)-MIN(ROW(ewem_bp_ids))+1),EWEMs!$A18)),\"\")","v":""},null,null,{"$f":"IFERROR(INDEX(EWEMdat!H:H,SMALL(IF(ewem_bp_ids=SecurityKey!$C$2,ROW(ewem_bp_ids)-MIN(ROW(ewem_bp_ids))+1),EWEMs!$A18)),\"\")","v":""},{"$f":"IFERROR(INDEX(EWEMdat!I:I,SMALL(IF(ewem_bp_ids=SecurityKey!$C$2,ROW(ewem_bp_ids)-MIN(ROW(ewem_bp_ids))+1),EWEMs!$A18)),\"\")","v":""},{"$f":"IFERROR(INDEX(EWEMdat!J:J,SMALL(IF(ewem_bp_ids=SecurityKey!$C$2,ROW(ewem_bp_ids)-MIN(ROW(ewem_bp_ids))+1),EWEMs!$A18)),\"\")","v":""},null,{"$f":"IF(C18<>\"\",COUNTIF(Observations!$D$7:$D$506,EWEMs!X18),\"\")","v":""},{"$f":"IF(C18<>\"\",COUNTIF(Observations!L$7:L$506,EWEMs!X18&\"noncompliant\"),\"\")","v":""},"","",null,null,null,{"$f":"IFERROR(INDEX(EWEMdat!G:G,SMALL(IF(ewem_bp_ids=SecurityKey!$C$2,ROW(ewem_bp_ids)-MIN(ROW(ewem_bp_ids))+1),EWEMs!$A18)),\"\")","v":""},{"$f":"IF(AB18=TRUE, \"BASIC\", INDEX(Data!J:J, MATCH(C18, Data!A:A,0)))","v":{"$error":"#N/A"}},{"$f":"IF(AND(OR(J18=\"Apartments and Common Areas\", J18=\"Apartments\"),L18<0.95*'Property Info'!$D$16),\"maybe partial\",\"\")","v":{"$error":"#VALUE!"}},"",0,{"$f":"IF(AND(ISNUMBER(SEARCH(\"apartment\",J18)), N18<'Property Info'!$F$23), 1, 0)","v":0},false,false,"",{"$error":"#VALUE!"},{"$f":"C18&\" - \"&J18&\" \"&IF(VLOOKUP(C18,Data!A$7:C$105,3, FALSE)=1, \"\n(Backstock photo required)\", \"\")","v":{"$error":"#N/A"}},false]
[15,{"$f":"IFERROR(INDEX(EWEMdat!D:D,SMALL(IF(ewem_bp_ids=SecurityKey!$C$2,ROW(ewem_bp_ids)-MIN(ROW(ewem_bp_ids))+1),EWEMs!$A19)),\"\")","v":""},{"$f":"IFERROR(INDEX(EWEMdat!F:F,SMALL(IF(ewem_bp_ids=SecurityKey!$C$2,ROW(ewem_bp_ids)-MIN(ROW(ewem_bp_ids))+1),EWEMs!$A19)),\"\")","v":""},"",{"$f":"IFERROR(VLOOKUP(C19,Data!A:D,4,FALSE),\"\")","v":""},null,{"$f":"IFERROR(INDEX(EWEMdat!K:K,SMALL(IF(ewem_bp_ids=SecurityKey!$C$2,ROW(ewem_bp_ids)-MIN(ROW(ewem_bp_ids))+1),EWEMs!$A19)),\"\")","v":""},null,null,{"$f":"IFERROR(INDEX(EWEMdat!H:H,SMALL(IF(ewem_bp_ids=SecurityKey!$C$2,ROW(ewem_bp_ids)-MIN(ROW(ewem_bp_ids))+1),EWEMs!$A19)),\"\")","v":""},{"$f":"IFERROR(INDEX(EWEMdat!I:I,SMALL(IF(ewem_bp_ids=SecurityKey!$C$2,ROW(ewem_bp_ids)-MIN(ROW(ewem_bp_ids))+1),EWEMs!$A19)),\"\")","v":""},{"$f":"IFERROR(INDEX(EWEMdat!J:J,SMALL(IF(ewem_bp_ids=SecurityKey!$C$2,ROW(ewem_bp_ids)-MIN(ROW(ewem_bp_ids))+1),EWEMs!$A19)),\"\")","v":""},null,{"$f":"IF(C19<>\"\",COUNTIF(Observations!$D$7:$D$506,EWEMs!X19),\"\")","v":""},{"$f":"IF(C19<>\"\",COUNTIF(Observations!L$7:L$506,EWEMs!X19&\"noncompliant\"),\"\")","v":""},"","",null,null,null,{"$f":"IFERROR(INDEX(EWEMdat!G:G,SMALL(IF(ewem_bp_ids=SecurityKey!$C$2,ROW(ewem_bp_ids)-MIN(ROW(ewem_bp_ids))+1),EWEMs!$A19)),\"\")","v":""},{"$f":"IF(AB19=TRUE, \"BASIC\", INDEX(Data!J:J, MATCH(C19, Data!A:A,0)))","v":{"$error":"#N/A"}},{"$f":"IF(AND(OR(J19=\"Apartments and Common Areas\", J19=\"Apartments\"),L19<0.95*'Property Info'!$D$16),\"maybe partial\",\"\")","v":{"$error":"#VALUE!"}},"",0,{"$f":"IF(AND(ISNUMBER(SEARCH(\"apartment\",J19)), N19<'Property Info'!$F$23), 1, 0)","v":0},false,false,"",{"$error":"#VALUE!"},{"$f":"C19&\" - \"&J19&\" \"&IF(VLOOKUP(C19,Data!A$7:C$105,3, FALSE)=1, \"\n(Backstock photo required)\", \"\")","v":{"$error":"#N/A"}},false]
[16,{"$f":"IFERROR(INDEX(EWEMdat!D:D,SMALL(IF(ewem_bp_ids=SecurityKey!$C$2,ROW(ewem_bp_ids)-MIN(ROW(ewem_bp_ids))+1),EWEMs!$A20)),\"\")","v":""},{"$f":"IFERROR(INDEX(EWEMdat!F:F,SMALL(IF(ewem_bp_ids=SecurityKey!$C$2,ROW(ewem_bp_ids)-MIN(ROW(ewem_bp_ids))+1),EWEMs!$A20)),\"\")","v":""},"",{"$f":"IFERROR(VLOOKUP(C20,Data!A:D,4,FALSE),\"\")","v":""},null,{"$f":"IFERROR(INDEX(EWEMdat!K:K,SMALL(IF(ewem_bp_ids=SecurityKey!$C$2,ROW(ewem_bp_ids)-MIN(ROW(ewem_bp_ids))+1),EWEMs!$A20)),\"\")","v":""},null,null,{"$f":"IFERROR(INDEX(EWEMdat!H:H,SMALL(IF(ewem_bp_ids=SecurityKey!$C$2,ROW(ewem_bp_ids)-MIN(ROW(ewem_bp_ids))+1),EWEMs!$A20)),\"\")","v":""},{"$f":"IFERROR(INDEX(EWEMdat!I:I,SMALL(IF(ewem_bp_ids=SecurityKey!$C$2,ROW(ewem_bp_ids)-MIN(ROW(ewem_bp_ids))+1),EWEMs!$A20)),\"\")","v":""},{"$f":"IFERROR(INDEX(EWEMdat!J:J,SMALL(IF(ewem_bp_ids=SecurityKey!$C$2,ROW(ewem_bp_ids)-MIN(ROW(ewem_bp_ids))+1),EWEMs!$A20)),\"\")","v":""},null,{"$f":"IF(C20<>\"\",COUNTIF(Observations!$D$7:$D$506,EWEMs!X20),\"\")","v":""},{"$f":"IF(C20<>\"\",COUNTIF(Observations!L$7:L$506,EWEMs!X20&\"noncompliant\"),\"\")","v":""},"","",null,null,null,{"$f":"IFERROR(INDEX(EWEMdat!G:G,SMALL(IF(ewem_bp_ids=SecurityKey!$C$2,ROW(ewem_bp_ids)-MIN(ROW(ewem_bp_ids))+1),EWEMs!$A20)),\"\")","v":""},{"$f":"IF(AB20=TRUE, \"BASIC\", INDEX(Data!J:J, MATCH(C20, Data!A:A,0)))","v":{"$error":"#N/A"}},{"$f":"IF(AND(OR(J20=\"Apartments and Common Areas\", J20=\"Apartments\"),L20<0.95*'Property Info'!$D$16),\"maybe partial\",\"\")","v":{"$error":"#VALUE!"}},"",0,{"$f":"IF(AND(ISNUMBER(SEARCH(\"apartment\",J20)), N20<'Property Info'!$F$23), 1, 0)","v":0},false,false,"",{"$error":"#VALUE!"},{"$f":"C20&\" - \"&J20&\" \"&IF(VLOOKUP(C20,Data!A$7:C$105,3, FALSE)=1, \"\n(Backstock photo required)\", \"\")","v":{"$error":"#N/A"}},false]
[17,{"$f":"IFERROR(INDEX(EWEMdat!D:D,SMALL(IF(ewem_bp_ids=SecurityKey!$C$2,ROW(ewem_bp_ids)-MIN(ROW(ewem_bp_ids))+1),EWEMs!$A21)),\"\")","v":""},{"$f":"IFERROR(INDEX(EWEMdat!F:F,SMALL(IF(ewem_bp_ids=SecurityKey!$C$2,ROW(ewem_bp_ids)-MIN(ROW(ewem_bp_ids))+1),EWEMs!$A21)),\"\")","v":""},"",{"$f":"IFERROR(VLOOKUP(C21,Data!A:D,4,FALSE),\"\")","v":""},null,{"$f":"IFERROR(INDEX(EWEMdat!K:K,SMALL(IF(ewem_bp_ids=SecurityKey!$C$2,ROW(ewem_bp_ids)-MIN(ROW(ewem_bp_ids))+1),EWEMs!$A21)),\"\")","v":""},null,null,{"$f":"IFERROR(INDEX(EWEMdat!H:H,SMALL(IF(ewem_bp_ids=SecurityKey!$C$2,ROW(ewem_bp_ids)-MIN(ROW(ewem_bp_ids))+1),EWEMs!$A21)),\"\")","v":""},{"$f":"IFERROR(INDEX(EWEMdat!I:I,SMALL(IF(ewem_bp_ids=SecurityKey!$C$2,ROW(ewem_bp_ids)-MIN(ROW(ewem_bp_ids))+1),EWEMs!$A21)),\"\")","v":""},{"$f":"IFERROR(INDEX(EWEMdat!J:J,SMALL(IF(ewem_bp_ids=SecurityKey!$C$2,ROW(ewem_bp_ids)-MIN(ROW(ewem_bp_ids))+1),EWEMs!$A21)),\"\")","v":""},null,{"$f":"IF(C21<>\"\",COUNTIF(Observations!$D$7:$D$506,EWEMs!X21),\"\")","v":""},{"$f":"IF(C21<>\"\",COUNTIF(Observations!L$7:L$506,EWEMs!X21&\"noncompliant\"),\"\")","v":""},"","",null,null,null,{"$f":"IFERROR(INDEX(EWEMdat!G:G,SMALL(IF(ewem_bp_ids=SecurityKey!$C$2,ROW(ewem_bp_ids)-MIN(ROW(ewem_bp_ids))+1),EWEMs!$A21)),\"\")","v":""},{"$f":"IF(AB21=TRUE, \"BASIC\", INDEX(Data!J:J, MATCH(C21, Data!A:A,0)))","v":{"$error":"#N/A"}},{"$f":"IF(AND(OR(J21=\"Apartments and Common Areas\", J21=\"Apartments\"),L21<0.95*'Property Info'!$D$16),\"maybe partial\",\"\")","v":{"$error":"#VALUE!"}},"",0,{"$f":"IF(AND(ISNUMBER(SEARCH(\"apartment\",J21)), N21<'Property Info'!$F$23), 1, 0)","v":0},false,false,"",{"$error":"#VALUE!"},{"$f":"C21&\" - \"&J21&\" \"&IF(VLOOKUP(C21,Data!A$7:C$105,3, FALSE)=1, \"\n(Backstock photo required)\", \"\")","v":{"$error":"#N/A"}},false]
[18,{"$f":"IFERROR(INDEX(EWEMdat!D:D,SMALL(IF(ewem_bp_ids=SecurityKey!$C$2,ROW(ewem_bp_ids)-MIN(ROW(ewem_bp_ids))+1),EWEMs!$A22)),\"\")","v":""},{"$f":"IFERROR(INDEX(EWEMdat!F:F,SMALL(IF(ewem_bp_ids=SecurityKey!$C$2,ROW(ewem_bp_ids)-MIN(ROW(ewem_bp_ids))+1),EWEMs!$A22)),\"\")","v":""},"",{"$f":"IFERROR(VLOOKUP(C22,Data!A:D,4,FALSE),\"\")","v":""},null,{"$f":"IFERROR(INDEX(EWEMdat!K:K,SMALL(IF(ewem_bp_ids=SecurityKey!$C$2,ROW(ewem_bp_ids)-MIN(ROW(ewem_bp_ids))+1),EWEMs!$A22)),\"\")","v":""},null,null,{"$f":"IFERROR(INDEX(EWEMdat!H:H,SMALL(IF(ewem_bp_ids=SecurityKey!$C$2,ROW(ewem_bp_ids)-MIN(ROW(ewem_bp_ids))+1),EWEMs!$A22)),\"\")","v":""},{"$f":"IFERROR(INDEX(EWEMdat!I:I,SMALL(IF(ewem_bp_ids=SecurityKey!$C$2,ROW(ewem_bp_ids)-MIN(ROW(ewem_bp_ids))+1),EWEMs!$A22)),\"\")","v":""},{"$f":"IFERROR(INDEX(EWEMdat!J:J,SMALL(IF(ewem_bp_ids=SecurityKey!$C$2,ROW(ewem_bp_ids)-MIN(ROW(ewem_bp_ids))+1),EWEMs!$A22)),\"\")","v":""},null,{"$f":"IF(C22<>\"\",COUNTIF(Observations!$D$7:$D$506,EWEMs!X22),\"\")","v":""},{"$f":"IF(C22<>\"\",COUNTIF(Observations!L$7:L$506,EWEMs!X22&\"noncompliant\"),\"\")","v":""},"","",null,null,null,{"$f":"IFERROR(INDEX(EWEMdat!G:G,SMALL(IF(ewem_bp_ids=SecurityKey!$C$2,ROW(ewem_bp_ids)-MIN(ROW(ewem_bp_ids))+1),EWEMs!$A22)),\"\")","v":""},{"$f":"IF(AB22=TRUE, \"BASIC\", INDEX(Data!J:J, MATCH(C22, Data!A:A,0)))","v":{"$error":"#N/A"}},{"$f":"IF(AND(OR(J22=\"Apartments and Common Areas\", J22=\"Apartments\"),L22<0.95*'Property Info'!$D$16),\"maybe partial\",\"\")","v":{"$error":"#VALUE!"}},"",0,{"$f":"IF(AND(ISNUMBER(SEARCH(\"apartment\",J22)), N22<'Property Info'!$F$23), 1, 0)","v":0},false,false,"",{"$error":"#VALUE!"},{"$f":"C22&\" - \"&J22&\" \"&IF(VLOOKUP(C22,Data!A$7:C$105,3, FALSE)=1, \"\n(Backstock photo required)\", \"\")","v":{"$error":"#N/A"}},false]
[19,{"$f":"IFERROR(INDEX(EWEMdat!D:D,SMALL(IF(ewem_bp_ids=SecurityKey!$C$2,ROW(ewem_bp_ids)-MIN(ROW(ewem_bp_ids))+1),EWEMs!$A23)),\"\")","v":""},{"$f":"IFERROR(INDEX(EWEMdat!F:F,SMALL(IF(ewem_bp_ids=SecurityKey!$C$2,ROW(ewem_bp_ids)-MIN(ROW(ewem_bp_ids))+1),EWEMs!$A23)),\"\")","v":""},"",{"$f":"IFERROR(VLOOKUP(C23,Data!A:D,4,FALSE),\"\")","v":""},null,{"$f":"IFERROR(INDEX(EWEMdat!K:K,SMALL(IF(ewem_bp_ids=SecurityKey!$C$2,ROW(ewem_bp_ids)-MIN(ROW(ewem_bp_ids))+1),EWEMs!$A23)),\"\")","v":""},null,null,{"$f":"IFERROR(INDEX(EWEMdat!H:H,SMALL(IF(ewem_bp_ids=SecurityKey!$C$2,ROW(ewem_bp_ids)-MIN(ROW(ewem_bp_ids))+1),EWEMs!$A23)),\"\")","v":""},{"$f":"IFERROR(INDEX(EWEMdat!I:I,SMALL(IF(ewem_bp_ids=SecurityKey!$C$2,ROW(ewem_bp_ids)-MIN(ROW(ewem_bp_ids))+1),EWEMs!$A23)),\"\")","v":""},{"$f":"IFERROR(INDEX(EWEMdat!J:J,SMALL(IF(ewem_bp_ids=SecurityKey!$C$2,ROW(ewem_bp_ids)-MIN(ROW(ewem_bp_ids))+1),EWEMs!$A23)),\"\")","v":""},null,{"$f":"IF(C23<>\"\",COUNTIF(Observations!$D$7:$D$506,EWEMs!X23),\"\")","v":""},{"$f":"IF(C23<>\"\",COUNTIF(Observations!L$7:L$506,EWEMs!X23&\"noncompliant\"),\"\")","v":""},"","",null,null,null,{"$f":"IFERROR(INDEX(EWEMdat!G:G,SMALL(IF(ewem_bp_ids=SecurityKey!$C$2,ROW(ewem_bp_ids)-MIN(ROW(ewem_bp_ids))+1),EWEMs!$A23)),\"\")","v":""},{"$f":"IF(AB23=TRUE, \"BASIC\", INDEX(Data!J:J, MATCH(C23, Data!A:A,0)))","v":{"$error":"#N/A"}},{"$f":"IF(AND(OR(J23=\"Apartments and Common Areas\", J23=\"Apartments\"),L23<0.95*'Property Info'!$D$16),\"maybe partial\",\"\")","v":{"$error":"#VALUE!"}},"",0,{"$f":"IF(AND(ISNUMBER(SEARCH(\"apartment\",J23)), N23<'Property Info'!$F$23), 1, 0)","v":0},false,false,"",{"$error":"#VALUE!"},{"$f":"C23&\" - \"&J23&\" \"&IF(VLOOKUP(C23,Data!A$7:C$105,3, FALSE)=1, \"\n(Backstock photo required)\", \"\")","v":{"$error":"#N/A"}},false]
[20,{"$f":"IFERROR(INDEX(EWEMdat!D:D,SMALL(IF(ewem_bp_ids=SecurityKey!$C$2,ROW(ewem_bp_ids)-MIN(ROW(ewem_bp_ids))+1),EWEMs!$A24)),\"\")","v":""},{"$f":"IFERROR(INDEX(EWEMdat!F:F,SMALL(IF(ewem_bp_ids=SecurityKey!$C$2,ROW(ewem_bp_ids)-MIN(ROW(ewem_bp_ids))+1),EWEMs!$A24)),\"\")","v":""},"",{"$f":"IFERROR(VLOOKUP(C24,Data!A:D,4,FALSE),\"\")","v":""},null,{"$f":"IFERROR(INDEX(EWEMdat!K:K,SMALL(IF(ewem_bp_ids=SecurityKey!$C$2,ROW(ewem_bp_ids)-MIN(ROW(ewem_bp_ids))+1),EWEMs!$A24)),\"\")","v":""},null,null,{"$f":"IFERROR(INDEX(EWEMdat!H:H,SMALL(IF(ewem_bp_ids=SecurityKey!$C$2,ROW(ewem_bp_ids)-MIN(ROW(ewem_bp_ids))+1),EWEMs!$A24)),\"\")","v":""},{"$f":"IFERROR(INDEX(EWEMdat!I:I,SMALL(IF(ewem_bp_ids=SecurityKey!$C$2,ROW(ewem_bp_ids)-MIN(ROW(ewem_bp_ids))+1),EWEMs!$A24)),\"\")","v":""},{"$f":"IFERROR(INDEX(EWEMdat!J:J,SMALL(IF(ewem_bp_ids=SecurityKey!$C$2,ROW(ewem_bp_ids)-MIN(ROW(ewem_bp_ids))+1),EWEMs!$A24)),\"\")","v":""},null,{"$f":"IF(C24<>\"\",COUNTIF(Observations!$D$7:$D$506,EWEMs!X24),\"\")","v":""},{"$f":"IF(C24<>\"\",COUNTIF(Observations!L$7:L$506,EWEMs!X24&\"noncompliant\"),\"\")","v":""},"","",null,null,null,{"$f":"IFERROR(INDEX(EWEMdat!G:G,SMALL(IF(ewem_bp_ids=SecurityKey!$C$2,ROW(ewem_bp_ids)-MIN(ROW(ewem_bp_ids))+1),EWEMs!$A24)),\"\")","v":""},{"$f":"IF(AB24=TRUE, \"BASIC\", INDEX(Data!J:J, MATCH(C24, Data!A:A,0)))","v":{"$error":"#N/A"}},{"$f":"IF(AND(OR(J24=\"Apartments and Common Areas\", J24=\"Apartments\"),L24<0.95*'Property Info'!$D$16),\"maybe partial\",\"\")","v":{"$error":"#VALUE!"}},"",0,{"$f":"IF(AND(ISNUMBER(SEARCH(\"apartment\",J24)), N24<'Property Info'!$F$23), 1, 0)","v":0},false,false,"",{"$error":"#VALUE!"},{"$f":"C24&\" - \"&J24&\" \"&IF(VLOOKUP(C24,Data!A$7:C$105,3, FALSE)=1, \"\n(Backstock photo required)\", \"\")","v":{"$error":"#N/A"}},false]
[21,{"$f":"IFERROR(INDEX(EWEMdat!D:D,SMALL(IF(ewem_bp_ids=SecurityKey!$C$2,ROW(ewem_bp_ids)-MIN(ROW(ewem_bp_ids))+1),EWEMs!$A25)),\"\")","v":""},{"$f":"IFERROR(INDEX(EWEMdat!F:F,SMALL(IF(ewem_bp_ids=SecurityKey!$C$2,ROW(ewem_bp_ids)-MIN(ROW(ewem_bp_ids))+1),EWEMs!$A25)),\"\")","v":""},"",{"$f":"IFERROR(VLOOKUP(C25,Data!A:D,4,FALSE),\"\")","v":""},null,{"$f":"IFERROR(INDEX(EWEMdat!K:K,SMALL(IF(ewem_bp_ids=SecurityKey!$C$2,ROW(ewem_bp_ids)-MIN(ROW(ewem_bp_ids))+1),EWEMs!$A25)),\"\")","v":""},null,null,{"$f":"IFERROR(INDEX(EWEMdat!H:H,SMALL(IF(ewem_bp_ids=SecurityKey!$C$2,ROW(ewem_bp_ids)-MIN(ROW(ewem_bp_ids))+1),EWEMs!$A25)),\"\")","v":""},{"$f":"IFERROR(INDEX(EWEMdat!I:I,SMALL(IF(ewem_bp_ids=SecurityKey!$C$2,ROW(ewem_bp_ids)-MIN(ROW(ewem_bp_ids))+1),EWEMs!$A25)),\"\")","v":""},{"$f":"IFERROR(INDEX(EWEMdat!J:J,SMALL(IF(ewem_bp_ids=SecurityKey!$C$2,ROW(ewem_bp_ids)-MIN(ROW(ewem_bp_ids))+1),EWEMs!$A25)),\"\")","v":""},null,{"$f":"IF(C25<>\"\",COUNTIF(Observations!$D$7:$D$506,EWEMs!X25),\"\")","v":""},{"$f":"IF(C25<>\"\",COUNTIF(Observations!L$7:L$506,EWEMs!X25&\"noncompliant\"),\"\")","v":""},"","",null,null,null,{"$f":"IFERROR(INDEX(EWEMdat!G:G,SMALL(IF(ewem_bp_ids=SecurityKey!$C$2,ROW(ewem_bp_ids)-MIN(ROW(ewem_bp_ids))+1),EWEMs!$A25)),\"\")","v":""},{"$f":"IF(AB25=TRUE, \"BASIC\", INDEX(Data!J:J, MATCH(C25, Data!A:A,0)))","v":{"$error":"#N/A"}},{"$f":"IF(AND(OR(J25=\"Apartments and Common Areas\", J25=\"Apartments\"),L25<0.95*'Property Info'!$D$16),\"maybe partial\",\"\")","v":{"$error":"#VALUE!"}},"",0,{"$f":"IF(AND(ISNUMBER(SEARCH(\"apartment\",J25)), N25<'Property Info'!$F$23), 1, 0)","v":0},{"$f":"ISNUMBER(SEARCH(\"apartment\",J25))","v":false},false,"",{"$error":"#VALUE!"},{"$f":"C25&\" - \"&J25&\" \"&IF(VLOOKUP(C25,Data!A$7:C$105,3, FALSE)=1, \"\n(Backstock photo required)\", \"\")","v":{"$error":"#N/A"}},false]
[22,{"$f":"IFERROR(INDEX(EWEMdat!D:D,SMALL(IF(ewem_bp_ids=SecurityKey!$C$2,ROW(ewem_bp_ids)-MIN(ROW(ewem_bp_ids))+1),EWEMs!$A26)),\"\")","v":""},{"$f":"IFERROR(INDEX(EWEMdat!F:F,SMALL(IF(ewem_bp_ids=SecurityKey!$C$2,ROW(ewem_bp_ids)-MIN(ROW(ewem_bp_ids))+1),EWEMs!$A26)),\"\")","v":""},"",{"$f":"IFERROR(VLOOKUP(C26,Data!A:D,4,FALSE),\"\")","v":""},null,{"$f":"IFERROR(INDEX(EWEMdat!K:K,SMALL(IF(ewem_bp_ids=SecurityKey!$C$2,ROW(ewem_bp_ids)-MIN(ROW(ewem_bp_ids))+1),EWEMs!$A26)),\"\")","v":""},null,null,{"$f":"IFERROR(INDEX(EWEMdat!H:H,SMALL(IF(ewem_bp_ids=SecurityKey!$C$2,ROW(ewem_bp_ids)-MIN(ROW(ewem_bp_ids))+1),EWEMs!$A26)),\"\")","v":""},{"$f":"IFERROR(INDEX(EWEMdat!I:I,SMALL(IF(ewem_bp_ids=SecurityKey!$C$2,ROW(ewem_bp_ids)-MIN(ROW(ewem_bp_ids))+1),EWEMs!$A26)),\"\")","v":""},{"$f":"IFERROR(INDEX(EWEMdat!J:J,SMALL(IF(ewem_bp_ids=SecurityKey!$C$2,ROW(ewem_bp_ids)-MIN(ROW(ewem_bp_ids))+1),EWEMs!$A26)),\"\")","v":""},null,{"$f":"IF(C26<>\"\",COUNTIF(Observations!$D$7:$D$506,EWEMs!X26),\"\")","v":""},{"$f":"IF(C26<>\"\",COUNTIF(Observations!L$7:L$506,EWEMs!X26&\"noncompliant\"),\"\")","v":""},"","",null,null,null,{"$f":"IFERROR(INDEX(EWEMdat!G:G,SMALL(IF(ewem_bp_ids=SecurityKey!$C$2,ROW(ewem_bp_ids)-MIN(ROW(ewem_bp_ids))+1),EWEMs!$A26)),\"\")","v":""},{"$f":"IF(AB26=TRUE, \"BASIC\", INDEX(Data!J:J, MATCH(C26, Data!A:A,0)))","v":{"$error":"#N/A"}},{"$f":"IF(AND(OR(J26=\"Apartments and Common Areas\", J26=\"Apartments\"),L26<0.95*'Property Info'!$D$16),\"maybe partial\",\"\")","v":{"$error":"#VALUE!"}},"",0,{"$f":"IF(AND(ISNUMBER(SEARCH(\"apartment\",J26)), N26<'Property Info'!$F$23), 1, 0)","v":0},false,false,"",{"$error":"#VALUE!"},{"$f":"C26&\" - \"&J26&\" \"&IF(VLOOKUP(C26,Data!A$7:C$105,3, FALSE)=1, \"\n(Backstock photo required)\", \"\")","v":{"$error":"#N/A"}},false]
[23,{"$f":"IFERROR(INDEX(EWEMdat!D:D,SMALL(IF(ewem_bp_ids=SecurityKey!$C$2,ROW(ewem_bp_ids)-MIN(ROW(ewem_bp_ids))+1),EWEMs!$A27)),\"\")","v":""},{"$f":"IFERROR(INDEX(EWEMdat!F:F,SMALL(IF(ewem_bp_ids=SecurityKey!$C$2,ROW(ewem_bp_ids)-MIN(ROW(ewem_bp_ids))+1),EWEMs!$A27)),\"\")","v":""},"",{"$f":"IFERROR(VLOOKUP(C27,Data!A:D,4,FALSE),\"\")","v":""},null,{"$f":"IFERROR(INDEX(EWEMdat!K:K,SMALL(IF(ewem_bp_ids=SecurityKey!$C$2,ROW(ewem_bp_ids)-MIN(ROW(ewem_bp_ids))+1),EWEMs!$A27)),\"\")","v":""},null,null,{"$f":"IFERROR(INDEX(EWEMdat!H:H,SMALL(IF(ewem_bp_ids=SecurityKey!$C$2,ROW(ewem_bp_ids)-MIN(ROW(ewem_bp_ids))+1),EWEMs!$A27)),\"\")","v":""},{"$f":"IFERROR(INDEX(EWEMdat!I:I,SMALL(IF(ewem_bp_ids=SecurityKey!$C$2,ROW(ewem_bp_ids)-MIN(ROW(ewem_bp_ids))+1),EWEMs!$A27)),\"\")","v":""},{"$f":"IFERROR(INDEX(EWEMdat!J:J,SMALL(IF(ewem_bp_ids=SecurityKey!$C$2,ROW(ewem_bp_ids)-MIN(ROW(ewem_bp_ids))+1),EWEMs!$A27)),\"\")","v":""},null,{"$f":"IF(C27<>\"\",COUNTIF(Observations!$D$7:$D$506,EWEMs!X27),\"\")","v":""},{"$f":"IF(C27<>\"\",COUNTIF(Observations!L$7:L$506,EWEMs!X27&\"noncompliant\"),\"\")","v":""},"","",null,null,null,{"$f":"IFERROR(INDEX(EWEMdat!G:G,SMALL(IF(ewem_bp_ids=SecurityKey!$C$2,ROW(ewem_bp_ids)-MIN(ROW(ewem_bp_ids))+1),EWEMs!$A27)),\"\")","v":""},{"$f":"IF(AB27=TRUE, \"BASIC\", INDEX(Data!J:J, MATCH(C27, Data!A:A,0)))","v":{"$error":"#N/A"}},{"$f":"IF(AND(OR(J27=\"Apartments and Common Areas\", J27=\"Apartments\"),L27<0.95*'Property Info'!$D$16),\"maybe partial\",\"\")","v":{"$error":"#VALUE!"}},"",0,{"$f":"IF(AND(ISNUMBER(SEARCH(\"apartment\",J27)), N27<'Property Info'!$F$23), 1, 0)","v":0},false,false,"",{"$error":"#VALUE!"},{"$f":"C27&\" - \"&J27&\" \"&IF(VLOOKUP(C27,Data!A$7:C$105,3, FALSE)=1, \"\n(Backstock photo required)\", \"\")","v":{"$error":"#N/A"}},false]
[24,{"$f":"IFERROR(INDEX(EWEMdat!D:D,SMALL(IF(ewem_bp_ids=SecurityKey!$C$2,ROW(ewem_bp_ids)-MIN(ROW(ewem_bp_ids))+1),EWEMs!$A28)),\"\")","v":""},{"$f":"IFERROR(INDEX(EWEMdat!F:F,SMALL(IF(ewem_bp_ids=SecurityKey!$C$2,ROW(ewem_bp_ids)-MIN(ROW(ewem_bp_ids))+1),EWEMs!$A28)),\"\")","v":""},"",{"$f":"IFERROR(VLOOKUP(C28,Data!A:D,4,FALSE),\"\")","v":""},null,{"$f":"IFERROR(INDEX(EWEMdat!K:K,SMALL(IF(ewem_bp_ids=SecurityKey!$C$2,ROW(ewem_bp_ids)-MIN(ROW(ewem_bp_ids))+1),EWEMs!$A28)),\"\")","v":""},null,null,{"$f":"IFERROR(INDEX(EWEMdat!H:H,SMALL(IF(ewem_bp_ids=SecurityKey!$C$2,ROW(ewem_bp_ids)-MIN(ROW(ewem_bp_ids))+1),EWEMs!$A28)),\"\")","v":""},{"$f":"IFERROR(INDEX(EWEMdat!I:I,SMALL(IF(ewem_bp_ids=SecurityKey!$C$2,ROW(ewem_bp_ids)-MIN(ROW(ewem_bp_ids))+1),EWEMs!$A28)),\"\")","v":""},{"$f":"IFERROR(INDEX(EWEMdat!J:J,SMALL(IF(ewem_bp_ids=SecurityKey!$C$2,ROW(ewem_bp_ids)-MIN(ROW(ewem_bp_ids))+1),EWEMs!$A28)),\"\")","v":""},null,{"$f":"IF(C28<>\"\",COUNTIF(Observations!$D$7:$D$506,EWEMs!X28),\"\")","v":""},{"$f":"IF(C28<>\"\",COUNTIF(Observations!L$7:L$506,EWEMs!X28&\"noncompliant\"),\"\")","v":""},"","",null,null,null,{"$f":"IFERROR(INDEX(EWEMdat!G:G,SMALL(IF(ewem_bp_ids=SecurityKey!$C$2,ROW(ewem_bp_ids)-MIN(ROW(ewem_bp_ids))+1),EWEMs!$A28)),\"\")","v":""},{"$f":"IF(AB28=TRUE, \"BASIC\", INDEX(Data!J:J, MATCH(C28, Data!A:A,0)))","v":{"$error":"#N/A"}},{"$f":"IF(AND(OR(J28=\"Apartments and Common Areas\", J28=\"Apartments\"),L28<0.95*'Property Info'!$D$16),\"maybe partial\",\"\")","v":{"$error":"#VALUE!"}},"",0,{"$f":"IF(AND(ISNUMBER(SEARCH(\"apartment\",J28)), N28<'Property Info'!$F$23), 1, 0)","v":0},false,false,"",{"$error":"#VALUE!"},{"$f":"C28&\" - \"&J28&\" \"&IF(VLOOKUP(C28,Data!A$7:C$105,3, FALSE)=1, \"\n(Backstock photo required)\", \"\")","v":{"$error":"#N/A"}},false]
[25,{"$f":"IFERROR(INDEX(EWEMdat!D:D,SMALL(IF(ewem_bp_ids=SecurityKey!$C$2,ROW(ewem_bp_ids)-MIN(ROW(ewem_bp_ids))+1),EWEMs!$A29)),\"\")","v":""},{"$f":"IFERROR(INDEX(EWEMdat!F:F,SMALL(IF(ewem_bp_ids=SecurityKey!$C$2,ROW(ewem_bp_ids)-MIN(ROW(ewem_bp_ids))+1),EWEMs!$A29)),\"\")","v":""},"",{"$f":"IFERROR(VLOOKUP(C29,Data!A:D,4,FALSE),\"\")","v":""},null,{"$f":"IFERROR(INDEX(EWEMdat!K:K,SMALL(IF(ewem_bp_ids=SecurityKey!$C$2,ROW(ewem_bp_ids)-MIN(ROW(ewem_bp_ids))+1),EWEMs!$A29)),\"\")","v":""},null,null,{"$f":"IFERROR(INDEX(EWEMdat!H:H,SMALL(IF(ewem_bp_ids=SecurityKey!$C$2,ROW(ewem_bp_ids)-MIN(ROW(ewem_bp_ids))+1),EWEMs!$A29)),\"\")","v":""},{"$f":"IFERROR(INDEX(EWEMdat!I:I,SMALL(IF(ewem_bp_ids=SecurityKey!$C$2,ROW(ewem_bp_ids)-MIN(ROW(ewem_bp_ids))+1),EWEMs!$A29)),\"\")","v":""},{"$f":"IFERROR(INDEX(EWEMdat!J:J,SMALL(IF(ewem_bp_ids=SecurityKey!$C$2,ROW(ewem_bp_ids)-MIN(ROW(ewem_bp_ids))+1),EWEMs!$A29)),\"\")","v":""},null,{"$f":"IF(C29<>\"\",COUNTIF(Observations!$D$7:$D$506,EWEMs!X29),\"\")","v":""},{"$f":"IF(C29<>\"\",COUNTIF(Observations!L$7:L$506,EWEMs!X29&\"noncompliant\"),\"\")","v":""},"","",null,null,null,{"$f":"IFERROR(INDEX(EWEMdat!G:G,SMALL(IF(ewem_bp_ids=SecurityKey!$C$2,ROW(ewem_bp_ids)-MIN(ROW(ewem_bp_ids))+1),EWEMs!$A29)),\"\")","v":""},{"$f":"IF(AB29=TRUE, \"BASIC\", INDEX(Data!J:J, MATCH(C29, Data!A:A,0)))","v":{"$error":"#N/A"}},{"$f":"IF(AND(OR(J29=\"Apartments and Common Areas\", J29=\"Apartments\"),L29<0.95*'Property Info'!$D$16),\"maybe partial\",\"\")","v":{"$error":"#VALUE!"}},"",0,{"$f":"IF(AND(ISNUMBER(SEARCH(\"apartment\",J29)), N29<'Property Info'!$F$23), 1, 0)","v":0},false,false,"",{"$error":"#VALUE!"},{"$f":"C29&\" - \"&J29&\" \"&IF(VLOOKUP(C29,Data!A$7:C$105,3, FALSE)=1, \"\n(Backstock photo required)\", \"\")","v":{"$error":"#N/A"}},false]

{"sheet":"Units and Spaces","index":5,"n_rows":108,"n_cols":8,"rows_kept":108,"cut":false,"hidden":false,"merged":[]}
[null,"INPUT: Units and Spaces Inspected"]
[null,"Instructions:  List all unique spaces inspected, including all apartment units and common areas. Correct any duplicate space names before recording inspection observations. Do not leave any spaces in the list."]
[]
[null,"Minimum number of units to inspect:",{"$f":"ROUND(IF('Property Info'!D16<20,3,IF('Property Info'!D16>600,30,IF('Property Info'!D16<56,5,IF('Property Info'!D16<100,'Property Info'!D16*0.1,IF('Property Info'!D16<201,10,'Property Info'!D16*0.05))))),0)","v":30}]
[null,"Number of units recorded:",{"$f":"ROUND(SUMPRODUCT(1/COUNTIF(G7:G108,G7:G108&\"\"))-1,0)","v":0},null,null,null,"apartment name","all spaces"]
[null,"Unit # or Space name","Space Type","Observations recorded in this space","Notes (optional)"]
[null,null,null,{"$f":"IF(C7=\"\",\"\",COUNTIF(Observations!$B$7:$B$506,'Units and Spaces'!B7))","v":""},null,{"$f":"IF(AND(B7=\"\",B8<>\"\"),\"No blanks, please! They create errors\",IF(AND(C7=\"Apartment\", D7<EWEMs!$AA$4),\"WARNING: There are \"&EWEMs!$AA$4&\" Apartment EWEMs and only \"&D7&\" observations entered for this space.\", \"\"))","v":""},{"$f":"IF(C7=\"Apartment\",IF(B7=0,\"\",B7),\"\")","v":""},{"$f":"IF(B7<>\"\",B7,\"\")","v":""}]
[null,null,null,{"$f":"IF(C8=\"\",\"\",COUNTIF(Observations!$B$7:$B$506,'Units and Spaces'!B8))","v":""},null,{"$f":"IF(AND(B8=\"\",B9<>\"\"),\"No blanks, please! They create errors\",IF(AND(C8=\"Apartment\", D8<EWEMs!$AA$4),\"WARNING: There are \"&EWEMs!$AA$4&\" Apartment EWEMs and only \"&D8&\" observations entered for this space.\", \"\"))","v":""},{"$f":"IF(C8=\"Apartment\",IF(B8=0,\"\",B8),\"\")","v":""},{"$f":"IF(B8<>\"\",B8,\"\")","v":""}]
[null,null,null,{"$f":"IF(C9=\"\",\"\",COUNTIF(Observations!$B$7:$B$506,'Units and Spaces'!B9))","v":""},null,{"$f":"IF(AND(B9=\"\",B10<>\"\"),\"No blanks, please! They create errors\",IF(AND(C9=\"Apartment\", D9<EWEMs!$AA$4),\"WARNING: There are \"&EWEMs!$AA$4&\" Apartment EWEMs and only \"&D9&\" observations entered for this space.\", \"\"))","v":""},"",""]
[null,null,null,{"$f":"IF(C10=\"\",\"\",COUNTIF(Observations!$B$7:$B$506,'Units and Spaces'!B10))","v":""},null,{"$f":"IF(AND(B10=\"\",B11<>\"\"),\"No blanks, please! They create errors\",IF(AND(C10=\"Apartment\", D10<EWEMs!$AA$4),\"WARNING: There are \"&EWEMs!$AA$4&\" Apartment EWEMs and only \"&D10&\" observations entered for this space.\", \"\"))","v":""},"",""]
[null,null,null,{"$f":"IF(C11=\"\",\"\",COUNTIF(Observations!$B$7:$B$506,'Units and Spaces'!B11))","v":""},null,{"$f":"IF(AND(B11=\"\",B12<>\"\"),\"No blanks, please! They create errors\",IF(AND(C11=\"Apartment\", D11<EWEMs!$AA$4),\"WARNING: There are \"&EWEMs!$AA$4&\" Apartment EWEMs and only \"&D11&\" observations entered for this space.\", \"\"))","v":""},"",""]
[null,null,null,{"$f":"IF(C12=\"\",\"\",COUNTIF(Observations!$B$7:$B$506,'Units and Spaces'!B12))","v":""},null,{"$f":"IF(AND(B12=\"\",B13<>\"\"),\"No blanks, please! They create errors\",IF(AND(C12=\"Apartment\", D12<EWEMs!$AA$4),\"WARNING: There are \"&EWEMs!$AA$4&\" Apartment EWEMs and only \"&D12&\" observations entered for this space.\", \"\"))","v":""},"",""]
[null,null,null,{"$f":"IF(C13=\"\",\"\",COUNTIF(Observations!$B$7:$B$506,'Units and Spaces'!B13))","v":""},null,{"$f":"IF(AND(B13=\"\",B14<>\"\"),\"No blanks, please! They create errors\",IF(AND(C13=\"Apartment\", D13<EWEMs!$AA$4),\"WARNING: There are \"&EWEMs!$AA$4&\" Apartment EWEMs and only \"&D13&\" observations entered for this space.\", \"\"))","v":""},"",""]
[null,null,null,{"$f":"IF(C14=\"\",\"\",COUNTIF(Observations!$B$7:$B$506,'Units and Spaces'!B14))","v":""},null,{"$f":"IF(AND(B14=\"\",B15<>\"\"),\"No blanks, please! They create errors\",IF(AND(C14=\"Apartment\", D14<EWEMs!$AA$4),\"WARNING: There are \"&EWEMs!$AA$4&\" Apartment EWEMs and only \"&D14&\" observations entered for this space.\", \"\"))","v":""},"",""]
[null,null,null,{"$f":"IF(C15=\"\",\"\",COUNTIF(Observations!$B$7:$B$506,'Units and Spaces'!B15))","v":""},null,{"$f":"IF(AND(B15=\"\",B16<>\"\"),\"No blanks, please! They create errors\",IF(AND(C15=\"Apartment\", D15<EWEMs!$AA$4),\"WARNING: There are \"&EWEMs!$AA$4&\" Apartment EWEMs and only \"&D15&\" observations entered for this space.\", \"\"))","v":""},"",""]
[null,null,null,{"$f":"IF(C16=\"\",\"\",COUNTIF(Observations!$B$7:$B$506,'Units and Spaces'!B16))","v":""},null,{"$f":"IF(AND(B16=\"\",B17<>\"\"),\"No blanks, please! They create errors\",IF(AND(C16=\"Apartment\", D16<EWEMs!$AA$4),\"WARNING: There are \"&EWEMs!$AA$4&\" Apartment EWEMs and only \"&D16&\" observations entered for this space.\", \"\"))","v":""},"",""]
[null,null,null,{"$f":"IF(C17=\"\",\"\",COUNTIF(Observations!$B$7:$B$506,'Units and Spaces'!B17))","v":""},null,{"$f":"IF(AND(B17=\"\",B18<>\"\"),\"No blanks, please! They create errors\",IF(AND(C17=\"Apartment\", D17<EWEMs!$AA$4),\"WARNING: There are \"&EWEMs!$AA$4&\" Apartment EWEMs and only \"&D17&\" observations entered for this space.\", \"\"))","v":""},"",""]
[null,null,null,{"$f":"IF(C18=\"\",\"\",COUNTIF(Observations!$B$7:$B$506,'Units and Spaces'!B18))","v":""},null,{"$f":"IF(AND(B18=\"\",B19<>\"\"),\"No blanks, please! They create errors\",IF(AND(C18=\"Apartment\", D18<EWEMs!$AA$4),\"WARNING: There are \"&EWEMs!$AA$4&\" Apartment EWEMs and only \"&D18&\" observations entered for this space.\", \"\"))","v":""},"",""]
[null,null,null,{"$f":"IF(C19=\"\",\"\",COUNTIF(Observations!$B$7:$B$506,'Units and Spaces'!B19))","v":""},null,{"$f":"IF(AND(B19=\"\",B20<>\"\"),\"No blanks, please! They create errors\",IF(AND(C19=\"Apartment\", D19<EWEMs!$AA$4),\"WARNING: There are \"&EWEMs!$AA$4&\" Apartment EWEMs and only \"&D19&\" observations entered for this space.\", \"\"))","v":""},"",""]
[null,null,null,{"$f":"IF(C20=\"\",\"\",COUNTIF(Observations!$B$7:$B$506,'Units and Spaces'!B20))","v":""},null,{"$f":"IF(AND(B20=\"\",B21<>\"\"),\"No blanks, please! They create errors\",IF(AND(C20=\"Apartment\", D20<EWEMs!$AA$4),\"WARNING: There are \"&EWEMs!$AA$4&\" Apartment EWEMs and only \"&D20&\" observations entered for this space.\", \"\"))","v":""},"",""]
[null,null,null,{"$f":"IF(C21=\"\",\"\",COUNTIF(Observations!$B$7:$B$506,'Units and Spaces'!B21))","v":""},null,{"$f":"IF(AND(B21=\"\",B22<>\"\"),\"No blanks, please! They create errors\",IF(AND(C21=\"Apartment\", D21<EWEMs!$AA$4),\"WARNING: There are \"&EWEMs!$AA$4&\" Apartment EWEMs and only \"&D21&\" observations entered for this space.\", \"\"))","v":""},"",""]
[null,null,null,{"$f":"IF(C22=\"\",\"\",COUNTIF(Observations!$B$7:$B$506,'Units and Spaces'!B22))","v":""},null,{"$f":"IF(AND(B22=\"\",B23<>\"\"),\"No blanks, please! They create errors\",IF(AND(C22=\"Apartment\", D22<EWEMs!$AA$4),\"WARNING: There are \"&EWEMs!$AA$4&\" Apartment EWEMs and only \"&D22&\" observations entered for this space.\", \"\"))","v":""},"",""]
[null,null,null,{"$f":"IF(C23=\"\",\"\",COUNTIF(Observations!$B$7:$B$506,'Units and Spaces'!B23))","v":""},null,{"$f":"IF(AND(B23=\"\",B24<>\"\"),\"No blanks, please! They create errors\",IF(AND(C23=\"Apartment\", D23<EWEMs!$AA$4),\"WARNING: There are \"&EWEMs!$AA$4&\" Apartment EWEMs and only \"&D23&\" observations entered for this space.\", \"\"))","v":""},"",""]
[null,null,null,{"$f":"IF(C24=\"\",\"\",COUNTIF(Observations!$B$7:$B$506,'Units and Spaces'!B24))","v":""},null,{"$f":"IF(AND(B24=\"\",B25<>\"\"),\"No blanks, please! They create errors\",IF(AND(C24=\"Apartment\", D24<EWEMs!$AA$4),\"WARNING: There are \"&EWEMs!$AA$4&\" Apartment EWEMs and only \"&D24&\" observations entered for this space.\", \"\"))","v":""},"",""]
[null,null,null,{"$f":"IF(C25=\"\",\"\",COUNTIF(Observations!$B$7:$B$506,'Units and Spaces'!B25))","v":""},null,{"$f":"IF(AND(B25=\"\",B26<>\"\"),\"No blanks, please! They create errors\",IF(AND(C25=\"Apartment\", D25<EWEMs!$AA$4),\"WARNING: There are \"&EWEMs!$AA$4&\" Apartment EWEMs and only \"&D25&\" observations entered for this space.\", \"\"))","v":""},"",""]
[null,null,null,{"$f":"IF(C26=\"\",\"\",COUNTIF(Observations!$B$7:$B$506,'Units and Spaces'!B26))","v":""},null,{"$f":"IF(AND(B26=\"\",B27<>\"\"),\"No blanks, please! They create errors\",IF(AND(C26=\"Apartment\", D26<EWEMs!$AA$4),\"WARNING: There are \"&EWEMs!$AA$4&\" Apartment EWEMs and only \"&D26&\" observations entered for this space.\", \"\"))","v":""},"",""]
[null,null,null,{"$f":"IF(C27=\"\",\"\",COUNTIF(Observations!$B$7:$B$506,'Units and Spaces'!B27))","v":""},null,{"$f":"IF(AND(B27=\"\",B28<>\"\"),\"No blanks, please! They create errors\",IF(AND(C27=\"Apartment\", D27<EWEMs!$AA$4),\"WARNING: There are \"&EWEMs!$AA$4&\" Apartment EWEMs and only \"&D27&\" observations entered for this space.\", \"\"))","v":""},"",""]
[null,null,null,{"$f":"IF(C28=\"\",\"\",COUNTIF(Observations!$B$7:$B$506,'Units and Spaces'!B28))","v":""},null,{"$f":"IF(AND(B28=\"\",B29<>\"\"),\"No blanks, please! They create errors\",IF(AND(C28=\"Apartment\", D28<EWEMs!$AA$4),\"WARNING: There are \"&EWEMs!$AA$4&\" Apartment EWEMs and only \"&D28&\" observations entered for this space.\", \"\"))","v":""},"",""]
[null,null,null,{"$f":"IF(C29=\"\",\"\",COUNTIF(Observations!$B$7:$B$506,'Units and Spaces'!B29))","v":""},null,{"$f":"IF(AND(B29=\"\",B30<>\"\"),\"No blanks, please! They create errors\",IF(AND(C29=\"Apartment\", D29<EWEMs!$AA$4),\"WARNING: There are \"&EWEMs!$AA$4&\" Apartment EWEMs and only \"&D29&\" observations entered for this space.\", \"\"))","v":""},"",""]
[null,null,null,{"$f":"IF(C30=\"\",\"\",COUNTIF(Observations!$B$7:$B$506,'Units and Spaces'!B30))","v":""},null,{"$f":"IF(AND(B30=\"\",B31<>\"\"),\"No blanks, please! They create errors\",IF(AND(C30=\"Apartment\", D30<EWEMs!$AA$4),\"WARNING: There are \"&EWEMs!$AA$4&\" Apartment EWEMs and only \"&D30&\" observations entered for this space.\", \"\"))","v":""},"",""]
[null,null,null,{"$f":"IF(C31=\"\",\"\",COUNTIF(Observations!$B$7:$B$506,'Units and Spaces'!B31))","v":""},null,{"$f":"IF(AND(B31=\"\",B32<>\"\"),\"No blanks, please! They create errors\",IF(AND(C31=\"Apartment\", D31<EWEMs!$AA$4),\"WARNING: There are \"&EWEMs!$AA$4&\" Apartment EWEMs and only \"&D31&\" observations entered for this space.\", \"\"))","v":""},"",""]
[null,null,null,{"$f":"IF(C32=\"\",\"\",COUNTIF(Observations!$B$7:$B$506,'Units and Spaces'!B32))","v":""},null,{"$f":"IF(AND(B32=\"\",B33<>\"\"),\"No blanks, please! They create errors\",IF(AND(C32=\"Apartment\", D32<EWEMs!$AA$4),\"WARNING: There are \"&EWEMs!$AA$4&\" Apartment EWEMs and only \"&D32&\" observations entered for this space.\", \"\"))","v":""},"",""]
[null,null,null,{"$f":"IF(C33=\"\",\"\",COUNTIF(Observations!$B$7:$B$506,'Units and Spaces'!B33))","v":""},null,{"$f":"IF(AND(B33=\"\",B34<>\"\"),\"No blanks, please! They create errors\",IF(AND(C33=\"Apartment\", D33<EWEMs!$AA$4),\"WARNING: There are \"&EWEMs!$AA$4&\" Apartment EWEMs and only \"&D33&\" observations entered for this space.\", \"\"))","v":""},"",""]
[null,null,null,{"$f":"IF(C34=\"\",\"\",COUNTIF(Observations!$B$7:$B$506,'Units and Spaces'!B34))","v":""},null,{"$f":"IF(AND(B34=\"\",B35<>\"\"),\"No blanks, please! They create errors\",IF(AND(C34=\"Apartment\", D34<EWEMs!$AA$4),\"WARNING: There are \"&EWEMs!$AA$4&\" Apartment EWEMs and only \"&D34&\" observations entered for this space.\", \"\"))","v":""},"",""]
[null,null,null,{"$f":"IF(C35=\"\",\"\",COUNTIF(Observations!$B$7:$B$506,'Units and Spaces'!B35))","v":""},null,{"$f":"IF(AND(B35=\"\",B36<>\"\"),\"No blanks, please! They create errors\",IF(AND(C35=\"Apartment\", D35<EWEMs!$AA$4),\"WARNING: There are \"&EWEMs!$AA$4&\" Apartment EWEMs and only \"&D35&\" observations entered for this space.\", \"\"))","v":""},"",""]
[null,null,null,{"$f":"IF(C36=\"\",\"\",COUNTIF(Observations!$B$7:$B$506,'Units and Spaces'!B36))","v":""},null,{"$f":"IF(AND(B36=\"\",B37<>\"\"),\"No blanks, please! They create errors\",IF(AND(C36=\"Apartment\", D36<EWEMs!$AA$4),\"WARNING: There are \"&EWEMs!$AA$4&\" Apartment EWEMs and only \"&D36&\" observations entered for this space.\", \"\"))","v":""},"",""]
[null,null,null,{"$f":"IF(C37=\"\",\"\",COUNTIF(Observations!$B$7:$B$506,'Units and Spaces'!B37))","v":""},null,{"$f":"IF(AND(B37=\"\",B38<>\"\"),\"No blanks, please! They create errors\",IF(AND(C37=\"Apartment\", D37<EWEMs!$AA$4),\"WARNING: There are \"&EWEMs!$AA$4&\" Apartment EWEMs and only \"&D37&\" observations entered for this space.\", \"\"))","v":""},"",""]
[null,null,null,{"$f":"IF(C38=\"\",\"\",COUNTIF(Observations!$B$7:$B$506,'Units and Spaces'!B38))","v":""},null,{"$f":"IF(AND(B38=\"\",B39<>\"\"),\"No blanks, please! They create errors\",IF(AND(C38=\"Apartment\", D38<EWEMs!$AA$4),\"WARNING: There are \"&EWEMs!$AA$4&\" Apartment EWEMs and only \"&D38&\" observations entered for this space.\", \"\"))","v":""},"",""]
[null,null,null,{"$f":"IF(C39=\"\",\"\",COUNTIF(Observations!$B$7:$B$506,'Units and Spaces'!B39))","v":""},null,{"$f":"IF(AND(B39=\"\",B40<>\"\"),\"No blanks, please! They create errors\",IF(AND(C39=\"Apartment\", D39<EWEMs!$AA$4),\"WARNING: There are \"&EWEMs!$AA$4&\" Apartment EWEMs and only \"&D39&\" observations entered for this space.\", \"\"))","v":""},"",""]
[null,null,null,{"$f":"IF(C40=\"\",\"\",COUNTIF(Observations!$B$7:$B$506,'Units and Spaces'!B40))","v":""},null,{"$f":"IF(AND(B40=\"\",B41<>\"\"),\"No blanks, please! They create errors\",IF(AND(C40=\"Apartment\", D40<EWEMs!$AA$4),\"WARNING: There are \"&EWEMs!$AA$4&\" Apartment EWEMs and only \"&D40&\" observations entered for this space.\", \"\"))","v":""},"",""]
[null,null,null,{"$f":"IF(C41=\"\",\"\",COUNTIF(Observations!$B$7:$B$506,'Units and Spaces'!B41))","v":""},null,{"$f":"IF(AND(B41=\"\",B42<>\"\"),\"No blanks, please! They create errors\",IF(AND(C41=\"Apartment\", D41<EWEMs!$AA$4),\"WARNING: There are \"&EWEMs!$AA$4&\" Apartment EWEMs and only \"&D41&\" observations entered for this space.\", \"\"))","v":""},"",""]
[null,null,null,{"$f":"IF(C42=\"\",\"\",COUNTIF(Observations!$B$7:$B$506,'Units and Spaces'!B42))","v":""},null,{"$f":"IF(AND(B42=\"\",B43<>\"\"),\"No blanks, please! They create errors\",IF(AND(C42=\"Apartment\", D42<EWEMs!$AA$4),\"WARNING: There are \"&EWEMs!$AA$4&\" Apartment EWEMs and only \"&D42&\" observations entered for this space.\", \"\"))","v":""},"",""]
[null,null,null,{"$f":"IF(C43=\"\",\"\",COUNTIF(Observations!$B$7:$B$506,'Units and Spaces'!B43))","v":""},null,{"$f":"IF(AND(B43=\"\",B44<>\"\"),\"No blanks, please! They create errors\",IF(AND(C43=\"Apartment\", D43<EWEMs!$AA$4),\"WARNING: There are \"&EWEMs!$AA$4&\" Apartment EWEMs and only \"&D43&\" observations entered for this space.\", \"\"))","v":""},"",""]
[null,null,null,{"$f":"IF(C44=\"\",\"\",COUNTIF(Observations!$B$7:$B$506,'Units and Spaces'!B44))","v":""},null,{"$f":"IF(AND(B44=\"\",B45<>\"\"),\"No blanks, please! They create errors\",IF(AND(C44=\"Apartment\", D44<EWEMs!$AA$4),\"WARNING: There are \"&EWEMs!$AA$4&\" Apartment EWEMs and only \"&D44&\" observations entered for this space.\", \"\"))","v":""},"",""]
[null,null,null,{"$f":"IF(C45=\"\",\"\",COUNTIF(Observations!$B$7:$B$506,'Units and Spaces'!B45))","v":""},null,{"$f":"IF(AND(B45=\"\",B46<>\"\"),\"No blanks, please! They create errors\",IF(AND(C45=\"Apartment\", D45<EWEMs!$AA$4),\"WARNING: There are \"&EWEMs!$AA$4&\" Apartment EWEMs and only \"&D45&\" observations entered for this space.\", \"\"))","v":""},"",""]
[null,null,null,{"$f":"IF(C46=\"\",\"\",COUNTIF(Observations!$B$7:$B$506,'Units and Spaces'!B46))","v":""},null,{"$f":"IF(AND(B46=\"\",B47<>\"\"),\"No blanks, please! They create errors\",IF(AND(C46=\"Apartment\", D46<EWEMs!$AA$4),\"WARNING: There are \"&EWEMs!$AA$4&\" Apartment EWEMs and only \"&D46&\" observations entered for this space.\", \"\"))","v":""},"",""]
[null,null,null,{"$f":"IF(C47=\"\",\"\",COUNTIF(Observations!$B$7:$B$506,'Units and Spaces'!B47))","v":""},null,{"$f":"IF(AND(B47=\"\",B48<>\"\"),\"No blanks, please! They create errors\",IF(AND(C47=\"Apartment\", D47<EWEMs!$AA$4),\"WARNING: There are \"&EWEMs!$AA$4&\" Apartment EWEMs and only \"&D47&\" observations entered for this space.\", \"\"))","v":""},"",""]
[null,null,null,{"$f":"IF(C48=\"\",\"\",COUNTIF(Observations!$B$7:$B$506,'Units and Spaces'!B48))","v":""},null,{"$f":"IF(AND(B48=\"\",B49<>\"\"),\"No blanks, please! They create errors\",IF(AND(C48=\"Apartment\", D48<EWEMs!$AA$4),\"WARNING: There are \"&EWEMs!$AA$4&\" Apartment EWEMs and only \"&D48&\" observations entered for this space.\", \"\"))","v":""},"",""]
[null,null,null,{"$f":"IF(C49=\"\",\"\",COUNTIF(Observations!$B$7:$B$506,'Units and Spaces'!B49))","v":""},null,{"$f":"IF(AND(B49=\"\",B50<>\"\"),\"No blanks, please! They create errors\",IF(AND(C49=\"Apartment\", D49<EWEMs!$AA$4),\"WARNING: There are \"&EWEMs!$AA$4&\" Apartment EWEMs and only \"&D49&\" observations entered for this space.\", \"\"))","v":""},"",""]
[null,null,null,{"$f":"IF(C50=\"\",\"\",COUNTIF(Observations!$B$7:$B$506,'Units and Spaces'!B50))","v":""},null,{"$f":"IF(AND(B50=\"\",B51<>\"\"),\"No blanks, please! They create errors\",IF(AND(C50=\"Apartment\", D50<EWEMs!$AA$4),\"WARNING: There are \"&EWEMs!$AA$4&\" Apartment EWEMs and only \"&D50&\" observations entered for this space.\", \"\"))","v":""},"",""]
[null,null,null,{"$f":"IF(C51=\"\",\"\",COUNTIF(Observations!$B$7:$B$506,'Units and Spaces'!B51))","v":""},null,{"$f":"IF(AND(B51=\"\",B52<>\"\"),\"No blanks, please! They create errors\",IF(AND(C51=\"Apartment\", D51<EWEMs!$AA$4),\"WARNING: There are \"&EWEMs!$AA$4&\" Apartment EWEMs and only \"&D51&\" observations entered for this space.\", \"\"))","v":""},"",""]
[null,null,null,{"$f":"IF(C52=\"\",\"\",COUNTIF(Observations!$B$7:$B$506,'Units and Spaces'!B52))","v":""},null,{"$f":"IF(AND(B52=\"\",B53<>\"\"),\"No blanks, please! They create errors\",IF(AND(C52=\"Apartment\", D52<EWEMs!$AA$4),\"WARNING: There are \"&EWEMs!$AA$4&\" Apartment EWEMs and only \"&D52&\" observations entered for this space.\", \"\"))","v":""},"",""]
[null,null,null,{"$f":"IF(C53=\"\",\"\",COUNTIF(Observations!$B$7:$B$506,'Units and Spaces'!B53))","v":""},null,{"$f":"IF(AND(B53=\"\",B54<>\"\"),\"No blanks, please! They create errors\",IF(AND(C53=\"Apartment\", D53<EWEMs!$AA$4),\"WARNING: There are \"&EWEMs!$AA$4&\" Apartment EWEMs and only \"&D53&\" observations entered for this space.\", \"\"))","v":""},"",""]
[null,null,null,{"$f":"IF(C54=\"\",\"\",COUNTIF(Observations!$B$7:$B$506,'Units and Spaces'!B54))","v":""},null,{"$f":"IF(AND(B54=\"\",B55<>\"\"),\"No blanks, please! They create errors\",IF(AND(C54=\"Apartment\", D54<EWEMs!$AA$4),\"WARNING: There are \"&EWEMs!$AA$4&\" Apartment EWEMs and only \"&D54&\" observations entered for this space.\", \"\"))","v":""},"",""]
[null,null,null,{"$f":"IF(C55=\"\",\"\",COUNTIF(Observations!$B$7:$B$506,'Units and Spaces'!B55))","v":""},null,{"$f":"IF(AND(B55=\"\",B56<>\"\"),\"No blanks, please! They create errors\",IF(AND(C55=\"Apartment\", D55<EWEMs!$AA$4),\"WARNING: There are \"&EWEMs!$AA$4&\" Apartment EWEMs and only \"&D55&\" observations entered for this space.\", \"\"))","v":""},"",""]
[null,null,null,{"$f":"IF(C56=\"\",\"\",COUNTIF(Observations!$B$7:$B$506,'Units and Spaces'!B56))","v":""},null,{"$f":"IF(AND(B56=\"\",B57<>\"\"),\"No blanks, please! They create errors\",IF(AND(C56=\"Apartment\", D56<EWEMs!$AA$4),\"WARNING: There are \"&EWEMs!$AA$4&\" Apartment EWEMs and only \"&D56&\" observations entered for this space.\", \"\"))","v":""},"",""]
[null,null,null,{"$f":"IF(C57=\"\",\"\",COUNTIF(Observations!$B$7:$B$506,'Units and Spaces'!B57))","v":""},null,{"$f":"IF(AND(B57=\"\",B58<>\"\"),\"No blanks, please! They create errors\",IF(AND(C57=\"Apartment\", D57<EWEMs!$AA$4),\"WARNING: There are \"&EWEMs!$AA$4&\" Apartment EWEMs and only \"&D57&\" observations entered for this space.\", \"\"))","v":""},"",""]
[null,null,null,{"$f":"IF(C58=\"\",\"\",COUNTIF(Observations!$B$7:$B$506,'Units and Spaces'!B58))","v":""},null,{"$f":"IF(AND(B58=\"\",B59<>\"\"),\"No blanks, please! They create errors\",IF(AND(C58=\"Apartment\", D58<EWEMs!$AA$4),\"WARNING: There are \"&EWEMs!$AA$4&\" Apartment EWEMs and only \"&D58&\" observations entered for this space.\", \"\"))","v":""},"",""]
[null,null,null,{"$f":"IF(C59=\"\",\"\",COUNTIF(Observations!$B$7:$B$506,'Units and Spaces'!B59))","v":""},null,{"$f":"IF(AND(B59=\"\",B60<>\"\"),\"No blanks, please! They create errors\",IF(AND(C59=\"Apartment\", D59<EWEMs!$AA$4),\"WARNING: There are \"&EWEMs!$AA$4&\" Apartment EWEMs and only \"&D59&\" observations entered for this space.\", \"\"))","v":""},"",""]
[null,null,null,{"$f":"IF(C60=\"\",\"\",COUNTIF(Observations!$B$7:$B$506,'Units and Spaces'!B60))","v":""},null,{"$f":"IF(AND(B60=\"\",B61<>\"\"),\"No blanks, please! They create errors\",IF(AND(C60=\"Apartment\", D60<EWEMs!$AA$4),\"WARNING: There are \"&EWEMs!$AA$4&\" Apartment EWEMs and only \"&D60&\" observations entered for this space.\", \"\"))","v":""},"",""]
[null,null,null,{"$f":"IF(C61=\"\",\"\",COUNTIF(Observations!$B$7:$B$506,'Units and Spaces'!B61))","v":""},null,{"$f":"IF(AND(B61=\"\",B62<>\"\"),\"No blanks, please! They create errors\",IF(AND(C61=\"Apartment\", D61<EWEMs!$AA$4),\"WARNING: There are \"&EWEMs!$AA$4&\" Apartment EWEMs and only \"&D61&\" observations entered for this space.\", \"\"))","v":""},"",""]
[null,null,null,{"$f":"IF(C62=\"\",\"\",COUNTIF(Observations!$B$7:$B$506,'Units and Spaces'!B62))","v":""},null,{"$f":"IF(AND(B62=\"\",B63<>\"\"),\"No blanks, please! They create errors\",IF(AND(C62=\"Apartment\", D62<EWEMs!$AA$4),\"WARNING: There are \"&EWEMs!$AA$4&\" Apartment EWEMs and only \"&D62&\" observations entered for this space.\", \"\"))","v":""},"",""]
[null,null,null,{"$f":"IF(C63=\"\",\"\",COUNTIF(Observations!$B$7:$B$506,'Units and Spaces'!B63))","v":""},null,{"$f":"IF(AND(B63=\"\",B64<>\"\"),\"No blanks, please! They create errors\",IF(AND(C63=\"Apartment\", D63<EWEMs!$AA$4),\"WARNING: There are \"&EWEMs!$AA$4&\" Apartment EWEMs and only \"&D63&\" observations entered for this space.\", \"\"))","v":""},"",""]
[null,null,null,{"$f":"IF(C64=\"\",\"\",COUNTIF(Observations!$B$7:$B$506,'Units and Spaces'!B64))","v":""},null,{"$f":"IF(AND(B64=\"\",B65<>\"\"),\"No blanks, please! They create errors\",IF(AND(C64=\"Apartment\", D64<EWEMs!$AA$4),\"WARNING: There are \"&EWEMs!$AA$4&\" Apartment EWEMs and only \"&D64&\" observations entered for this space.\", \"\"))","v":""},"",""]
[null,null,null,{"$f":"IF(C65=\"\",\"\",COUNTIF(Observations!$B$7:$B$506,'Units and Spaces'!B65))","v":""},null,{"$f":"IF(AND(B65=\"\",B66<>\"\"),\"No blanks, please! They create errors\",IF(AND(C65=\"Apartment\", D65<EWEMs!$AA$4),\"WARNING: There are \"&EWEMs!$AA$4&\" Apartment EWEMs and only \"&D65&\" observations entered for this space.\", \"\"))","v":""},"",""]
[null,null,null,{"$f":"IF(C66=\"\",\"\",COUNTIF(Observations!$B$7:$B$506,'Units and Spaces'!B66))","v":""},null,{"$f":"IF(AND(B66=\"\",B67<>\"\"),\"No blanks, please! They create errors\",IF(AND(C66=\"Apartment\", D66<EWEMs!$AA$4),\"WARNING: There are \"&EWEMs!$AA$4&\" Apartment EWEMs and only \"&D66&\" observations entered for this space.\", \"\"))","v":""},"",""]
[null,null,null,{"$f":"IF(C67=\"\",\"\",COUNTIF(Observations!$B$7:$B$506,'Units and Spaces'!B67))","v":""},null,{"$f":"IF(AND(B67=\"\",B68<>\"\"),\"No blanks, please! They create errors\",IF(AND(C67=\"Apartment\", D67<EWEMs!$AA$4),\"WARNING: There are \"&EWEMs!$AA$4&\" Apartment EWEMs and only \"&D67&\" observations entered for this space.\", \"\"))","v":""},"",""]
[null,null,null,{"$f":"IF(C68=\"\",\"\",COUNTIF(Observations!$B$7:$B$506,'Units and Spaces'!B68))","v":""},null,{"$f":"IF(AND(B68=\"\",B69<>\"\"),\"No blanks, please! They create errors\",IF(AND(C68=\"Apartment\", D68<EWEMs!$AA$4),\"WARNING: There are \"&EWEMs!$AA$4&\" Apartment EWEMs and only \"&D68&\" observations entered for this space.\", \"\"))","v":""},"",""]
[null,null,null,{"$f":"IF(C69=\"\",\"\",COUNTIF(Observations!$B$7:$B$506,'Units and Spaces'!B69))","v":""},null,{"$f":"IF(AND(B69=\"\",B70<>\"\"),\"No blanks, please! They create errors\",IF(AND(C69=\"Apartment\", D69<EWEMs!$AA$4),\"WARNING: There are \"&EWEMs!$AA$4&\" Apartment EWEMs and only \"&D69&\" observations entered for this space.\", \"\"))","v":""},"",""]
[null,null,null,{"$f":"IF(C70=\"\",\"\",COUNTIF(Observations!$B$7:$B$506,'Units and Spaces'!B70))","v":""},null,{"$f":"IF(AND(B70=\"\",B71<>\"\"),\"No blanks, please! They create errors\",IF(AND(C70=\"Apartment\", D70<EWEMs!$AA$4),\"WARNING: There are \"&EWEMs!$AA$4&\" Apartment EWEMs and only \"&D70&\" observations entered for this space.\", \"\"))","v":""},"",""]
[null,null,null,{"$f":"IF(C71=\"\",\"\",COUNTIF(Observations!$B$7:$B$506,'Units and Spaces'!B71))","v":""},null,{"$f":"IF(AND(B71=\"\",B72<>\"\"),\"No blanks, please! They create errors\",IF(AND(C71=\"Apartment\", D71<EWEMs!$AA$4),\"WARNING: There are \"&EWEMs!$AA$4&\" Apartment EWEMs and only \"&D71&\" observations entered for this space.\", \"\"))","v":""},"",""]
[null,null,null,{"$f":"IF(C72=\"\",\"\",COUNTIF(Observations!$B$7:$B$506,'Units and Spaces'!B72))","v":""},null,{"$f":"IF(AND(B72=\"\",B73<>\"\"),\"No blanks, please! They create errors\",IF(AND(C72=\"Apartment\", D72<EWEMs!$AA$4),\"WARNING: There are \"&EWEMs!$AA$4&\" Apartment EWEMs and only \"&D72&\" observations entered for this space.\", \"\"))","v":""},{"$f":"IF(C72=\"Apartment\",IF(B72=0,\"\",B72),\"\")","v":""},{"$f":"IF(B72<>\"\",B72,\"\")","v":""}]
[null,null,null,{"$f":"IF(C73=\"\",\"\",COUNTIF(Observations!$B$7:$B$506,'Units and Spaces'!B73))","v":""},null,{"$f":"IF(AND(B73=\"\",B74<>\"\"),\"No blanks, please! They create errors\",IF(AND(C73=\"Apartment\", D73<EWEMs!$AA$4),\"WARNING: There are \"&EWEMs!$AA$4&\" Apartment EWEMs and only \"&D73&\" observations entered for this space.\", \"\"))","v":""},"",""]
[null,null,null,{"$f":"IF(C74=\"\",\"\",COUNTIF(Observations!$B$7:$B$506,'Units and Spaces'!B74))","v":""},null,{"$f":"IF(AND(B74=\"\",B75<>\"\"),\"No blanks, please! They create errors\",IF(AND(C74=\"Apartment\", D74<EWEMs!$AA$4),\"WARNING: There are \"&EWEMs!$AA$4&\" Apartment EWEMs and only \"&D74&\" observations entered for this space.\", \"\"))","v":""},"",""]
[null,null,null,{"$f":"IF(C75=\"\",\"\",COUNTIF(Observations!$B$7:$B$506,'Units and Spaces'!B75))","v":""},null,{"$f":"IF(AND(B75=\"\",B76<>\"\"),\"No blanks, please! They create errors\",IF(AND(C75=\"Apartment\", D75<EWEMs!$AA$4),\"WARNING: There are \"&EWEMs!$AA$4&\" Apartment EWEMs and only \"&D75&\" observations entered for this space.\", \"\"))","v":""},"",""]
[null,null,null,{"$f":"IF(C76=\"\",\"\",COUNTIF(Observations!$B$7:$B$506,'Units and Spaces'!B76))","v":""},null,{"$f":"IF(AND(B76=\"\",B77<>\"\"),\"No blanks, please! They create errors\",IF(AND(C76=\"Apartment\", D76<EWEMs!$AA$4),\"WARNING: There are \"&EWEMs!$AA$4&\" Apartment EWEMs and only \"&D76&\" observations entered for this space.\", \"\"))","v":""},"",""]
[null,null,null,{"$f":"IF(C77=\"\",\"\",COUNTIF(Observations!$B$7:$B$506,'Units and Spaces'!B77))","v":""},null,{"$f":"IF(AND(B77=\"\",B78<>\"\"),\"No blanks, please! They create errors\",IF(AND(C77=\"Apartment\", D77<EWEMs!$AA$4),\"WARNING: There are \"&EWEMs!$AA$4&\" Apartment EWEMs and only \"&D77&\" observations entered for this space.\", \"\"))","v":""},"",""]
[null,null,null,{"$f":"IF(C78=\"\",\"\",COUNTIF(Observations!$B$7:$B$506,'Units and Spaces'!B78))","v":""},null,{"$f":"IF(AND(B78=\"\",B79<>\"\"),\"No blanks, please! They create errors\",IF(AND(C78=\"Apartment\", D78<EWEMs!$AA$4),\"WARNING: There are \"&EWEMs!$AA$4&\" Apartment EWEMs and only \"&D78&\" observations entered for this space.\", \"\"))","v":""},"",""]
[null,null,null,{"$f":"IF(C79=\"\",\"\",COUNTIF(Observations!$B$7:$B$506,'Units and Spaces'!B79))","v":""},null,{"$f":"IF(AND(B79=\"\",B80<>\"\"),\"No blanks, please! They create errors\",IF(AND(C79=\"Apartment\", D79<EWEMs!$AA$4),\"WARNING: There are \"&EWEMs!$AA$4&\" Apartment EWEMs and only \"&D79&\" observations entered for this space.\", \"\"))","v":""},"",""]
[null,null,null,{"$f":"IF(C80=\"\",\"\",COUNTIF(Observations!$B$7:$B$506,'Units and Spaces'!B80))","v":""},null,{"$f":"IF(AND(B80=\"\",B81<>\"\"),\"No blanks, please! They create errors\",IF(AND(C80=\"Apartment\", D80<EWEMs!$AA$4),\"WARNING: There are \"&EWEMs!$AA$4&\" Apartment EWEMs and only \"&D80&\" observations entered for this space.\", \"\"))","v":""},"",""]
[null,null,null,{"$f":"IF(C81=\"\",\"\",COUNTIF(Observations!$B$7:$B$506,'Units and Spaces'!B81))","v":""},null,{"$f":"IF(AND(B81=\"\",B82<>\"\"),\"No blanks, please! They create errors\",IF(AND(C81=\"Apartment\", D81<EWEMs!$AA$4),\"WARNING: There are \"&EWEMs!$AA$4&\" Apartment EWEMs and only \"&D81&\" observations entered for this space.\", \"\"))","v":""},"",""]
[null,null,null,{"$f":"IF(C82=\"\",\"\",COUNTIF(Observations!$B$7:$B$506,'Units and Spaces'!B82))","v":""},null,{"$f":"IF(AND(B82=\"\",B83<>\"\"),\"No blanks, please! They create errors\",IF(AND(C82=\"Apartment\", D82<EWEMs!$AA$4),\"WARNING: There are \"&EWEMs!$AA$4&\" Apartment EWEMs and only \"&D82&\" observations entered for this space.\", \"\"))","v":""},"",""]
[null,null,null,{"$f":"IF(C83=\"\",\"\",COUNTIF(Observations!$B$7:$B$506,'Units and Spaces'!B83))","v":""},null,{"$f":"IF(AND(B83=\"\",B84<>\"\"),\"No blanks, please! They create errors\",IF(AND(C83=\"Apartment\", D83<EWEMs!$AA$4),\"WARNING: There are \"&EWEMs!$AA$4&\" Apartment EWEMs and only \"&D83&\" observations entered for this space.\", \"\"))","v":""},"",""]
[null,null,null,{"$f":"IF(C84=\"\",\"\",COUNTIF(Observations!$B$7:$B$506,'Units and Spaces'!B84))","v":""},null,{"$f":"IF(AND(B84=\"\",B85<>\"\"),\"No blanks, please! They create errors\",IF(AND(C84=\"Apartment\", D84<EWEMs!$AA$4),\"WARNING: There are \"&EWEMs!$AA$4&\" Apartment EWEMs and only \"&D84&\" observations entered for this space.\", \"\"))","v":""},"",""]
[null,null,null,{"$f":"IF(C85=\"\",\"\",COUNTIF(Observations!$B$7:$B$506,'Units and Spaces'!B85))","v":""},null,{"$f":"IF(AND(B85=\"\",B86<>\"\"),\"No blanks, please! They create errors\",IF(AND(C85=\"Apartment\", D85<EWEMs!$AA$4),\"WARNING: There are \"&EWEMs!$AA$4&\" Apartment EWEMs and only \"&D85&\" observations entered for this space.\", \"\"))","v":""},"",""]
[null,null,null,{"$f":"IF(C86=\"\",\"\",COUNTIF(Observations!$B$7:$B$506,'Units and Spaces'!B86))","v":""},null,{"$f":"IF(AND(B86=\"\",B87<>\"\"),\"No blanks, please! They create errors\",IF(AND(C86=\"Apartment\", D86<EWEMs!$AA$4),\"WARNING: There are \"&EWEMs!$AA$4&\" Apartment EWEMs and only \"&D86&\" observations entered for this space.\", \"\"))","v":""},"",""]
[null,null,null,{"$f":"IF(C87=\"\",\"\",COUNTIF(Observations!$B$7:$B$506,'Units and Spaces'!B87))","v":""},null,{"$f":"IF(AND(B87=\"\",B88<>\"\"),\"No blanks, please! They create errors\",IF(AND(C87=\"Apartment\", D87<EWEMs!$AA$4),\"WARNING: There are \"&EWEMs!$AA$4&\" Apartment EWEMs and only \"&D87&\" observations entered for this space.\", \"\"))","v":""},"",""]
[null,null,null,{"$f":"IF(C88=\"\",\"\",COUNTIF(Observations!$B$7:$B$506,'Units and Spaces'!B88))","v":""},null,{"$f":"IF(AND(B88=\"\",B89<>\"\"),\"No blanks, please! They create errors\",IF(AND(C88=\"Apartment\", D88<EWEMs!$AA$4),\"WARNING: There are \"&EWEMs!$AA$4&\" Apartment EWEMs and only \"&D88&\" observations entered for this space.\", \"\"))","v":""},"",""]
[null,null,null,{"$f":"IF(C89=\"\",\"\",COUNTIF(Observations!$B$7:$B$506,'Units and Spaces'!B89))","v":""},null,{"$f":"IF(AND(B89=\"\",B90<>\"\"),\"No blanks, please! They create errors\",IF(AND(C89=\"Apartment\", D89<EWEMs!$AA$4),\"WARNING: There are \"&EWEMs!$AA$4&\" Apartment EWEMs and only \"&D89&\" observations entered for this space.\", \"\"))","v":""},"",""]
[null,null,null,{"$f":"IF(C90=\"\",\"\",COUNTIF(Observations!$B$7:$B$506,'Units and Spaces'!B90))","v":""},null,{"$f":"IF(AND(B90=\"\",B91<>\"\"),\"No blanks, please! They create errors\",IF(AND(C90=\"Apartment\", D90<EWEMs!$AA$4),\"WARNING: There are \"&EWEMs!$AA$4&\" Apartment EWEMs and only \"&D90&\" observations entered for this space.\", \"\"))","v":""},"",""]
[null,null,null,{"$f":"IF(C91=\"\",\"\",COUNTIF(Observations!$B$7:$B$506,'Units and Spaces'!B91))","v":""},null,{"$f":"IF(AND(B91=\"\",B92<>\"\"),\"No blanks, please! They create errors\",IF(AND(C91=\"Apartment\", D91<EWEMs!$AA$4),\"WARNING: There are \"&EWEMs!$AA$4&\" Apartment EWEMs and only \"&D91&\" observations entered for this space.\", \"\"))","v":""},"",""]
[null,null,null,{"$f":"IF(C92=\"\",\"\",COUNTIF(Observations!$B$7:$B$506,'Units and Spaces'!B92))","v":""},null,{"$f":"IF(AND(B92=\"\",B93<>\"\"),\"No blanks, please! They create errors\",IF(AND(C92=\"Apartment\", D92<EWEMs!$AA$4),\"WARNING: There are \"&EWEMs!$AA$4&\" Apartment EWEMs and only \"&D92&\" observations entered for this space.\", \"\"))","v":""},"",""]
[null,null,null,{"$f":"IF(C93=\"\",\"\",COUNTIF(Observations!$B$7:$B$506,'Units and Spaces'!B93))","v":""},null,{"$f":"IF(AND(B93=\"\",B94<>\"\"),\"No blanks, please! They create errors\",IF(AND(C93=\"Apartment\", D93<EWEMs!$AA$4),\"WARNING: There are \"&EWEMs!$AA$4&\" Apartment EWEMs and only \"&D93&\" observations entered for this space.\", \"\"))","v":""},"",""]
[null,null,null,{"$f":"IF(C94=\"\",\"\",COUNTIF(Observations!$B$7:$B$506,'Units and Spaces'!B94))","v":""},null,{"$f":"IF(AND(B94=\"\",B95<>\"\"),\"No blanks, please! They create errors\",IF(AND(C94=\"Apartment\", D94<EWEMs!$AA$4),\"WARNING: There are \"&EWEMs!$AA$4&\" Apartment EWEMs and only \"&D94&\" observations entered for this space.\", \"\"))","v":""},"",""]
[null,null,null,{"$f":"IF(C95=\"\",\"\",COUNTIF(Observations!$B$7:$B$506,'Units and Spaces'!B95))","v":""},null,{"$f":"IF(AND(B95=\"\",B96<>\"\"),\"No blanks, please! They create errors\",IF(AND(C95=\"Apartment\", D95<EWEMs!$AA$4),\"WARNING: There are \"&EWEMs!$AA$4&\" Apartment EWEMs and only \"&D95&\" observations entered for this space.\", \"\"))","v":""},"",""]
[null,null,null,{"$f":"IF(C96=\"\",\"\",COUNTIF(Observations!$B$7:$B$506,'Units and Spaces'!B96))","v":""},null,{"$f":"IF(AND(B96=\"\",B97<>\"\"),\"No blanks, please! They create errors\",IF(AND(C96=\"Apartment\", D96<EWEMs!$AA$4),\"WARNING: There are \"&EWEMs!$AA$4&\" Apartment EWEMs and only \"&D96&\" observations entered for this space.\", \"\"))","v":""},"",""]
[null,null,null,{"$f":"IF(C97=\"\",\"\",COUNTIF(Observations!$B$7:$B$506,'Units and Spaces'!B97))","v":""},null,{"$f":"IF(AND(B97=\"\",B98<>\"\"),\"No blanks, please! They create errors\",IF(AND(C97=\"Apartment\", D97<EWEMs!$AA$4),\"WARNING: There are \"&EWEMs!$AA$4&\" Apartment EWEMs and only \"&D97&\" observations entered for this space.\", \"\"))","v":""},"",""]
[null,null,null,{"$f":"IF(C98=\"\",\"\",COUNTIF(Observations!$B$7:$B$506,'Units and Spaces'!B98))","v":""},null,{"$f":"IF(AND(B98=\"\",B99<>\"\"),\"No blanks, please! They create errors\",IF(AND(C98=\"Apartment\", D98<EWEMs!$AA$4),\"WARNING: There are \"&EWEMs!$AA$4&\" Apartment EWEMs and only \"&D98&\" observations entered for this space.\", \"\"))","v":""},"",""]
[null,null,null,{"$f":"IF(C99=\"\",\"\",COUNTIF(Observations!$B$7:$B$506,'Units and Spaces'!B99))","v":""},null,{"$f":"IF(AND(B99=\"\",B100<>\"\"),\"No blanks, please! They create errors\",IF(AND(C99=\"Apartment\", D99<EWEMs!$AA$4),\"WARNING: There are \"&EWEMs!$AA$4&\" Apartment EWEMs and only \"&D99&\" observations entered for this space.\", \"\"))","v":""},"",""]
[null,null,null,{"$f":"IF(C100=\"\",\"\",COUNTIF(Observations!$B$7:$B$506,'Units and Spaces'!B100))","v":""},null,{"$f":"IF(AND(B100=\"\",B101<>\"\"),\"No blanks, please! They create errors\",IF(AND(C100=\"Apartment\", D100<EWEMs!$AA$4),\"WARNING: There are \"&EWEMs!$AA$4&\" Apartment EWEMs and only \"&D100&\" observations entered for this space.\", \"\"))","v":""},"",""]
[null,null,null,{"$f":"IF(C101=\"\",\"\",COUNTIF(Observations!$B$7:$B$506,'Units and Spaces'!B101))","v":""},null,{"$f":"IF(AND(B101=\"\",B102<>\"\"),\"No blanks, please! They create errors\",IF(AND(C101=\"Apartment\", D101<EWEMs!$AA$4),\"WARNING: There are \"&EWEMs!$AA$4&\" Apartment EWEMs and only \"&D101&\" observations entered for this space.\", \"\"))","v":""},"",""]
[null,null,null,{"$f":"IF(C102=\"\",\"\",COUNTIF(Observations!$B$7:$B$506,'Units and Spaces'!B102))","v":""},null,{"$f":"IF(AND(B102=\"\",B103<>\"\"),\"No blanks, please! They create errors\",IF(AND(C102=\"Apartment\", D102<EWEMs!$AA$4),\"WARNING: There are \"&EWEMs!$AA$4&\" Apartment EWEMs and only \"&D102&\" observations entered for this space.\", \"\"))","v":""},"",""]
[null,null,null,{"$f":"IF(C103=\"\",\"\",COUNTIF(Observations!$B$7:$B$506,'Units and Spaces'!B103))","v":""},null,{"$f":"IF(AND(B103=\"\",B104<>\"\"),\"No blanks, please! They create errors\",IF(AND(C103=\"Apartment\", D103<EWEMs!$AA$4),\"WARNING: There are \"&EWEMs!$AA$4&\" Apartment EWEMs and only \"&D103&\" observations entered for this space.\", \"\"))","v":""},"",""]
[null,null,null,{"$f":"IF(C104=\"\",\"\",COUNTIF(Observations!$B$7:$B$506,'Units and Spaces'!B104))","v":""},null,{"$f":"IF(AND(B104=\"\",B105<>\"\"),\"No blanks, please! They create errors\",IF(AND(C104=\"Apartment\", D104<EWEMs!$AA$4),\"WARNING: There are \"&EWEMs!$AA$4&\" Apartment EWEMs and only \"&D104&\" observations entered for this space.\", \"\"))","v":""},"",""]
[null,null,null,{"$f":"IF(C105=\"\",\"\",COUNTIF(Observations!$B$7:$B$506,'Units and Spaces'!B105))","v":""},null,{"$f":"IF(AND(B105=\"\",B106<>\"\"),\"No blanks, please! They create errors\",IF(AND(C105=\"Apartment\", D105<EWEMs!$AA$4),\"WARNING: There are \"&EWEMs!$AA$4&\" Apartment EWEMs and only \"&D105&\" observations entered for this space.\", \"\"))","v":""},"",""]
[null,null,null,{"$f":"IF(C106=\"\",\"\",COUNTIF(Observations!$B$7:$B$506,'Units and Spaces'!B106))","v":""},null,{"$f":"IF(AND(B106=\"\",B107<>\"\"),\"No blanks, please! They create errors\",IF(AND(C106=\"Apartment\", D106<EWEMs!$AA$4),\"WARNING: There are \"&EWEMs!$AA$4&\" Apartment EWEMs and only \"&D106&\" observations entered for this space.\", \"\"))","v":""},"",""]
[null,null,null,{"$f":"IF(C107=\"\",\"\",COUNTIF(Observations!$B$7:$B$506,'Units and Spaces'!B107))","v":""},null,{"$f":"IF(AND(B107=\"\",B108<>\"\"),\"No blanks, please! They create errors\",IF(AND(C107=\"Apartment\", D107<EWEMs!$AA$4),\"WARNING: There are \"&EWEMs!$AA$4&\" Apartment EWEMs and only \"&D107&\" observations entered for this space.\", \"\"))","v":""},"",""]
[null,null,null,{"$f":"IF(C108=\"\",\"\",COUNTIF(Observations!$B$7:$B$506,'Units and Spaces'!B108))","v":""},null,null,"",""]

{"sheet":"Observations","index":6,"n_rows":506,"n_cols":23,"rows_kept":506,"cut":false,"hidden":false,"merged":[[0,7,2,7]]}
[null,"INPUT: EWEM Observations",null,null,null,null,null,"Enter all Observations before adding Photos\nThe photos list will dynamically show the required photos, and will change if compliance changes."]
[null,"Instructions:  Add tests for each EWEM for each space. Water EWEMs require the Nameplate number. You must inspect at least as many units as indicated below in D4. "]
[]
[null,"Minimum number of units to inspect:",null,{"$f":"ROUND(IF('Property Info'!D16<20,3,IF('Property Info'!D16>600,30,IF('Property Info'!D16<56,5,IF('Property Info'!D16<100,'Property Info'!D16*0.1,IF('Property Info'!D16<201,10,'Property Info'!D16*0.05))))),0)","v":30},null,null,null,null,null,null,null,"Helper for compliance counts","Helper for unit counts","This is a water fixture","Number spec","Bath compliance","Kitchen compliance","EWEM number","EWEM description","Unusual nameplates","Row is missing","EWEM + Unit","Space Type"]
[null,"Number of units inspected so far:",null,{"$f":"ROUND(SUMPRODUCT(1/COUNTIF(M7:M506,M7:M506&\"\"))-1,0)","v":0},{"$f":"IF(T6>0,\"↓Unusual Nameplate Spec - Please Review\",\"\")","v":""}]
[null,"Unit # or Space name","Space Type","EWEM","Nameplate Number Value","Fixture Compliance","Compliant or Noncompliant?","Supporting comments for this observation",null,null,null,null,null,null,null,null,null,null,null,{"$f":"COUNTIF(T7:T506,TRUE)","v":0},{"$f":"COUNTIF(U7:U506,TRUE)","v":0},{"$f":"500-COUNTIF(V7:V506, \"\")","v":0}]
[null,null,{"$f":"IF(B7=\"\", \"\", IF(AND(B7<>\"\",D7=\"\"),W7,IF(ISNUMBER(SEARCH(W7,D7)),W7,\"SPACE MISMATACH\")))","v":""},null,null,{"$f":"IF(AND(N7=TRUE,E7<>\"\"), IF(ISNUMBER(SEARCH(\"compliant\", P7)),P7,IF(ISNUMBER(SEARCH(\"compliant\",Q7)),Q7,IF(E7<=O7,\"compliant\",\"noncompliant\"))),\"\")","v":""},null,null,{"$f":"IF(AND(D7=\"\",D8<>\"\"), \"No Blanks Please!\", \"\")","v":""},null,null,{"$f":"IF(OR(F7=\"compliant\",F7=\"noncompliant\"),D7&F7,D7&G7)","v":""},{"$f":"IF(C7=\"Apartment\",IF(B7=0,\"\",B7),\"\")","v":""},{"$f":"IF(OR(ISNUMBER(FIND(\"low-flow\",D7,1)), ISNUMBER(FIND(\"low-flush\",D7,1))),TRUE,FALSE)","v":false},{"$f":"INDEX(EWEMs!$F$5:$F$29,MATCH(D7,EWEMs!$X$5:$X$29,0))","v":{"$error":"#N/A"}},{"$f":"IF(OR(ISNUMBER(SEARCH(\"bath faucets\", D7)), AND( ISNUMBER(SEARCH(\"fixture\", D7)),ISNUMBER(SEARCH(\"bath\", S7)) )), IF(O7<=1, IF(AND(E7>=O7, E7<=1), \"compliant\", \"noncompliant\"), IF(AND(E7>=1, E7<=O7),\"compliant\",\"noncompliant\")), \"not bath\"\n)","v":"not bath"},{"$f":"IF(OR(ISNUMBER(SEARCH(\"kitchen faucets\",D7)),AND(ISNUMBER(SEARCH(\"fixtures\",D7)),ISNUMBER(SEARCH(\"kitchen\",S7)))),IF(O7<=1.5,IF(AND(E7>=1, E7<=1.5),\"compliant\",\"noncompliant\"),IF(AND(E7>=1.5,E7<=O7),\"compliant\",\"noncompliant\")),\"not kitchen\"\n)","v":"not kitchen"},{"$f":"LEFT(D7,(FIND(\" \",D7,1)-1))*1","v":{"$error":"#VALUE!"}},{"$f":"VLOOKUP(Observations!R7,EWEMs!$B$5:$D$29,3,FALSE)","v":{"$error":"#VALUE!"}},{"$f":"IF(ISNUMBER(E7),AND(OR(E7<0.5,E7>5),E7<>\"\"),FALSE)","v":false},{"$f":"IF(OR(B7<>\"\",D7<>\"\", E7<>\"\",G7<>\"\",H7<>\"\"), IF(N7=TRUE, IF(OR(B7=\"\", D7=\"\", E7=\"\", H7=\"\"), TRUE, FALSE), IF(OR(B7=\"\", D7=\"\", G7=\"\", H7=\"\"), TRUE, FALSE)), FALSE)","v":false},{"$f":"IF(OR(F7=\"noncompliant\", G7=\"noncompliant\"), IFERROR(LEFT(D7, LEN(_xlfn.TEXTBEFORE(D7,\"-\",-1)))&\" (Space: \"&B7&\")\", \"\"), \"\")","v":""},{"$f":"IF(B7=\"\",\"\",INDEX('Units and Spaces'!C:C,MATCH(Observations!B7,'Units and Spaces'!B:B,0)))","v":""}]
[null,null,{"$f":"IF(B8=\"\", \"\", IF(AND(B8<>\"\",D8=\"\"),W8,IF(ISNUMBER(SEARCH(W8,D8)),W8,\"SPACE MISMATACH\")))","v":""},null,null,{"$f":"IF(AND(N8=TRUE,E8<>\"\"), IF(ISNUMBER(SEARCH(\"compliant\", P8)),P8,IF(ISNUMBER(SEARCH(\"compliant\",Q8)),Q8,IF(E8<=O8,\"compliant\",\"noncompliant\"))),\"\")","v":""},null,null,{"$f":"IF(AND(D8=\"\",D9<>\"\"), \"No Blanks Please!\", \"\")","v":""},null,null,{"$f":"IF(OR(F8=\"compliant\",F8=\"noncompliant\"),D8&F8,D8&G8)","v":""},{"$f":"IF(C8=\"Apartment\",IF(B8=0,\"\",B8),\"\")","v":""},{"$f":"IF(OR(ISNUMBER(FIND(\"low-flow\",D8,1)), ISNUMBER(FIND(\"low-flush\",D8,1))),TRUE,FALSE)","v":false},{"$f":"INDEX(EWEMs!$F$5:$F$29,MATCH(D8,EWEMs!$X$5:$X$29,0))","v":{"$error":"#N/A"}},{"$f":"IF(OR(ISNUMBER(SEARCH(\"bath faucets\", D8)), AND( ISNUMBER(SEARCH(\"fixture\", D8)),ISNUMBER(SEARCH(\"bath\", S8)) )), IF(O8<=1, IF(AND(E8>=O8, E8<=1), \"compliant\", \"noncompliant\"), IF(AND(E8>=1, E8<=O8),\"compliant\",\"noncompliant\")), \"not bath\"\n)","v":"not bath"},{"$f":"IF(OR(ISNUMBER(SEARCH(\"kitchen faucets\",D8)),AND(ISNUMBER(SEARCH(\"fixtures\",D8)),ISNUMBER(SEARCH(\"kitchen\",S8)))),IF(O8<=1.5,IF(AND(E8>=1, E8<=1.5),\"compliant\",\"noncompliant\"),IF(AND(E8>=1.5,E8<=O8),\"compliant\",\"noncompliant\")),\"not kitchen\"\n)","v":"not kitchen"},{"$f":"LEFT(D8,(FIND(\" \",D8,1)-1))*1","v":{"$error":"#VALUE!"}},{"$f":"VLOOKUP(Observations!R8,EWEMs!$B$5:$D$29,3,FALSE)","v":{"$error":"#VALUE!"}},{"$f":"IF(ISNUMBER(E8),AND(OR(E8<0.5,E8>5),E8<>\"\"),FALSE)","v":false},{"$f":"IF(OR(B8<>\"\",D8<>\"\", E8<>\"\",G8<>\"\",H8<>\"\"), IF(N8=TRUE, IF(OR(B8=\"\", D8=\"\", E8=\"\", H8=\"\"), TRUE, FALSE), IF(OR(B8=\"\", D8=\"\", G8=\"\", H8=\"\"), TRUE, FALSE)), FALSE)","v":false},{"$f":"IF(OR(F8=\"noncompliant\", G8=\"noncompliant\"), IFERROR(LEFT(D8, LEN(_xlfn.TEXTBEFORE(D8,\"-\",-1)))&\" (Space: \"&B8&\")\", \"\"), \"\")","v":""},{"$f":"IF(B8=\"\",\"\",INDEX('Units and Spaces'!C:C,MATCH(Observations!B8,'Units and Spaces'!B:B,0)))","v":""}]
[null,null,"",null,null,"",null,null,"",null,null,"","",false,{"$f":"INDEX(EWEMs!$F$5:$F$29,MATCH(D9,EWEMs!$X$5:$X$29,0))","v":{"$error":"#N/A"}},"not bath","not kitchen",{"$error":"#VALUE!"},{"$f":"VLOOKUP(Observations!R9,EWEMs!$B$5:$D$29,3,FALSE)","v":{"$error":"#VALUE!"}},false,false,"",{"$f":"IF(B9=\"\",\"\",INDEX('Units and Spaces'!C:C,MATCH(Observations!B9,'Units and Spaces'!B:B,0)))","v":""}]
[null,null,"",null,null,"",null,null,"",null,null,"","",false,{"$f":"INDEX(EWEMs!$F$5:$F$29,MATCH(D10,EWEMs!$X$5:$X$29,0))","v":{"$error":"#N/A"}},"not bath","not kitchen",{"$error":"#VALUE!"},{"$f":"VLOOKUP(Observations!R10,EWEMs!$B$5:$D$29,3,FALSE)","v":{"$error":"#VALUE!"}},false,false,"",{"$f":"IF(B10=\"\",\"\",INDEX('Units and Spaces'!C:C,MATCH(Observations!B10,'Units and Spaces'!B:B,0)))","v":""}]
[null,null,"",null,null,"",null,null,"",null,null,"","",false,{"$f":"INDEX(EWEMs!$F$5:$F$29,MATCH(D11,EWEMs!$X$5:$X$29,0))","v":{"$error":"#N/A"}},"not bath","not kitchen",{"$error":"#VALUE!"},{"$f":"VLOOKUP(Observations!R11,EWEMs!$B$5:$D$29,3,FALSE)","v":{"$error":"#VALUE!"}},false,false,"",{"$f":"IF(B11=\"\",\"\",INDEX('Units and Spaces'!C:C,MATCH(Observations!B11,'Units and Spaces'!B:B,0)))","v":""}]
[null,null,"",null,null,"",null,null,"",null,null,"","",false,{"$f":"INDEX(EWEMs!$F$5:$F$29,MATCH(D12,EWEMs!$X$5:$X$29,0))","v":{"$error":"#N/A"}},"not bath","not kitchen",{"$error":"#VALUE!"},{"$f":"VLOOKUP(Observations!R12,EWEMs!$B$5:$D$29,3,FALSE)","v":{"$error":"#VALUE!"}},false,false,"",{"$f":"IF(B12=\"\",\"\",INDEX('Units and Spaces'!C:C,MATCH(Observations!B12,'Units and Spaces'!B:B,0)))","v":""}]
[null,null,"",null,null,"",null,null,"",null,null,"","",false,{"$f":"INDEX(EWEMs!$F$5:$F$29,MATCH(D13,EWEMs!$X$5:$X$29,0))","v":{"$error":"#N/A"}},"not bath","not kitchen",{"$error":"#VALUE!"},{"$f":"VLOOKUP(Observations!R13,EWEMs!$B$5:$D$29,3,FALSE)","v":{"$error":"#VALUE!"}},false,false,"",{"$f":"IF(B13=\"\",\"\",INDEX('Units and Spaces'!C:C,MATCH(Observations!B13,'Units and Spaces'!B:B,0)))","v":""}]
[null,null,"",null,null,"",null,null,"",null,null,"","",false,{"$f":"INDEX(EWEMs!$F$5:$F$29,MATCH(D14,EWEMs!$X$5:$X$29,0))","v":{"$error":"#N/A"}},"not bath","not kitchen",{"$error":"#VALUE!"},{"$f":"VLOOKUP(Observations!R14,EWEMs!$B$5:$D$29,3,FALSE)","v":{"$error":"#VALUE!"}},false,false,"",{"$f":"IF(B14=\"\",\"\",INDEX('Units and Spaces'!C:C,MATCH(Observations!B14,'Units and Spaces'!B:B,0)))","v":""}]
[null,null,"",null,null,"",null,null,"",null,null,"","",false,{"$f":"INDEX(EWEMs!$F$5:$F$29,MATCH(D15,EWEMs!$X$5:$X$29,0))","v":{"$error":"#N/A"}},"not bath","not kitchen",{"$error":"#VALUE!"},{"$f":"VLOOKUP(Observations!R15,EWEMs!$B$5:$D$29,3,FALSE)","v":{"$error":"#VALUE!"}},false,false,"",{"$f":"IF(B15=\"\",\"\",INDEX('Units and Spaces'!C:C,MATCH(Observations!B15,'Units and Spaces'!B:B,0)))","v":""}]
[null,null,"",null,null,"",null,null,"",null,null,"","",false,{"$f":"INDEX(EWEMs!$F$5:$F$29,MATCH(D16,EWEMs!$X$5:$X$29,0))","v":{"$error":"#N/A"}},"not bath","not kitchen",{"$error":"#VALUE!"},{"$f":"VLOOKUP(Observations!R16,EWEMs!$B$5:$D$29,3,FALSE)","v":{"$error":"#VALUE!"}},false,false,"",{"$f":"IF(B16=\"\",\"\",INDEX('Units and Spaces'!C:C,MATCH(Observations!B16,'Units and Spaces'!B:B,0)))","v":""}]
[null,null,"",null,null,"",null,null,"",null,null,"","",false,{"$f":"INDEX(EWEMs!$F$5:$F$29,MATCH(D17,EWEMs!$X$5:$X$29,0))","v":{"$error":"#N/A"}},"not bath","not kitchen",{"$error":"#VALUE!"},{"$f":"VLOOKUP(Observations!R17,EWEMs!$B$5:$D$29,3,FALSE)","v":{"$error":"#VALUE!"}},false,false,"",{"$f":"IF(B17=\"\",\"\",INDEX('Units and Spaces'!C:C,MATCH(Observations!B17,'Units and Spaces'!B:B,0)))","v":""}]
[null,null,"",null,null,"",null,null,"",null,null,"","",false,{"$f":"INDEX(EWEMs!$F$5:$F$29,MATCH(D18,EWEMs!$X$5:$X$29,0))","v":{"$error":"#N/A"}},"not bath","not kitchen",{"$error":"#VALUE!"},{"$f":"VLOOKUP(Observations!R18,EWEMs!$B$5:$D$29,3,FALSE)","v":{"$error":"#VALUE!"}},false,false,"",{"$f":"IF(B18=\"\",\"\",INDEX('Units and Spaces'!C:C,MATCH(Observations!B18,'Units and Spaces'!B:B,0)))","v":""}]
[null,null,"",null,null,"",null,null,"",null,null,"","",false,{"$f":"INDEX(EWEMs!$F$5:$F$29,MATCH(D19,EWEMs!$X$5:$X$29,0))","v":{"$error":"#N/A"}},"not bath","not kitchen",{"$error":"#VALUE!"},{"$f":"VLOOKUP(Observations!R19,EWEMs!$B$5:$D$29,3,FALSE)","v":{"$error":"#VALUE!"}},false,false,"",{"$f":"IF(B19=\"\",\"\",INDEX('Units and Spaces'!C:C,MATCH(Observations!B19,'Units and Spaces'!B:B,0)))","v":""}]
[null,null,"",null,null,"",null,null,"",null,null,"","",false,{"$f":"INDEX(EWEMs!$F$5:$F$29,MATCH(D20,EWEMs!$X$5:$X$29,0))","v":{"$error":"#N/A"}},"not bath","not kitchen",{"$error":"#VALUE!"},{"$f":"VLOOKUP(Observations!R20,EWEMs!$B$5:$D$29,3,FALSE)","v":{"$error":"#VALUE!"}},false,false,"",{"$f":"IF(B20=\"\",\"\",INDEX('Units and Spaces'!C:C,MATCH(Observations!B20,'Units and Spaces'!B:B,0)))","v":""}]
[null,null,"",null,null,"",null,null,"",null,null,"","",false,{"$f":"INDEX(EWEMs!$F$5:$F$29,MATCH(D21,EWEMs!$X$5:$X$29,0))","v":{"$error":"#N/A"}},"not bath","not kitchen",{"$error":"#VALUE!"},{"$f":"VLOOKUP(Observations!R21,EWEMs!$B$5:$D$29,3,FALSE)","v":{"$error":"#VALUE!"}},false,false,"",{"$f":"IF(B21=\"\",\"\",INDEX('Units and Spaces'!C:C,MATCH(Observations!B21,'Units and Spaces'!B:B,0)))","v":""}]
[null,null,"",null,null,"",null,null,"",null,null,"","",false,{"$f":"INDEX(EWEMs!$F$5:$F$29,MATCH(D22,EWEMs!$X$5:$X$29,0))","v":{"$error":"#N/A"}},"not bath","not kitchen",{"$error":"#VALUE!"},{"$f":"VLOOKUP(Observations!R22,EWEMs!$B$5:$D$29,3,FALSE)","v":{"$error":"#VALUE!"}},false,false,"",{"$f":"IF(B22=\"\",\"\",INDEX('Units and Spaces'!C:C,MATCH(Observations!B22,'Units and Spaces'!B:B,0)))","v":""}]
[null,null,"",null,null,"",null,null,"",null,null,"","",false,{"$f":"INDEX(EWEMs!$F$5:$F$29,MATCH(D23,EWEMs!$X$5:$X$29,0))","v":{"$error":"#N/A"}},"not bath","not kitchen",{"$error":"#VALUE!"},{"$f":"VLOOKUP(Observations!R23,EWEMs!$B$5:$D$29,3,FALSE)","v":{"$error":"#VALUE!"}},false,false,"",{"$f":"IF(B23=\"\",\"\",INDEX('Units and Spaces'!C:C,MATCH(Observations!B23,'Units and Spaces'!B:B,0)))","v":""}]
[null,null,"",null,null,"",null,null,"",null,null,"","",false,{"$f":"INDEX(EWEMs!$F$5:$F$29,MATCH(D24,EWEMs!$X$5:$X$29,0))","v":{"$error":"#N/A"}},"not bath","not kitchen",{"$error":"#VALUE!"},{"$f":"VLOOKUP(Observations!R24,EWEMs!$B$5:$D$29,3,FALSE)","v":{"$error":"#VALUE!"}},false,false,"",{"$f":"IF(B24=\"\",\"\",INDEX('Units and Spaces'!C:C,MATCH(Observations!B24,'Units and Spaces'!B:B,0)))","v":""}]
[null,null,"",null,null,"",null,null,"",null,null,"","",false,{"$f":"INDEX(EWEMs!$F$5:$F$29,MATCH(D25,EWEMs!$X$5:$X$29,0))","v":{"$error":"#N/A"}},"not bath","not kitchen",{"$error":"#VALUE!"},{"$f":"VLOOKUP(Observations!R25,EWEMs!$B$5:$D$29,3,FALSE)","v":{"$error":"#VALUE!"}},false,false,"",{"$f":"IF(B25=\"\",\"\",INDEX('Units and Spaces'!C:C,MATCH(Observations!B25,'Units and Spaces'!B:B,0)))","v":""}]
[null,null,"",null,null,"",null,null,"",null,null,"","",false,{"$f":"INDEX(EWEMs!$F$5:$F$29,MATCH(D26,EWEMs!$X$5:$X$29,0))","v":{"$error":"#N/A"}},"not bath","not kitchen",{"$error":"#VALUE!"},{"$f":"VLOOKUP(Observations!R26,EWEMs!$B$5:$D$29,3,FALSE)","v":{"$error":"#VALUE!"}},false,false,"",{"$f":"IF(B26=\"\",\"\",INDEX('Units and Spaces'!C:C,MATCH(Observations!B26,'Units and Spaces'!B:B,0)))","v":""}]
[null,null,"",null,null,"",null,null,"",null,null,"","",false,{"$f":"INDEX(EWEMs!$F$5:$F$29,MATCH(D27,EWEMs!$X$5:$X$29,0))","v":{"$error":"#N/A"}},"not bath","not kitchen",{"$error":"#VALUE!"},{"$f":"VLOOKUP(Observations!R27,EWEMs!$B$5:$D$29,3,FALSE)","v":{"$error":"#VALUE!"}},false,false,"",{"$f":"IF(B27=\"\",\"\",INDEX('Units and Spaces'!C:C,MATCH(Observations!B27,'Units and Spaces'!B:B,0)))","v":""}]
[null,null,"",null,null,"",null,null,"",null,null,"","",false,{"$f":"INDEX(EWEMs!$F$5:$F$29,MATCH(D28,EWEMs!$X$5:$X$29,0))","v":{"$error":"#N/A"}},"not bath","not kitchen",{"$error":"#VALUE!"},{"$f":"VLOOKUP(Observations!R28,EWEMs!$B$5:$D$29,3,FALSE)","v":{"$error":"#VALUE!"}},false,false,"",{"$f":"IF(B28=\"\",\"\",INDEX('Units and Spaces'!C:C,MATCH(Observations!B28,'Units and Spaces'!B:B,0)))","v":""}]
[null,null,"",null,null,"",null,null,"",null,null,"","",false,{"$f":"INDEX(EWEMs!$F$5:$F$29,MATCH(D29,EWEMs!$X$5:$X$29,0))","v":{"$error":"#N/A"}},"not bath","not kitchen",{"$error":"#VALUE!"},{"$f":"VLOOKUP(Observations!R29,EWEMs!$B$5:$D$29,3,FALSE)","v":{"$error":"#VALUE!"}},false,false,"",{"$f":"IF(B29=\"\",\"\",INDEX('Units and Spaces'!C:C,MATCH(Observations!B29,'Units and Spaces'!B:B,0)))","v":""}]
[null,null,"",null,null,"",null,null,"",null,null,"","",false,{"$f":"INDEX(EWEMs!$F$5:$F$29,MATCH(D30,EWEMs!$X$5:$X$29,0))","v":{"$error":"#N/A"}},"not bath","not kitchen",{"$error":"#VALUE!"},{"$f":"VLOOKUP(Observations!R30,EWEMs!$B$5:$D$29,3,FALSE)","v":{"$error":"#VALUE!"}},false,false,"",{"$f":"IF(B30=\"\",\"\",INDEX('Units and Spaces'!C:C,MATCH(Observations!B30,'Units and Spaces'!B:B,0)))","v":""}]
[null,null,"",null,null,"",null,null,"",null,null,"","",false,{"$f":"INDEX(EWEMs!$F$5:$F$29,MATCH(D31,EWEMs!$X$5:$X$29,0))","v":{"$error":"#N/A"}},"not bath","not kitchen",{"$error":"#VALUE!"},{"$f":"VLOOKUP(Observations!R31,EWEMs!$B$5:$D$29,3,FALSE)","v":{"$error":"#VALUE!"}},false,false,"",{"$f":"IF(B31=\"\",\"\",INDEX('Units and Spaces'!C:C,MATCH(Observations!B31,'Units and Spaces'!B:B,0)))","v":""}]
[null,null,"",null,null,"",null,null,"",null,null,"","",false,{"$f":"INDEX(EWEMs!$F$5:$F$29,MATCH(D32,EWEMs!$X$5:$X$29,0))","v":{"$error":"#N/A"}},"not bath","not kitchen",{"$error":"#VALUE!"},{"$f":"VLOOKUP(Observations!R32,EWEMs!$B$5:$D$29,3,FALSE)","v":{"$error":"#VALUE!"}},false,false,"",{"$f":"IF(B32=\"\",\"\",INDEX('Units and Spaces'!C:C,MATCH(Observations!B32,'Units and Spaces'!B:B,0)))","v":""}]
[null,null,"",null,null,"",null,null,"",null,null,"","",false,{"$f":"INDEX(EWEMs!$F$5:$F$29,MATCH(D33,EWEMs!$X$5:$X$29,0))","v":{"$error":"#N/A"}},"not bath","not kitchen",{"$error":"#VALUE!"},{"$f":"VLOOKUP(Observations!R33,EWEMs!$B$5:$D$29,3,FALSE)","v":{"$error":"#VALUE!"}},false,false,"",{"$f":"IF(B33=\"\",\"\",INDEX('Units and Spaces'!C:C,MATCH(Observations!B33,'Units and Spaces'!B:B,0)))","v":""}]
[null,null,"",null,null,"",null,null,"",null,null,"","",false,{"$f":"INDEX(EWEMs!$F$5:$F$29,MATCH(D34,EWEMs!$X$5:$X$29,0))","v":{"$error":"#N/A"}},"not bath","not kitchen",{"$error":"#VALUE!"},{"$f":"VLOOKUP(Observations!R34,EWEMs!$B$5:$D$29,3,FALSE)","v":{"$error":"#VALUE!"}},false,false,"",{"$f":"IF(B34=\"\",\"\",INDEX('Units and Spaces'!C:C,MATCH(Observations!B34,'Units and Spaces'!B:B,0)))","v":""}]
[null,null,"",null,null,"",null,null,"",null,null,"","",false,{"$f":"INDEX(EWEMs!$F$5:$F$29,MATCH(D35,EWEMs!$X$5:$X$29,0))","v":{"$error":"#N/A"}},"not bath","not kitchen",{"$error":"#VALUE!"},{"$f":"VLOOKUP(Observations!R35,EWEMs!$B$5:$D$29,3,FALSE)","v":{"$error":"#VALUE!"}},false,false,"",{"$f":"IF(B35=\"\",\"\",INDEX('Units and Spaces'!C:C,MATCH(Observations!B35,'Units and Spaces'!B:B,0)))","v":""}]
[null,null,"",null,null,"",null,null,"",null,null,"","",false,{"$f":"INDEX(EWEMs!$F$5:$F$29,MATCH(D36,EWEMs!$X$5:$X$29,0))","v":{"$error":"#N/A"}},"not bath","not kitchen",{"$error":"#VALUE!"},{"$f":"VLOOKUP(Observations!R36,EWEMs!$B$5:$D$29,3,FALSE)","v":{"$error":"#VALUE!"}},false,false,"",{"$f":"IF(B36=\"\",\"\",INDEX('Units and Spaces'!C:C,MATCH(Observations!B36,'Units and Spaces'!B:B,0)))","v":""}]
[null,null,"",null,null,"",null,null,"",null,null,"","",false,{"$f":"INDEX(EWEMs!$F$5:$F$29,MATCH(D37,EWEMs!$X$5:$X$29,0))","v":{"$error":"#N/A"}},"not bath","not kitchen",{"$error":"#VALUE!"},{"$f":"VLOOKUP(Observations!R37,EWEMs!$B$5:$D$29,3,FALSE)","v":{"$error":"#VALUE!"}},false,false,"",{"$f":"IF(B37=\"\",\"\",INDEX('Units and Spaces'!C:C,MATCH(Observations!B37,'Units and Spaces'!B:B,0)))","v":""}]
[null,null,"",null,null,"",null,null,"",null,null,"","",false,{"$f":"INDEX(EWEMs!$F$5:$F$29,MATCH(D38,EWEMs!$X$5:$X$29,0))","v":{"$error":"#N/A"}},"not bath","not kitchen",{"$error":"#VALUE!"},{"$f":"VLOOKUP(Observations!R38,EWEMs!$B$5:$D$29,3,FALSE)","v":{"$error":"#VALUE!"}},false,false,"",{"$f":"IF(B38=\"\",\"\",INDEX('Units and Spaces'!C:C,MATCH(Observations!B38,'Units and Spaces'!B:B,0)))","v":""}]
[null,null,"",null,null,"",null,null,"",null,null,"","",false,{"$f":"INDEX(EWEMs!$F$5:$F$29,MATCH(D39,EWEMs!$X$5:$X$29,0))","v":{"$error":"#N/A"}},"not bath","not kitchen",{"$error":"#VALUE!"},{"$f":"VLOOKUP(Observations!R39,EWEMs!$B$5:$D$29,3,FALSE)","v":{"$error":"#VALUE!"}},false,false,"",{"$f":"IF(B39=\"\",\"\",INDEX('Units and Spaces'!C:C,MATCH(Observations!B39,'Units and Spaces'!B:B,0)))","v":""}]
[null,null,"",null,null,"",null,null,"",null,null,"","",false,{"$f":"INDEX(EWEMs!$F$5:$F$29,MATCH(D40,EWEMs!$X$5:$X$29,0))","v":{"$error":"#N/A"}},"not bath","not kitchen",{"$error":"#VALUE!"},{"$f":"VLOOKUP(Observations!R40,EWEMs!$B$5:$D$29,3,FALSE)","v":{"$error":"#VALUE!"}},false,false,"",{"$f":"IF(B40=\"\",\"\",INDEX('Units and Spaces'!C:C,MATCH(Observations!B40,'Units and Spaces'!B:B,0)))","v":""}]
[null,null,"",null,null,"",null,null,"",null,null,"","",false,{"$f":"INDEX(EWEMs!$F$5:$F$29,MATCH(D41,EWEMs!$X$5:$X$29,0))","v":{"$error":"#N/A"}},"not bath","not kitchen",{"$error":"#VALUE!"},{"$f":"VLOOKUP(Observations!R41,EWEMs!$B$5:$D$29,3,FALSE)","v":{"$error":"#VALUE!"}},false,false,"",{"$f":"IF(B41=\"\",\"\",INDEX('Units and Spaces'!C:C,MATCH(Observations!B41,'Units and Spaces'!B:B,0)))","v":""}]
[null,null,"",null,null,"",null,null,"",null,null,"","",false,{"$f":"INDEX(EWEMs!$F$5:$F$29,MATCH(D42,EWEMs!$X$5:$X$29,0))","v":{"$error":"#N/A"}},"not bath","not kitchen",{"$error":"#VALUE!"},{"$f":"VLOOKUP(Observations!R42,EWEMs!$B$5:$D$29,3,FALSE)","v":{"$error":"#VALUE!"}},false,false,"",{"$f":"IF(B42=\"\",\"\",INDEX('Units and Spaces'!C:C,MATCH(Observations!B42,'Units and Spaces'!B:B,0)))","v":""}]
[null,null,"",null,null,"",null,null,"",null,null,"","",false,{"$f":"INDEX(EWEMs!$F$5:$F$29,MATCH(D43,EWEMs!$X$5:$X$29,0))","v":{"$error":"#N/A"}},"not bath","not kitchen",{"$error":"#VALUE!"},{"$f":"VLOOKUP(Observations!R43,EWEMs!$B$5:$D$29,3,FALSE)","v":{"$error":"#VALUE!"}},false,false,"",{"$f":"IF(B43=\"\",\"\",INDEX('Units and Spaces'!C:C,MATCH(Observations!B43,'Units and Spaces'!B:B,0)))","v":""}]
[null,null,"",null,null,"",null,null,"",null,null,"","",false,{"$f":"INDEX(EWEMs!$F$5:$F$29,MATCH(D44,EWEMs!$X$5:$X$29,0))","v":{"$error":"#N/A"}},"not bath","not kitchen",{"$error":"#VALUE!"},{"$f":"VLOOKUP(Observations!R44,EWEMs!$B$5:$D$29,3,FALSE)","v":{"$error":"#VALUE!"}},false,false,"",{"$f":"IF(B44=\"\",\"\",INDEX('Units and Spaces'!C:C,MATCH(Observations!B44,'Units and Spaces'!B:B,0)))","v":""}]
[null,null,"",null,null,"",null,null,"",null,null,"","",false,{"$f":"INDEX(EWEMs!$F$5:$F$29,MATCH(D45,EWEMs!$X$5:$X$29,0))","v":{"$error":"#N/A"}},"not bath","not kitchen",{"$error":"#VALUE!"},{"$f":"VLOOKUP(Observations!R45,EWEMs!$B$5:$D$29,3,FALSE)","v":{"$error":"#VALUE!"}},false,false,"",{"$f":"IF(B45=\"\",\"\",INDEX('Units and Spaces'!C:C,MATCH(Observations!B45,'Units and Spaces'!B:B,0)))","v":""}]
[null,null,"",null,null,"",null,null,"",null,null,"","",false,{"$f":"INDEX(EWEMs!$F$5:$F$29,MATCH(D46,EWEMs!$X$5:$X$29,0))","v":{"$error":"#N/A"}},"not bath","not kitchen",{"$error":"#VALUE!"},{"$f":"VLOOKUP(Observations!R46,EWEMs!$B$5:$D$29,3,FALSE)","v":{"$error":"#VALUE!"}},false,false,"",{"$f":"IF(B46=\"\",\"\",INDEX('Units and Spaces'!C:C,MATCH(Observations!B46,'Units and Spaces'!B:B,0)))","v":""}]
[null,null,"",null,null,"",null,null,"",null,null,"","",false,{"$f":"INDEX(EWEMs!$F$5:$F$29,MATCH(D47,EWEMs!$X$5:$X$29,0))","v":{"$error":"#N/A"}},"not bath","not kitchen",{"$error":"#VALUE!"},{"$f":"VLOOKUP(Observations!R47,EWEMs!$B$5:$D$29,3,FALSE)","v":{"$error":"#VALUE!"}},false,false,"",{"$f":"IF(B47=\"\",\"\",INDEX('Units and Spaces'!C:C,MATCH(Observations!B47,'Units and Spaces'!B:B,0)))","v":""}]
[null,null,"",null,null,"",null,null,"",null,null,"","",false,{"$f":"INDEX(EWEMs!$F$5:$F$29,MATCH(D48,EWEMs!$X$5:$X$29,0))","v":{"$error":"#N/A"}},"not bath","not kitchen",{"$error":"#VALUE!"},{"$f":"VLOOKUP(Observations!R48,EWEMs!$B$5:$D$29,3,FALSE)","v":{"$error":"#VALUE!"}},false,false,"",{"$f":"IF(B48=\"\",\"\",INDEX('Units and Spaces'!C:C,MATCH(Observations!B48,'Units and Spaces'!B:B,0)))","v":""}]
[null,null,"",null,null,"",null,null,"",null,null,"","",false,{"$f":"INDEX(EWEMs!$F$5:$F$29,MATCH(D49,EWEMs!$X$5:$X$29,0))","v":{"$error":"#N/A"}},"not bath","not kitchen",{"$error":"#VALUE!"},{"$f":"VLOOKUP(Observations!R49,EWEMs!$B$5:$D$29,3,FALSE)","v":{"$error":"#VALUE!"}},false,false,"",{"$f":"IF(B49=\"\",\"\",INDEX('Units and Spaces'!C:C,MATCH(Observations!B49,'Units and Spaces'!B:B,0)))","v":""}]
[null,null,"",null,null,"",null,null,"",null,null,"","",false,{"$f":"INDEX(EWEMs!$F$5:$F$29,MATCH(D50,EWEMs!$X$5:$X$29,0))","v":{"$error":"#N/A"}},"not bath","not kitchen",{"$error":"#VALUE!"},{"$f":"VLOOKUP(Observations!R50,EWEMs!$B$5:$D$29,3,FALSE)","v":{"$error":"#VALUE!"}},false,false,"",{"$f":"IF(B50=\"\",\"\",INDEX('Units and Spaces'!C:C,MATCH(Observations!B50,'Units and Spaces'!B:B,0)))","v":""}]
[null,null,"",null,null,"",null,null,"",null,null,"","",false,{"$f":"INDEX(EWEMs!$F$5:$F$29,MATCH(D51,EWEMs!$X$5:$X$29,0))","v":{"$error":"#N/A"}},"not bath","not kitchen",{"$error":"#VALUE!"},{"$f":"VLOOKUP(Observations!R51,EWEMs!$B$5:$D$29,3,FALSE)","v":{"$error":"#VALUE!"}},false,false,"",{"$f":"IF(B51=\"\",\"\",INDEX('Units and Spaces'!C:C,MATCH(Observations!B51,'Units and Spaces'!B:B,0)))","v":""}]
[null,null,"",null,null,"",null,null,"",null,null,"","",false,{"$f":"INDEX(EWEMs!$F$5:$F$29,MATCH(D52,EWEMs!$X$5:$X$29,0))","v":{"$error":"#N/A"}},"not bath","not kitchen",{"$error":"#VALUE!"},{"$f":"VLOOKUP(Observations!R52,EWEMs!$B$5:$D$29,3,FALSE)","v":{"$error":"#VALUE!"}},false,false,"",{"$f":"IF(B52=\"\",\"\",INDEX('Units and Spaces'!C:C,MATCH(Observations!B52,'Units and Spaces'!B:B,0)))","v":""}]
[null,null,"",null,null,"",null,null,"",null,null,"","",false,{"$f":"INDEX(EWEMs!$F$5:$F$29,MATCH(D53,EWEMs!$X$5:$X$29,0))","v":{"$error":"#N/A"}},"not bath","not kitchen",{"$error":"#VALUE!"},{"$f":"VLOOKUP(Observations!R53,EWEMs!$B$5:$D$29,3,FALSE)","v":{"$error":"#VALUE!"}},false,false,"",{"$f":"IF(B53=\"\",\"\",INDEX('Units and Spaces'!C:C,MATCH(Observations!B53,'Units and Spaces'!B:B,0)))","v":""}]
[null,null,"",null,null,"",null,null,"",null,null,"","",false,{"$f":"INDEX(EWEMs!$F$5:$F$29,MATCH(D54,EWEMs!$X$5:$X$29,0))","v":{"$error":"#N/A"}},"not bath","not kitchen",{"$error":"#VALUE!"},{"$f":"VLOOKUP(Observations!R54,EWEMs!$B$5:$D$29,3,FALSE)","v":{"$error":"#VALUE!"}},false,false,"",{"$f":"IF(B54=\"\",\"\",INDEX('Units and Spaces'!C:C,MATCH(Observations!B54,'Units and Spaces'!B:B,0)))","v":""}]
[null,null,"",null,null,"",null,null,"",null,null,"","",false,{"$f":"INDEX(EWEMs!$F$5:$F$29,MATCH(D55,EWEMs!$X$5:$X$29,0))","v":{"$error":"#N/A"}},"not bath","not kitchen",{"$error":"#VALUE!"},{"$f":"VLOOKUP(Observations!R55,EWEMs!$B$5:$D$29,3,FALSE)","v":{"$error":"#VALUE!"}},false,false,"",{"$f":"IF(B55=\"\",\"\",INDEX('Units and Spaces'!C:C,MATCH(Observations!B55,'Units and Spaces'!B:B,0)))","v":""}]
[null,null,"",null,null,"",null,null,"",null,null,"","",false,{"$f":"INDEX(EWEMs!$F$5:$F$29,MATCH(D56,EWEMs!$X$5:$X$29,0))","v":{"$error":"#N/A"}},"not bath","not kitchen",{"$error":"#VALUE!"},{"$f":"VLOOKUP(Observations!R56,EWEMs!$B$5:$D$29,3,FALSE)","v":{"$error":"#VALUE!"}},false,false,"",{"$f":"IF(B56=\"\",\"\",INDEX('Units and Spaces'!C:C,MATCH(Observations!B56,'Units and Spaces'!B:B,0)))","v":""}]
[null,null,"",null,null,"",null,null,"",null,null,"","",false,{"$f":"INDEX(EWEMs!$F$5:$F$29,MATCH(D57,EWEMs!$X$5:$X$29,0))","v":{"$error":"#N/A"}},"not bath","not kitchen",{"$error":"#VALUE!"},{"$f":"VLOOKUP(Observations!R57,EWEMs!$B$5:$D$29,3,FALSE)","v":{"$error":"#VALUE!"}},false,false,"",{"$f":"IF(B57=\"\",\"\",INDEX('Units and Spaces'!C:C,MATCH(Observations!B57,'Units and Spaces'!B:B,0)))","v":""}]
[null,null,"",null,null,"",null,null,"",null,null,"","",false,{"$f":"INDEX(EWEMs!$F$5:$F$29,MATCH(D58,EWEMs!$X$5:$X$29,0))","v":{"$error":"#N/A"}},"not bath","not kitchen",{"$error":"#VALUE!"},{"$f":"VLOOKUP(Observations!R58,EWEMs!$B$5:$D$29,3,FALSE)","v":{"$error":"#VALUE!"}},false,false,"",{"$f":"IF(B58=\"\",\"\",INDEX('Units and Spaces'!C:C,MATCH(Observations!B58,'Units and Spaces'!B:B,0)))","v":""}]
[null,null,"",null,null,"",null,null,"",null,null,"","",false,{"$f":"INDEX(EWEMs!$F$5:$F$29,MATCH(D59,EWEMs!$X$5:$X$29,0))","v":{"$error":"#N/A"}},"not bath","not kitchen",{"$error":"#VALUE!"},{"$f":"VLOOKUP(Observations!R59,EWEMs!$B$5:$D$29,3,FALSE)","v":{"$error":"#VALUE!"}},false,false,"",{"$f":"IF(B59=\"\",\"\",INDEX('Units and Spaces'!C:C,MATCH(Observations!B59,'Units and Spaces'!B:B,0)))","v":""}]
[null,null,"",null,null,"",null,null,"",null,null,"","",false,{"$f":"INDEX(EWEMs!$F$5:$F$29,MATCH(D60,EWEMs!$X$5:$X$29,0))","v":{"$error":"#N/A"}},"not bath","not kitchen",{"$error":"#VALUE!"},{"$f":"VLOOKUP(Observations!R60,EWEMs!$B$5:$D$29,3,FALSE)","v":{"$error":"#VALUE!"}},false,false,"",{"$f":"IF(B60=\"\",\"\",INDEX('Units and Spaces'!C:C,MATCH(Observations!B60,'Units and Spaces'!B:B,0)))","v":""}]
[null,null,"",null,null,"",null,null,"",null,null,"","",false,{"$f":"INDEX(EWEMs!$F$5:$F$29,MATCH(D61,EWEMs!$X$5:$X$29,0))","v":{"$error":"#N/A"}},"not bath","not kitchen",{"$error":"#VALUE!"},{"$f":"VLOOKUP(Observations!R61,EWEMs!$B$5:$D$29,3,FALSE)","v":{"$error":"#VALUE!"}},false,false,"",{"$f":"IF(B61=\"\",\"\",INDEX('Units and Spaces'!C:C,MATCH(Observations!B61,'Units and Spaces'!B:B,0)))","v":""}]
[null,null,"",null,null,"",null,null,"",null,null,"","",false,{"$f":"INDEX(EWEMs!$F$5:$F$29,MATCH(D62,EWEMs!$X$5:$X$29,0))","v":{"$error":"#N/A"}},"not bath","not kitchen",{"$error":"#VALUE!"},{"$f":"VLOOKUP(Observations!R62,EWEMs!$B$5:$D$29,3,FALSE)","v":{"$error":"#VALUE!"}},false,false,"",{"$f":"IF(B62=\"\",\"\",INDEX('Units and Spaces'!C:C,MATCH(Observations!B62,'Units and Spaces'!B:B,0)))","v":""}]
[null,null,"",null,null,"",null,null,"",null,null,"","",false,{"$f":"INDEX(EWEMs!$F$5:$F$29,MATCH(D63,EWEMs!$X$5:$X$29,0))","v":{"$error":"#N/A"}},"not bath","not kitchen",{"$error":"#VALUE!"},{"$f":"VLOOKUP(Observations!R63,EWEMs!$B$5:$D$29,3,FALSE)","v":{"$error":"#VALUE!"}},false,false,"",{"$f":"IF(B63=\"\",\"\",INDEX('Units and Spaces'!C:C,MATCH(Observations!B63,'Units and Spaces'!B:B,0)))","v":""}]
[null,null,"",null,null,"",null,null,"",null,null,"","",false,{"$f":"INDEX(EWEMs!$F$5:$F$29,MATCH(D64,EWEMs!$X$5:$X$29,0))","v":{"$error":"#N/A"}},"not bath","not kitchen",{"$error":"#VALUE!"},{"$f":"VLOOKUP(Observations!R64,EWEMs!$B$5:$D$29,3,FALSE)","v":{"$error":"#VALUE!"}},false,false,"",{"$f":"IF(B64=\"\",\"\",INDEX('Units and Spaces'!C:C,MATCH(Observations!B64,'Units and Spaces'!B:B,0)))","v":""}]
[null,null,"",null,null,"",null,null,"",null,null,"","",false,{"$f":"INDEX(EWEMs!$F$5:$F$29,MATCH(D65,EWEMs!$X$5:$X$29,0))","v":{"$error":"#N/A"}},"not bath","not kitchen",{"$error":"#VALUE!"},{"$f":"VLOOKUP(Observations!R65,EWEMs!$B$5:$D$29,3,FALSE)","v":{"$error":"#VALUE!"}},false,false,"",{"$f":"IF(B65=\"\",\"\",INDEX('Units and Spaces'!C:C,MATCH(Observations!B65,'Units and Spaces'!B:B,0)))","v":""}]
[null,null,"",null,null,"",null,null,"",null,null,"","",false,{"$f":"INDEX(EWEMs!$F$5:$F$29,MATCH(D66,EWEMs!$X$5:$X$29,0))","v":{"$error":"#N/A"}},"not bath","not kitchen",{"$error":"#VALUE!"},{"$f":"VLOOKUP(Observations!R66,EWEMs!$B$5:$D$29,3,FALSE)","v":{"$error":"#VALUE!"}},false,false,"",{"$f":"IF(B66=\"\",\"\",INDEX('Units and Spaces'!C:C,MATCH(Observations!B66,'Units and Spaces'!B:B,0)))","v":""}]
[null,null,"",null,null,"",null,null,"",null,null,"","",false,{"$f":"INDEX(EWEMs!$F$5:$F$29,MATCH(D67,EWEMs!$X$5:$X$29,0))","v":{"$error":"#N/A"}},"not bath","not kitchen",{"$error":"#VALUE!"},{"$f":"VLOOKUP(Observations!R67,EWEMs!$B$5:$D$29,3,FALSE)","v":{"$error":"#VALUE!"}},false,false,"",{"$f":"IF(B67=\"\",\"\",INDEX('Units and Spaces'!C:C,MATCH(Observations!B67,'Units and Spaces'!B:B,0)))","v":""}]
[null,null,"",null,null,"",null,null,"",null,null,"","",false,{"$f":"INDEX(EWEMs!$F$5:$F$29,MATCH(D68,EWEMs!$X$5:$X$29,0))","v":{"$error":"#N/A"}},"not bath","not kitchen",{"$error":"#VALUE!"},{"$f":"VLOOKUP(Observations!R68,EWEMs!$B$5:$D$29,3,FALSE)","v":{"$error":"#VALUE!"}},false,false,"",{"$f":"IF(B68=\"\",\"\",INDEX('Units and Spaces'!C:C,MATCH(Observations!B68,'Units and Spaces'!B:B,0)))","v":""}]
[null,null,"",null,null,"",null,null,"",null,null,"","",false,{"$f":"INDEX(EWEMs!$F$5:$F$29,MATCH(D69,EWEMs!$X$5:$X$29,0))","v":{"$error":"#N/A"}},"not bath","not kitchen",{"$error":"#VALUE!"},{"$f":"VLOOKUP(Observations!R69,EWEMs!$B$5:$D$29,3,FALSE)","v":{"$error":"#VALUE!"}},false,false,"",{"$f":"IF(B69=\"\",\"\",INDEX('Units and Spaces'!C:C,MATCH(Observations!B69,'Units and Spaces'!B:B,0)))","v":""}]
[null,null,"",null,null,"",null,null,"",null,null,"","",false,{"$f":"INDEX(EWEMs!$F$5:$F$29,MATCH(D70,EWEMs!$X$5:$X$29,0))","v":{"$error":"#N/A"}},"not bath","not kitchen",{"$error":"#VALUE!"},{"$f":"VLOOKUP(Observations!R70,EWEMs!$B$5:$D$29,3,FALSE)","v":{"$error":"#VALUE!"}},false,false,"",{"$f":"IF(B70=\"\",\"\",INDEX('Units and Spaces'!C:C,MATCH(Observations!B70,'Units and Spaces'!B:B,0)))","v":""}]
[null,null,"",null,null,"",null,null,"",null,null,"","",false,{"$f":"INDEX(EWEMs!$F$5:$F$29,MATCH(D71,EWEMs!$X$5:$X$29,0))","v":{"$error":"#N/A"}},"not bath","not kitchen",{"$error":"#VALUE!"},{"$f":"VLOOKUP(Observations!R71,EWEMs!$B$5:$D$29,3,FALSE)","v":{"$error":"#VALUE!"}},false,false,"",{"$f":"IF(B71=\"\",\"\",INDEX('Units and Spaces'!C:C,MATCH(Observations!B71,'Units and Spaces'!B:B,0)))","v":""}]
[null,null,{"$f":"IF(B72=\"\", \"\", IF(AND(B72<>\"\",D72=\"\"),W72,IF(ISNUMBER(SEARCH(W72,D72)),W72,\"SPACE MISMATACH\")))","v":""},null,null,{"$f":"IF(AND(N72=TRUE,E72<>\"\"), IF(ISNUMBER(SEARCH(\"compliant\", P72)),P72,IF(ISNUMBER(SEARCH(\"compliant\",Q72)),Q72,IF(E72<=O72,\"compliant\",\"noncompliant\"))),\"\")","v":""},null,null,{"$f":"IF(AND(D72=\"\",D73<>\"\"), \"No Blanks Please!\", \"\")","v":""},null,null,{"$f":"IF(OR(F72=\"compliant\",F72=\"noncompliant\"),D72&F72,D72&G72)","v":""},{"$f":"IF(C72=\"Apartment\",IF(B72=0,\"\",B72),\"\")","v":""},{"$f":"IF(OR(ISNUMBER(FIND(\"low-flow\",D72,1)), ISNUMBER(FIND(\"low-flush\",D72,1))),TRUE,FALSE)","v":false},{"$f":"INDEX(EWEMs!$F$5:$F$29,MATCH(D72,EWEMs!$X$5:$X$29,0))","v":{"$error":"#N/A"}},{"$f":"IF(OR(ISNUMBER(SEARCH(\"bath faucets\", D72)), AND( ISNUMBER(SEARCH(\"fixture\", D72)),ISNUMBER(SEARCH(\"bath\", S72)) )), IF(O72<=1, IF(AND(E72>=O72, E72<=1), \"compliant\", \"noncompliant\"), IF(AND(E72>=1, E72<=O72),\"compliant\",\"noncompliant\")), \"not bath\"\n)","v":"not bath"},{"$f":"IF(OR(ISNUMBER(SEARCH(\"kitchen faucets\",D72)),AND(ISNUMBER(SEARCH(\"fixtures\",D72)),ISNUMBER(SEARCH(\"kitchen\",S72)))),IF(O72<=1.5,IF(AND(E72>=1, E72<=1.5),\"compliant\",\"noncompliant\"),IF(AND(E72>=1.5,E72<=O72),\"compliant\",\"noncompliant\")),\"not kitchen\"\n)","v":"not kitchen"},{"$f":"LEFT(D72,(FIND(\" \",D72,1)-1))*1","v":{"$error":"#VALUE!"}},{"$f":"VLOOKUP(Observations!R72,EWEMs!$B$5:$D$29,3,FALSE)","v":{"$error":"#VALUE!"}},{"$f":"IF(ISNUMBER(E72),AND(OR(E72<0.5,E72>5),E72<>\"\"),FALSE)","v":false},{"$f":"IF(OR(B72<>\"\",D72<>\"\", E72<>\"\",G72<>\"\",H72<>\"\"), IF(N72=TRUE, IF(OR(B72=\"\", D72=\"\", E72=\"\", H72=\"\"), TRUE, FALSE), IF(OR(B72=\"\", D72=\"\", G72=\"\", H72=\"\"), TRUE, FALSE)), FALSE)","v":false},{"$f":"IF(OR(F72=\"noncompliant\", G72=\"noncompliant\"), IFERROR(LEFT(D72, LEN(_xlfn.TEXTBEFORE(D72,\"-\",-1)))&\" (Space: \"&B72&\")\", \"\"), \"\")","v":""},{"$f":"IF(B72=\"\",\"\",INDEX('Units and Spaces'!C:C,MATCH(Observations!B72,'Units and Spaces'!B:B,0)))","v":""}]
[null,null,"",null,null,"",null,null,"",null,null,"","",false,{"$f":"INDEX(EWEMs!$F$5:$F$29,MATCH(D73,EWEMs!$X$5:$X$29,0))","v":{"$error":"#N/A"}},"not bath","not kitchen",{"$error":"#VALUE!"},{"$f":"VLOOKUP(Observations!R73,EWEMs!$B$5:$D$29,3,FALSE)","v":{"$error":"#VALUE!"}},false,false,"",{"$f":"IF(B73=\"\",\"\",INDEX('Units and Spaces'!C:C,MATCH(Observations!B73,'Units and Spaces'!B:B,0)))","v":""}]
[null,null,"",null,null,"",null,null,"",null,null,"","",false,{"$f":"INDEX(EWEMs!$F$5:$F$29,MATCH(D74,EWEMs!$X$5:$X$29,0))","v":{"$error":"#N/A"}},"not bath","not kitchen",{"$error":"#VALUE!"},{"$f":"VLOOKUP(Observations!R74,EWEMs!$B$5:$D$29,3,FALSE)","v":{"$error":"#VALUE!"}},false,false,"",{"$f":"IF(B74=\"\",\"\",INDEX('Units and Spaces'!C:C,MATCH(Observations!B74,'Units and Spaces'!B:B,0)))","v":""}]
[null,null,"",null,null,"",null,null,"",null,null,"","",false,{"$f":"INDEX(EWEMs!$F$5:$F$29,MATCH(D75,EWEMs!$X$5:$X$29,0))","v":{"$error":"#N/A"}},"not bath","not kitchen",{"$error":"#VALUE!"},{"$f":"VLOOKUP(Observations!R75,EWEMs!$B$5:$D$29,3,FALSE)","v":{"$error":"#VALUE!"}},false,false,"",{"$f":"IF(B75=\"\",\"\",INDEX('Units and Spaces'!C:C,MATCH(Observations!B75,'Units and Spaces'!B:B,0)))","v":""}]
[null,null,"",null,null,"",null,null,"",null,null,"","",false,{"$f":"INDEX(EWEMs!$F$5:$F$29,MATCH(D76,EWEMs!$X$5:$X$29,0))","v":{"$error":"#N/A"}},"not bath","not kitchen",{"$error":"#VALUE!"},{"$f":"VLOOKUP(Observations!R76,EWEMs!$B$5:$D$29,3,FALSE)","v":{"$error":"#VALUE!"}},false,false,"",{"$f":"IF(B76=\"\",\"\",INDEX('Units and Spaces'!C:C,MATCH(Observations!B76,'Units and Spaces'!B:B,0)))","v":""}]
[null,null,"",null,null,"",null,null,"",null,null,"","",false,{"$f":"INDEX(EWEMs!$F$5:$F$29,MATCH(D77,EWEMs!$X$5:$X$29,0))","v":{"$error":"#N/A"}},"not bath","not kitchen",{"$error":"#VALUE!"},{"$f":"VLOOKUP(Observations!R77,EWEMs!$B$5:$D$29,3,FALSE)","v":{"$error":"#VALUE!"}},false,false,"",{"$f":"IF(B77=\"\",\"\",INDEX('Units and Spaces'!C:C,MATCH(Observations!B77,'Units and Spaces'!B:B,0)))","v":""}]
[null,null,"",null,null,"",null,null,"",null,null,"","",false,{"$f":"INDEX(EWEMs!$F$5:$F$29,MATCH(D78,EWEMs!$X$5:$X$29,0))","v":{"$error":"#N/A"}},"not bath","not kitchen",{"$error":"#VALUE!"},{"$f":"VLOOKUP(Observations!R78,EWEMs!$B$5:$D$29,3,FALSE)","v":{"$error":"#VALUE!"}},false,false,"",{"$f":"IF(B78=\"\",\"\",INDEX('Units and Spaces'!C:C,MATCH(Observations!B78,'Units and Spaces'!B:B,0)))","v":""}]
[null,null,"",null,null,"",null,null,"",null,null,"","",false,{"$f":"INDEX(EWEMs!$F$5:$F$29,MATCH(D79,EWEMs!$X$5:$X$29,0))","v":{"$error":"#N/A"}},"not bath","not kitchen",{"$error":"#VALUE!"},{"$f":"VLOOKUP(Observations!R79,EWEMs!$B$5:$D$29,3,FALSE)","v":{"$error":"#VALUE!"}},false,false,"",{"$f":"IF(B79=\"\",\"\",INDEX('Units and Spaces'!C:C,MATCH(Observations!B79,'Units and Spaces'!B:B,0)))","v":""}]
[null,null,"",null,null,"",null,null,"",null,null,"","",false,{"$f":"INDEX(EWEMs!$F$5:$F$29,MATCH(D80,EWEMs!$X$5:$X$29,0))","v":{"$error":"#N/A"}},"not bath","not kitchen",{"$error":"#VALUE!"},{"$f":"VLOOKUP(Observations!R80,EWEMs!$B$5:$D$29,3,FALSE)","v":{"$error":"#VALUE!"}},false,false,"",{"$f":"IF(B80=\"\",\"\",INDEX('Units and Spaces'!C:C,MATCH(Observations!B80,'Units and Spaces'!B:B,0)))","v":""}]
[null,null,"",null,null,"",null,null,"",null,null,"","",false,{"$f":"INDEX(EWEMs!$F$5:$F$29,MATCH(D81,EWEMs!$X$5:$X$29,0))","v":{"$error":"#N/A"}},"not bath","not kitchen",{"$error":"#VALUE!"},{"$f":"VLOOKUP(Observations!R81,EWEMs!$B$5:$D$29,3,FALSE)","v":{"$error":"#VALUE!"}},false,false,"",{"$f":"IF(B81=\"\",\"\",INDEX('Units and Spaces'!C:C,MATCH(Observations!B81,'Units and Spaces'!B:B,0)))","v":""}]
[null,null,"",null,null,"",null,null,"",null,null,"","",false,{"$f":"INDEX(EWEMs!$F$5:$F$29,MATCH(D82,EWEMs!$X$5:$X$29,0))","v":{"$error":"#N/A"}},"not bath","not kitchen",{"$error":"#VALUE!"},{"$f":"VLOOKUP(Observations!R82,EWEMs!$B$5:$D$29,3,FALSE)","v":{"$error":"#VALUE!"}},false,false,"",{"$f":"IF(B82=\"\",\"\",INDEX('Units and Spaces'!C:C,MATCH(Observations!B82,'Units and Spaces'!B:B,0)))","v":""}]
[null,null,"",null,null,"",null,null,"",null,null,"","",false,{"$f":"INDEX(EWEMs!$F$5:$F$29,MATCH(D83,EWEMs!$X$5:$X$29,0))","v":{"$error":"#N/A"}},"not bath","not kitchen",{"$error":"#VALUE!"},{"$f":"VLOOKUP(Observations!R83,EWEMs!$B$5:$D$29,3,FALSE)","v":{"$error":"#VALUE!"}},false,false,"",{"$f":"IF(B83=\"\",\"\",INDEX('Units and Spaces'!C:C,MATCH(Observations!B83,'Units and Spaces'!B:B,0)))","v":""}]
[null,null,"",null,null,"",null,null,"",null,null,"","",false,{"$f":"INDEX(EWEMs!$F$5:$F$29,MATCH(D84,EWEMs!$X$5:$X$29,0))","v":{"$error":"#N/A"}},"not bath","not kitchen",{"$error":"#VALUE!"},{"$f":"VLOOKUP(Observations!R84,EWEMs!$B$5:$D$29,3,FALSE)","v":{"$error":"#VALUE!"}},false,false,"",{"$f":"IF(B84=\"\",\"\",INDEX('Units and Spaces'!C:C,MATCH(Observations!B84,'Units and Spaces'!B:B,0)))","v":""}]
[null,null,"",null,null,"",null,null,"",null,null,"","",false,{"$f":"INDEX(EWEMs!$F$5:$F$29,MATCH(D85,EWEMs!$X$5:$X$29,0))","v":{"$error":"#N/A"}},"not bath","not kitchen",{"$error":"#VALUE!"},{"$f":"VLOOKUP(Observations!R85,EWEMs!$B$5:$D$29,3,FALSE)","v":{"$error":"#VALUE!"}},false,false,"",{"$f":"IF(B85=\"\",\"\",INDEX('Units and Spaces'!C:C,MATCH(Observations!B85,'Units and Spaces'!B:B,0)))","v":""}]
[null,null,"",null,null,"",null,null,"",null,null,"","",false,{"$f":"INDEX(EWEMs!$F$5:$F$29,MATCH(D86,EWEMs!$X$5:$X$29,0))","v":{"$error":"#N/A"}},"not bath","not kitchen",{"$error":"#VALUE!"},{"$f":"VLOOKUP(Observations!R86,EWEMs!$B$5:$D$29,3,FALSE)","v":{"$error":"#VALUE!"}},false,false,"",{"$f":"IF(B86=\"\",\"\",INDEX('Units and Spaces'!C:C,MATCH(Observations!B86,'Units and Spaces'!B:B,0)))","v":""}]
[null,null,"",null,null,"",null,null,"",null,null,"","",false,{"$f":"INDEX(EWEMs!$F$5:$F$29,MATCH(D87,EWEMs!$X$5:$X$29,0))","v":{"$error":"#N/A"}},"not bath","not kitchen",{"$error":"#VALUE!"},{"$f":"VLOOKUP(Observations!R87,EWEMs!$B$5:$D$29,3,FALSE)","v":{"$error":"#VALUE!"}},false,false,"",{"$f":"IF(B87=\"\",\"\",INDEX('Units and Spaces'!C:C,MATCH(Observations!B87,'Units and Spaces'!B:B,0)))","v":""}]
[null,null,"",null,null,"",null,null,"",null,null,"","",false,{"$f":"INDEX(EWEMs!$F$5:$F$29,MATCH(D88,EWEMs!$X$5:$X$29,0))","v":{"$error":"#N/A"}},"not bath","not kitchen",{"$error":"#VALUE!"},{"$f":"VLOOKUP(Observations!R88,EWEMs!$B$5:$D$29,3,FALSE)","v":{"$error":"#VALUE!"}},false,false,"",{"$f":"IF(B88=\"\",\"\",INDEX('Units and Spaces'!C:C,MATCH(Observations!B88,'Units and Spaces'!B:B,0)))","v":""}]
[null,null,"",null,null,"",null,null,"",null,null,"","",false,{"$f":"INDEX(EWEMs!$F$5:$F$29,MATCH(D89,EWEMs!$X$5:$X$29,0))","v":{"$error":"#N/A"}},"not bath","not kitchen",{"$error":"#VALUE!"},{"$f":"VLOOKUP(Observations!R89,EWEMs!$B$5:$D$29,3,FALSE)","v":{"$error":"#VALUE!"}},false,false,"",{"$f":"IF(B89=\"\",\"\",INDEX('Units and Spaces'!C:C,MATCH(Observations!B89,'Units and Spaces'!B:B,0)))","v":""}]
[null,null,"",null,null,"",null,null,"",null,null,"","",false,{"$f":"INDEX(EWEMs!$F$5:$F$29,MATCH(D90,EWEMs!$X$5:$X$29,0))","v":{"$error":"#N/A"}},"not bath","not kitchen",{"$error":"#VALUE!"},{"$f":"VLOOKUP(Observations!R90,EWEMs!$B$5:$D$29,3,FALSE)","v":{"$error":"#VALUE!"}},false,false,"",{"$f":"IF(B90=\"\",\"\",INDEX('Units and Spaces'!C:C,MATCH(Observations!B90,'Units and Spaces'!B:B,0)))","v":""}]
[null,null,"",null,null,"",null,null,"",null,null,"","",false,{"$f":"INDEX(EWEMs!$F$5:$F$29,MATCH(D91,EWEMs!$X$5:$X$29,0))","v":{"$error":"#N/A"}},"not bath","not kitchen",{"$error":"#VALUE!"},{"$f":"VLOOKUP(Observations!R91,EWEMs!$B$5:$D$29,3,FALSE)","v":{"$error":"#VALUE!"}},false,false,"",{"$f":"IF(B91=\"\",\"\",INDEX('Units and Spaces'!C:C,MATCH(Observations!B91,'Units and Spaces'!B:B,0)))","v":""}]
[null,null,"",null,null,"",null,null,"",null,null,"","",false,{"$f":"INDEX(EWEMs!$F$5:$F$29,MATCH(D92,EWEMs!$X$5:$X$29,0))","v":{"$error":"#N/A"}},"not bath","not kitchen",{"$error":"#VALUE!"},{"$f":"VLOOKUP(Observations!R92,EWEMs!$B$5:$D$29,3,FALSE)","v":{"$error":"#VALUE!"}},false,false,"",{"$f":"IF(B92=\"\",\"\",INDEX('Units and Spaces'!C:C,MATCH(Observations!B92,'Units and Spaces'!B:B,0)))","v":""}]
[null,null,"",null,null,"",null,null,"",null,null,"","",false,{"$f":"INDEX(EWEMs!$F$5:$F$29,MATCH(D93,EWEMs!$X$5:$X$29,0))","v":{"$error":"#N/A"}},"not bath","not kitchen",{"$error":"#VALUE!"},{"$f":"VLOOKUP(Observations!R93,EWEMs!$B$5:$D$29,3,FALSE)","v":{"$error":"#VALUE!"}},false,false,"",{"$f":"IF(B93=\"\",\"\",INDEX('Units and Spaces'!C:C,MATCH(Observations!B93,'Units and Spaces'!B:B,0)))","v":""}]
[null,null,"",null,null,"",null,null,"",null,null,"","",false,{"$f":"INDEX(EWEMs!$F$5:$F$29,MATCH(D94,EWEMs!$X$5:$X$29,0))","v":{"$error":"#N/A"}},"not bath","not kitchen",{"$error":"#VALUE!"},{"$f":"VLOOKUP(Observations!R94,EWEMs!$B$5:$D$29,3,FALSE)","v":{"$error":"#VALUE!"}},false,false,"",{"$f":"IF(B94=\"\",\"\",INDEX('Units and Spaces'!C:C,MATCH(Observations!B94,'Units and Spaces'!B:B,0)))","v":""}]
[null,null,"",null,null,"",null,null,"",null,null,"","",false,{"$f":"INDEX(EWEMs!$F$5:$F$29,MATCH(D95,EWEMs!$X$5:$X$29,0))","v":{"$error":"#N/A"}},"not bath","not kitchen",{"$error":"#VALUE!"},{"$f":"VLOOKUP(Observations!R95,EWEMs!$B$5:$D$29,3,FALSE)","v":{"$error":"#VALUE!"}},false,false,"",{"$f":"IF(B95=\"\",\"\",INDEX('Units and Spaces'!C:C,MATCH(Observations!B95,'Units and Spaces'!B:B,0)))","v":""}]
[null,null,"",null,null,"",null,null,"",null,null,"","",false,{"$f":"INDEX(EWEMs!$F$5:$F$29,MATCH(D96,EWEMs!$X$5:$X$29,0))","v":{"$error":"#N/A"}},"not bath","not kitchen",{"$error":"#VALUE!"},{"$f":"VLOOKUP(Observations!R96,EWEMs!$B$5:$D$29,3,FALSE)","v":{"$error":"#VALUE!"}},false,false,"",{"$f":"IF(B96=\"\",\"\",INDEX('Units and Spaces'!C:C,MATCH(Observations!B96,'Units and Spaces'!B:B,0)))","v":""}]
[null,null,"",null,null,"",null,null,"",null,null,"","",false,{"$f":"INDEX(EWEMs!$F$5:$F$29,MATCH(D97,EWEMs!$X$5:$X$29,0))","v":{"$error":"#N/A"}},"not bath","not kitchen",{"$error":"#VALUE!"},{"$f":"VLOOKUP(Observations!R97,EWEMs!$B$5:$D$29,3,FALSE)","v":{"$error":"#VALUE!"}},false,false,"",{"$f":"IF(B97=\"\",\"\",INDEX('Units and Spaces'!C:C,MATCH(Observations!B97,'Units and Spaces'!B:B,0)))","v":""}]
[null,null,"",null,null,"",null,null,"",null,null,"","",false,{"$f":"INDEX(EWEMs!$F$5:$F$29,MATCH(D98,EWEMs!$X$5:$X$29,0))","v":{"$error":"#N/A"}},"not bath","not kitchen",{"$error":"#VALUE!"},{"$f":"VLOOKUP(Observations!R98,EWEMs!$B$5:$D$29,3,FALSE)","v":{"$error":"#VALUE!"}},false,false,"",{"$f":"IF(B98=\"\",\"\",INDEX('Units and Spaces'!C:C,MATCH(Observations!B98,'Units and Spaces'!B:B,0)))","v":""}]
[null,null,"",null,null,"",null,null,"",null,null,"","",false,{"$f":"INDEX(EWEMs!$F$5:$F$29,MATCH(D99,EWEMs!$X$5:$X$29,0))","v":{"$error":"#N/A"}},"not bath","not kitchen",{"$error":"#VALUE!"},{"$f":"VLOOKUP(Observations!R99,EWEMs!$B$5:$D$29,3,FALSE)","v":{"$error":"#VALUE!"}},false,false,"",{"$f":"IF(B99=\"\",\"\",INDEX('Units and Spaces'!C:C,MATCH(Observations!B99,'Units and Spaces'!B:B,0)))","v":""}]
[null,null,"",null,null,"",null,null,"",null,null,"","",false,{"$f":"INDEX(EWEMs!$F$5:$F$29,MATCH(D100,EWEMs!$X$5:$X$29,0))","v":{"$error":"#N/A"}},"not bath","not kitchen",{"$error":"#VALUE!"},{"$f":"VLOOKUP(Observations!R100,EWEMs!$B$5:$D$29,3,FALSE)","v":{"$error":"#VALUE!"}},false,false,"",{"$f":"IF(B100=\"\",\"\",INDEX('Units and Spaces'!C:C,MATCH(Observations!B100,'Units and Spaces'!B:B,0)))","v":""}]
[null,null,"",null,null,"",null,null,"",null,null,"","",false,{"$f":"INDEX(EWEMs!$F$5:$F$29,MATCH(D101,EWEMs!$X$5:$X$29,0))","v":{"$error":"#N/A"}},"not bath","not kitchen",{"$error":"#VALUE!"},{"$f":"VLOOKUP(Observations!R101,EWEMs!$B$5:$D$29,3,FALSE)","v":{"$error":"#VALUE!"}},false,false,"",{"$f":"IF(B101=\"\",\"\",INDEX('Units and Spaces'!C:C,MATCH(Observations!B101,'Units and Spaces'!B:B,0)))","v":""}]
[null,null,"",null,null,"",null,null,"",null,null,"","",false,{"$f":"INDEX(EWEMs!$F$5:$F$29,MATCH(D102,EWEMs!$X$5:$X$29,0))","v":{"$error":"#N/A"}},"not bath","not kitchen",{"$error":"#VALUE!"},{"$f":"VLOOKUP(Observations!R102,EWEMs!$B$5:$D$29,3,FALSE)","v":{"$error":"#VALUE!"}},false,false,"",{"$f":"IF(B102=\"\",\"\",INDEX('Units and Spaces'!C:C,MATCH(Observations!B102,'Units and Spaces'!B:B,0)))","v":""}]
[null,null,"",null,null,"",null,null,"",null,null,"","",false,{"$f":"INDEX(EWEMs!$F$5:$F$29,MATCH(D103,EWEMs!$X$5:$X$29,0))","v":{"$error":"#N/A"}},"not bath","not kitchen",{"$error":"#VALUE!"},{"$f":"VLOOKUP(Observations!R103,EWEMs!$B$5:$D$29,3,FALSE)","v":{"$error":"#VALUE!"}},false,false,"",{"$f":"IF(B103=\"\",\"\",INDEX('Units and Spaces'!C:C,MATCH(Observations!B103,'Units and Spaces'!B:B,0)))","v":""}]
[null,null,"",null,null,"",null,null,"",null,null,"","",false,{"$f":"INDEX(EWEMs!$F$5:$F$29,MATCH(D104,EWEMs!$X$5:$X$29,0))","v":{"$error":"#N/A"}},"not bath","not kitchen",{"$error":"#VALUE!"},{"$f":"VLOOKUP(Observations!R104,EWEMs!$B$5:$D$29,3,FALSE)","v":{"$error":"#VALUE!"}},false,false,"",{"$f":"IF(B104=\"\",\"\",INDEX('Units and Spaces'!C:C,MATCH(Observations!B104,'Units and Spaces'!B:B,0)))","v":""}]
[null,null,"",null,null,"",null,null,"",null,null,"","",false,{"$f":"INDEX(EWEMs!$F$5:$F$29,MATCH(D105,EWEMs!$X$5:$X$29,0))","v":{"$error":"#N/A"}},"not bath","not kitchen",{"$error":"#VALUE!"},{"$f":"VLOOKUP(Observations!R105,EWEMs!$B$5:$D$29,3,FALSE)","v":{"$error":"#VALUE!"}},false,false,"",{"$f":"IF(B105=\"\",\"\",INDEX('Units and Spaces'!C:C,MATCH(Observations!B105,'Units and Spaces'!B:B,0)))","v":""}]
[null,null,"",null,null,"",null,null,"",null,null,"","",false,{"$f":"INDEX(EWEMs!$F$5:$F$29,MATCH(D106,EWEMs!$X$5:$X$29,0))","v":{"$error":"#N/A"}},"not bath","not kitchen",{"$error":"#VALUE!"},{"$f":"VLOOKUP(Observations!R106,EWEMs!$B$5:$D$29,3,FALSE)","v":{"$error":"#VALUE!"}},false,false,"",{"$f":"IF(B106=\"\",\"\",INDEX('Units and Spaces'!C:C,MATCH(Observations!B106,'Units and Spaces'!B:B,0)))","v":""}]
[null,null,"",null,null,"",null,null,"",null,null,"","",false,{"$f":"INDEX(EWEMs!$F$5:$F$29,MATCH(D107,EWEMs!$X$5:$X$29,0))","v":{"$error":"#N/A"}},"not bath","not kitchen",{"$error":"#VALUE!"},{"$f":"VLOOKUP(Observations!R107,EWEMs!$B$5:$D$29,3,FALSE)","v":{"$error":"#VALUE!"}},false,false,"",{"$f":"IF(B107=\"\",\"\",INDEX('Units and Spaces'!C:C,MATCH(Observations!B107,'Units and Spaces'!B:B,0)))","v":""}]
[null,null,"",null,null,"",null,null,"",null,null,"","",false,{"$f":"INDEX(EWEMs!$F$5:$F$29,MATCH(D108,EWEMs!$X$5:$X$29,0))","v":{"$error":"#N/A"}},"not bath","not kitchen",{"$error":"#VALUE!"},{"$f":"VLOOKUP(Observations!R108,EWEMs!$B$5:$D$29,3,FALSE)","v":{"$error":"#VALUE!"}},false,false,"",{"$f":"IF(B108=\"\",\"\",INDEX('Units and Spaces'!C:C,MATCH(Observations!B108,'Units and Spaces'!B:B,0)))","v":""}]
[null,null,"",null,null,"",null,null,"",null,null,"","",false,{"$f":"INDEX(EWEMs!$F$5:$F$29,MATCH(D109,EWEMs!$X$5:$X$29,0))","v":{"$error":"#N/A"}},"not bath","not kitchen",{"$error":"#VALUE!"},{"$f":"VLOOKUP(Observations!R109,EWEMs!$B$5:$D$29,3,FALSE)","v":{"$error":"#VALUE!"}},false,false,"",{"$f":"IF(B109=\"\",\"\",INDEX('Units and Spaces'!C:C,MATCH(Observations!B109,'Units and Spaces'!B:B,0)))","v":""}]
[null,null,"",null,null,"",null,null,"",null,null,"","",false,{"$f":"INDEX(EWEMs!$F$5:$F$29,MATCH(D110,EWEMs!$X$5:$X$29,0))","v":{"$error":"#N/A"}},"not bath","not kitchen",{"$error":"#VALUE!"},{"$f":"VLOOKUP(Observations!R110,EWEMs!$B$5:$D$29,3,FALSE)","v":{"$error":"#VALUE!"}},false,false,"",{"$f":"IF(B110=\"\",\"\",INDEX('Units and Spaces'!C:C,MATCH(Observations!B110,'Units and Spaces'!B:B,0)))","v":""}]
[null,null,"",null,null,"",null,null,"",null,null,"","",false,{"$f":"INDEX(EWEMs!$F$5:$F$29,MATCH(D111,EWEMs!$X$5:$X$29,0))","v":{"$error":"#N/A"}},"not bath","not kitchen",{"$error":"#VALUE!"},{"$f":"VLOOKUP(Observations!R111,EWEMs!$B$5:$D$29,3,FALSE)","v":{"$error":"#VALUE!"}},false,false,"",{"$f":"IF(B111=\"\",\"\",INDEX('Units and Spaces'!C:C,MATCH(Observations!B111,'Units and Spaces'!B:B,0)))","v":""}]
[null,null,"",null,null,"",null,null,"",null,null,"","",false,{"$f":"INDEX(EWEMs!$F$5:$F$29,MATCH(D112,EWEMs!$X$5:$X$29,0))","v":{"$error":"#N/A"}},"not bath","not kitchen",{"$error":"#VALUE!"},{"$f":"VLOOKUP(Observations!R112,EWEMs!$B$5:$D$29,3,FALSE)","v":{"$error":"#VALUE!"}},false,false,"",{"$f":"IF(B112=\"\",\"\",INDEX('Units and Spaces'!C:C,MATCH(Observations!B112,'Units and Spaces'!B:B,0)))","v":""}]
[null,null,"",null,null,"",null,null,"",null,null,"","",false,{"$f":"INDEX(EWEMs!$F$5:$F$29,MATCH(D113,EWEMs!$X$5:$X$29,0))","v":{"$error":"#N/A"}},"not bath","not kitchen",{"$error":"#VALUE!"},{"$f":"VLOOKUP(Observations!R113,EWEMs!$B$5:$D$29,3,FALSE)","v":{"$error":"#VALUE!"}},false,false,"",{"$f":"IF(B113=\"\",\"\",INDEX('Units and Spaces'!C:C,MATCH(Observations!B113,'Units and Spaces'!B:B,0)))","v":""}]
[null,null,"",null,null,"",null,null,"",null,null,"","",false,{"$f":"INDEX(EWEMs!$F$5:$F$29,MATCH(D114,EWEMs!$X$5:$X$29,0))","v":{"$error":"#N/A"}},"not bath","not kitchen",{"$error":"#VALUE!"},{"$f":"VLOOKUP(Observations!R114,EWEMs!$B$5:$D$29,3,FALSE)","v":{"$error":"#VALUE!"}},false,false,"",{"$f":"IF(B114=\"\",\"\",INDEX('Units and Spaces'!C:C,MATCH(Observations!B114,'Units and Spaces'!B:B,0)))","v":""}]
[null,null,"",null,null,"",null,null,"",null,null,"","",false,{"$f":"INDEX(EWEMs!$F$5:$F$29,MATCH(D115,EWEMs!$X$5:$X$29,0))","v":{"$error":"#N/A"}},"not bath","not kitchen",{"$error":"#VALUE!"},{"$f":"VLOOKUP(Observations!R115,EWEMs!$B$5:$D$29,3,FALSE)","v":{"$error":"#VALUE!"}},false,false,"",{"$f":"IF(B115=\"\",\"\",INDEX('Units and Spaces'!C:C,MATCH(Observations!B115,'Units and Spaces'!B:B,0)))","v":""}]
[null,null,"",null,null,"",null,null,"",null,null,"","",false,{"$f":"INDEX(EWEMs!$F$5:$F$29,MATCH(D116,EWEMs!$X$5:$X$29,0))","v":{"$error":"#N/A"}},"not bath","not kitchen",{"$error":"#VALUE!"},{"$f":"VLOOKUP(Observations!R116,EWEMs!$B$5:$D$29,3,FALSE)","v":{"$error":"#VALUE!"}},false,false,"",{"$f":"IF(B116=\"\",\"\",INDEX('Units and Spaces'!C:C,MATCH(Observations!B116,'Units and Spaces'!B:B,0)))","v":""}]
[null,null,"",null,null,"",null,null,"",null,null,"","",false,{"$f":"INDEX(EWEMs!$F$5:$F$29,MATCH(D117,EWEMs!$X$5:$X$29,0))","v":{"$error":"#N/A"}},"not bath","not kitchen",{"$error":"#VALUE!"},{"$f":"VLOOKUP(Observations!R117,EWEMs!$B$5:$D$29,3,FALSE)","v":{"$error":"#VALUE!"}},false,false,"",{"$f":"IF(B117=\"\",\"\",INDEX('Units and Spaces'!C:C,MATCH(Observations!B117,'Units and Spaces'!B:B,0)))","v":""}]
[null,null,"",null,null,"",null,null,"",null,null,"","",false,{"$f":"INDEX(EWEMs!$F$5:$F$29,MATCH(D118,EWEMs!$X$5:$X$29,0))","v":{"$error":"#N/A"}},"not bath","not kitchen",{"$error":"#VALUE!"},{"$f":"VLOOKUP(Observations!R118,EWEMs!$B$5:$D$29,3,FALSE)","v":{"$error":"#VALUE!"}},false,false,"",{"$f":"IF(B118=\"\",\"\",INDEX('Units and Spaces'!C:C,MATCH(Observations!B118,'Units and Spaces'!B:B,0)))","v":""}]
[null,null,"",null,null,"",null,null,"",null,null,"","",false,{"$f":"INDEX(EWEMs!$F$5:$F$29,MATCH(D119,EWEMs!$X$5:$X$29,0))","v":{"$error":"#N/A"}},"not bath","not kitchen",{"$error":"#VALUE!"},{"$f":"VLOOKUP(Observations!R119,EWEMs!$B$5:$D$29,3,FALSE)","v":{"$error":"#VALUE!"}},false,false,"",{"$f":"IF(B119=\"\",\"\",INDEX('Units and Spaces'!C:C,MATCH(Observations!B119,'Units and Spaces'!B:B,0)))","v":""}]
[null,null,"",null,null,"",null,null,"",null,null,"","",false,{"$f":"INDEX(EWEMs!$F$5:$F$29,MATCH(D120,EWEMs!$X$5:$X$29,0))","v":{"$error":"#N/A"}},"not bath","not kitchen",{"$error":"#VALUE!"},{"$f":"VLOOKUP(Observations!R120,EWEMs!$B$5:$D$29,3,FALSE)","v":{"$error":"#VALUE!"}},false,false,"",{"$f":"IF(B120=\"\",\"\",INDEX('Units and Spaces'!C:C,MATCH(Observations!B120,'Units and Spaces'!B:B,0)))","v":""}]
[null,null,"",null,null,"",null,null,"",null,null,"","",false,{"$f":"INDEX(EWEMs!$F$5:$F$29,MATCH(D121,EWEMs!$X$5:$X$29,0))","v":{"$error":"#N/A"}},"not bath","not kitchen",{"$error":"#VALUE!"},{"$f":"VLOOKUP(Observations!R121,EWEMs!$B$5:$D$29,3,FALSE)","v":{"$error":"#VALUE!"}},false,false,"",{"$f":"IF(B121=\"\",\"\",INDEX('Units and Spaces'!C:C,MATCH(Observations!B121,'Units and Spaces'!B:B,0)))","v":""}]
[null,null,"",null,null,"",null,null,"",null,null,"","",false,{"$f":"INDEX(EWEMs!$F$5:$F$29,MATCH(D122,EWEMs!$X$5:$X$29,0))","v":{"$error":"#N/A"}},"not bath","not kitchen",{"$error":"#VALUE!"},{"$f":"VLOOKUP(Observations!R122,EWEMs!$B$5:$D$29,3,FALSE)","v":{"$error":"#VALUE!"}},false,false,"",{"$f":"IF(B122=\"\",\"\",INDEX('Units and Spaces'!C:C,MATCH(Observations!B122,'Units and Spaces'!B:B,0)))","v":""}]
[null,null,"",null,null,"",null,null,"",null,null,"","",false,{"$f":"INDEX(EWEMs!$F$5:$F$29,MATCH(D123,EWEMs!$X$5:$X$29,0))","v":{"$error":"#N/A"}},"not bath","not kitchen",{"$error":"#VALUE!"},{"$f":"VLOOKUP(Observations!R123,EWEMs!$B$5:$D$29,3,FALSE)","v":{"$error":"#VALUE!"}},false,false,"",{"$f":"IF(B123=\"\",\"\",INDEX('Units and Spaces'!C:C,MATCH(Observations!B123,'Units and Spaces'!B:B,0)))","v":""}]
[null,null,"",null,null,"",null,null,"",null,null,"","",false,{"$f":"INDEX(EWEMs!$F$5:$F$29,MATCH(D124,EWEMs!$X$5:$X$29,0))","v":{"$error":"#N/A"}},"not bath","not kitchen",{"$error":"#VALUE!"},{"$f":"VLOOKUP(Observations!R124,EWEMs!$B$5:$D$29,3,FALSE)","v":{"$error":"#VALUE!"}},false,false,"",{"$f":"IF(B124=\"\",\"\",INDEX('Units and Spaces'!C:C,MATCH(Observations!B124,'Units and Spaces'!B:B,0)))","v":""}]
[null,null,"",null,null,"",null,null,"",null,null,"","",false,{"$f":"INDEX(EWEMs!$F$5:$F$29,MATCH(D125,EWEMs!$X$5:$X$29,0))","v":{"$error":"#N/A"}},"not bath","not kitchen",{"$error":"#VALUE!"},{"$f":"VLOOKUP(Observations!R125,EWEMs!$B$5:$D$29,3,FALSE)","v":{"$error":"#VALUE!"}},false,false,"",{"$f":"IF(B125=\"\",\"\",INDEX('Units and Spaces'!C:C,MATCH(Observations!B125,'Units and Spaces'!B:B,0)))","v":""}]
[null,null,"",null,null,"",null,null,"",null,null,"","",false,{"$f":"INDEX(EWEMs!$F$5:$F$29,MATCH(D126,EWEMs!$X$5:$X$29,0))","v":{"$error":"#N/A"}},"not bath","not kitchen",{"$error":"#VALUE!"},{"$f":"VLOOKUP(Observations!R126,EWEMs!$B$5:$D$29,3,FALSE)","v":{"$error":"#VALUE!"}},false,false,"",{"$f":"IF(B126=\"\",\"\",INDEX('Units and Spaces'!C:C,MATCH(Observations!B126,'Units and Spaces'!B:B,0)))","v":""}]
[null,null,"",null,null,"",null,null,"",null,null,"","",false,{"$f":"INDEX(EWEMs!$F$5:$F$29,MATCH(D127,EWEMs!$X$5:$X$29,0))","v":{"$error":"#N/A"}},"not bath","not kitchen",{"$error":"#VALUE!"},{"$f":"VLOOKUP(Observations!R127,EWEMs!$B$5:$D$29,3,FALSE)","v":{"$error":"#VALUE!"}},false,false,"",{"$f":"IF(B127=\"\",\"\",INDEX('Units and Spaces'!C:C,MATCH(Observations!B127,'Units and Spaces'!B:B,0)))","v":""}]
[null,null,"",null,null,"",null,null,"",null,null,"","",false,{"$f":"INDEX(EWEMs!$F$5:$F$29,MATCH(D128,EWEMs!$X$5:$X$29,0))","v":{"$error":"#N/A"}},"not bath","not kitchen",{"$error":"#VALUE!"},{"$f":"VLOOKUP(Observations!R128,EWEMs!$B$5:$D$29,3,FALSE)","v":{"$error":"#VALUE!"}},false,false,"",{"$f":"IF(B128=\"\",\"\",INDEX('Units and Spaces'!C:C,MATCH(Observations!B128,'Units and Spaces'!B:B,0)))","v":""}]
[null,null,"",null,null,"",null,null,"",null,null,"","",false,{"$f":"INDEX(EWEMs!$F$5:$F$29,MATCH(D129,EWEMs!$X$5:$X$29,0))","v":{"$error":"#N/A"}},"not bath","not kitchen",{"$error":"#VALUE!"},{"$f":"VLOOKUP(Observations!R129,EWEMs!$B$5:$D$29,3,FALSE)","v":{"$error":"#VALUE!"}},false,false,"",{"$f":"IF(B129=\"\",\"\",INDEX('Units and Spaces'!C:C,MATCH(Observations!B129,'Units and Spaces'!B:B,0)))","v":""}]
[null,null,"",null,null,"",null,null,"",null,null,"","",false,{"$f":"INDEX(EWEMs!$F$5:$F$29,MATCH(D130,EWEMs!$X$5:$X$29,0))","v":{"$error":"#N/A"}},"not bath","not kitchen",{"$error":"#VALUE!"},{"$f":"VLOOKUP(Observations!R130,EWEMs!$B$5:$D$29,3,FALSE)","v":{"$error":"#VALUE!"}},false,false,"",{"$f":"IF(B130=\"\",\"\",INDEX('Units and Spaces'!C:C,MATCH(Observations!B130,'Units and Spaces'!B:B,0)))","v":""}]
[null,null,"",null,null,"",null,null,"",null,null,"","",false,{"$f":"INDEX(EWEMs!$F$5:$F$29,MATCH(D131,EWEMs!$X$5:$X$29,0))","v":{"$error":"#N/A"}},"not bath","not kitchen",{"$error":"#VALUE!"},{"$f":"VLOOKUP(Observations!R131,EWEMs!$B$5:$D$29,3,FALSE)","v":{"$error":"#VALUE!"}},false,false,"",{"$f":"IF(B131=\"\",\"\",INDEX('Units and Spaces'!C:C,MATCH(Observations!B131,'Units and Spaces'!B:B,0)))","v":""}]
[null,null,"",null,null,"",null,null,"",null,null,"","",false,{"$f":"INDEX(EWEMs!$F$5:$F$29,MATCH(D132,EWEMs!$X$5:$X$29,0))","v":{"$error":"#N/A"}},"not bath","not kitchen",{"$error":"#VALUE!"},{"$f":"VLOOKUP(Observations!R132,EWEMs!$B$5:$D$29,3,FALSE)","v":{"$error":"#VALUE!"}},false,false,"",{"$f":"IF(B132=\"\",\"\",INDEX('Units and Spaces'!C:C,MATCH(Observations!B132,'Units and Spaces'!B:B,0)))","v":""}]
[null,null,"",null,null,"",null,null,"",null,null,"","",false,{"$f":"INDEX(EWEMs!$F$5:$F$29,MATCH(D133,EWEMs!$X$5:$X$29,0))","v":{"$error":"#N/A"}},"not bath","not kitchen",{"$error":"#VALUE!"},{"$f":"VLOOKUP(Observations!R133,EWEMs!$B$5:$D$29,3,FALSE)","v":{"$error":"#VALUE!"}},false,false,"",{"$f":"IF(B133=\"\",\"\",INDEX('Units and Spaces'!C:C,MATCH(Observations!B133,'Units and Spaces'!B:B,0)))","v":""}]
[null,null,"",null,null,"",null,null,"",null,null,"","",false,{"$f":"INDEX(EWEMs!$F$5:$F$29,MATCH(D134,EWEMs!$X$5:$X$29,0))","v":{"$error":"#N/A"}},"not bath","not kitchen",{"$error":"#VALUE!"},{"$f":"VLOOKUP(Observations!R134,EWEMs!$B$5:$D$29,3,FALSE)","v":{"$error":"#VALUE!"}},false,false,"",{"$f":"IF(B134=\"\",\"\",INDEX('Units and Spaces'!C:C,MATCH(Observations!B134,'Units and Spaces'!B:B,0)))","v":""}]
[null,null,"",null,null,"",null,null,"",null,null,"","",false,{"$f":"INDEX(EWEMs!$F$5:$F$29,MATCH(D135,EWEMs!$X$5:$X$29,0))","v":{"$error":"#N/A"}},"not bath","not kitchen",{"$error":"#VALUE!"},{"$f":"VLOOKUP(Observations!R135,EWEMs!$B$5:$D$29,3,FALSE)","v":{"$error":"#VALUE!"}},false,false,"",{"$f":"IF(B135=\"\",\"\",INDEX('Units and Spaces'!C:C,MATCH(Observations!B135,'Units and Spaces'!B:B,0)))","v":""}]
[null,null,{"$f":"IF(B136=\"\", \"\", IF(AND(B136<>\"\",D136=\"\"),W136,IF(ISNUMBER(SEARCH(W136,D136)),W136,\"SPACE MISMATACH\")))","v":""},null,null,{"$f":"IF(AND(N136=TRUE,E136<>\"\"), IF(ISNUMBER(SEARCH(\"compliant\", P136)),P136,IF(ISNUMBER(SEARCH(\"compliant\",Q136)),Q136,IF(E136<=O136,\"compliant\",\"noncompliant\"))),\"\")","v":""},null,null,{"$f":"IF(AND(D136=\"\",D137<>\"\"), \"No Blanks Please!\", \"\")","v":""},null,null,{"$f":"IF(OR(F136=\"compliant\",F136=\"noncompliant\"),D136&F136,D136&G136)","v":""},{"$f":"IF(C136=\"Apartment\",IF(B136=0,\"\",B136),\"\")","v":""},{"$f":"IF(OR(ISNUMBER(FIND(\"low-flow\",D136,1)), ISNUMBER(FIND(\"low-flush\",D136,1))),TRUE,FALSE)","v":false},{"$f":"INDEX(EWEMs!$F$5:$F$29,MATCH(D136,EWEMs!$X$5:$X$29,0))","v":{"$error":"#N/A"}},{"$f":"IF(OR(ISNUMBER(SEARCH(\"bath faucets\", D136)), AND( ISNUMBER(SEARCH(\"fixture\", D136)),ISNUMBER(SEARCH(\"bath\", S136)) )), IF(O136<=1, IF(AND(E136>=O136, E136<=1), \"compliant\", \"noncompliant\"), IF(AND(E136>=1, E136<=O136),\"compliant\",\"noncompliant\")), \"not bath\"\n)","v":"not bath"},{"$f":"IF(OR(ISNUMBER(SEARCH(\"kitchen faucets\",D136)),AND(ISNUMBER(SEARCH(\"fixtures\",D136)),ISNUMBER(SEARCH(\"kitchen\",S136)))),IF(O136<=1.5,IF(AND(E136>=1, E136<=1.5),\"compliant\",\"noncompliant\"),IF(AND(E136>=1.5,E136<=O136),\"compliant\",\"noncompliant\")),\"not kitchen\"\n)","v":"not kitchen"},{"$f":"LEFT(D136,(FIND(\" \",D136,1)-1))*1","v":{"$error":"#VALUE!"}},{"$f":"VLOOKUP(Observations!R136,EWEMs!$B$5:$D$29,3,FALSE)","v":{"$error":"#VALUE!"}},{"$f":"IF(ISNUMBER(E136),AND(OR(E136<0.5,E136>5),E136<>\"\"),FALSE)","v":false},{"$f":"IF(OR(B136<>\"\",D136<>\"\", E136<>\"\",G136<>\"\",H136<>\"\"), IF(N136=TRUE, IF(OR(B136=\"\", D136=\"\", E136=\"\", H136=\"\"), TRUE, FALSE), IF(OR(B136=\"\", D136=\"\", G136=\"\", H136=\"\"), TRUE, FALSE)), FALSE)","v":false},{"$f":"IF(OR(F136=\"noncompliant\", G136=\"noncompliant\"), IFERROR(LEFT(D136, LEN(_xlfn.TEXTBEFORE(D136,\"-\",-1)))&\" (Space: \"&B136&\")\", \"\"), \"\")","v":""},{"$f":"IF(B136=\"\",\"\",INDEX('Units and Spaces'!C:C,MATCH(Observations!B136,'Units and Spaces'!B:B,0)))","v":""}]
[null,null,"",null,null,"",null,null,"",null,null,"","",false,{"$f":"INDEX(EWEMs!$F$5:$F$29,MATCH(D137,EWEMs!$X$5:$X$29,0))","v":{"$error":"#N/A"}},"not bath","not kitchen",{"$error":"#VALUE!"},{"$f":"VLOOKUP(Observations!R137,EWEMs!$B$5:$D$29,3,FALSE)","v":{"$error":"#VALUE!"}},false,false,"",{"$f":"IF(B137=\"\",\"\",INDEX('Units and Spaces'!C:C,MATCH(Observations!B137,'Units and Spaces'!B:B,0)))","v":""}]
[null,null,"",null,null,"",null,null,"",null,null,"","",false,{"$f":"INDEX(EWEMs!$F$5:$F$29,MATCH(D138,EWEMs!$X$5:$X$29,0))","v":{"$error":"#N/A"}},"not bath","not kitchen",{"$error":"#VALUE!"},{"$f":"VLOOKUP(Observations!R138,EWEMs!$B$5:$D$29,3,FALSE)","v":{"$error":"#VALUE!"}},false,false,"",{"$f":"IF(B138=\"\",\"\",INDEX('Units and Spaces'!C:C,MATCH(Observations!B138,'Units and Spaces'!B:B,0)))","v":""}]
[null,null,"",null,null,"",null,null,"",null,null,"","",false,{"$f":"INDEX(EWEMs!$F$5:$F$29,MATCH(D139,EWEMs!$X$5:$X$29,0))","v":{"$error":"#N/A"}},"not bath","not kitchen",{"$error":"#VALUE!"},{"$f":"VLOOKUP(Observations!R139,EWEMs!$B$5:$D$29,3,FALSE)","v":{"$error":"#VALUE!"}},false,false,"",{"$f":"IF(B139=\"\",\"\",INDEX('Units and Spaces'!C:C,MATCH(Observations!B139,'Units and Spaces'!B:B,0)))","v":""}]
[null,null,"",null,null,"",null,null,"",null,null,"","",false,{"$f":"INDEX(EWEMs!$F$5:$F$29,MATCH(D140,EWEMs!$X$5:$X$29,0))","v":{"$error":"#N/A"}},"not bath","not kitchen",{"$error":"#VALUE!"},{"$f":"VLOOKUP(Observations!R140,EWEMs!$B$5:$D$29,3,FALSE)","v":{"$error":"#VALUE!"}},false,false,"",{"$f":"IF(B140=\"\",\"\",INDEX('Units and Spaces'!C:C,MATCH(Observations!B140,'Units and Spaces'!B:B,0)))","v":""}]
[null,null,"",null,null,"",null,null,"",null,null,"","",false,{"$f":"INDEX(EWEMs!$F$5:$F$29,MATCH(D141,EWEMs!$X$5:$X$29,0))","v":{"$error":"#N/A"}},"not bath","not kitchen",{"$error":"#VALUE!"},{"$f":"VLOOKUP(Observations!R141,EWEMs!$B$5:$D$29,3,FALSE)","v":{"$error":"#VALUE!"}},false,false,"",{"$f":"IF(B141=\"\",\"\",INDEX('Units and Spaces'!C:C,MATCH(Observations!B141,'Units and Spaces'!B:B,0)))","v":""}]
[null,null,"",null,null,"",null,null,"",null,null,"","",false,{"$f":"INDEX(EWEMs!$F$5:$F$29,MATCH(D142,EWEMs!$X$5:$X$29,0))","v":{"$error":"#N/A"}},"not bath","not kitchen",{"$error":"#VALUE!"},{"$f":"VLOOKUP(Observations!R142,EWEMs!$B$5:$D$29,3,FALSE)","v":{"$error":"#VALUE!"}},false,false,"",{"$f":"IF(B142=\"\",\"\",INDEX('Units and Spaces'!C:C,MATCH(Observations!B142,'Units and Spaces'!B:B,0)))","v":""}]
[null,null,"",null,null,"",null,null,"",null,null,"","",false,{"$f":"INDEX(EWEMs!$F$5:$F$29,MATCH(D143,EWEMs!$X$5:$X$29,0))","v":{"$error":"#N/A"}},"not bath","not kitchen",{"$error":"#VALUE!"},{"$f":"VLOOKUP(Observations!R143,EWEMs!$B$5:$D$29,3,FALSE)","v":{"$error":"#VALUE!"}},false,false,"",{"$f":"IF(B143=\"\",\"\",INDEX('Units and Spaces'!C:C,MATCH(Observations!B143,'Units and Spaces'!B:B,0)))","v":""}]
[null,null,"",null,null,"",null,null,"",null,null,"","",false,{"$f":"INDEX(EWEMs!$F$5:$F$29,MATCH(D144,EWEMs!$X$5:$X$29,0))","v":{"$error":"#N/A"}},"not bath","not kitchen",{"$error":"#VALUE!"},{"$f":"VLOOKUP(Observations!R144,EWEMs!$B$5:$D$29,3,FALSE)","v":{"$error":"#VALUE!"}},false,false,"",{"$f":"IF(B144=\"\",\"\",INDEX('Units and Spaces'!C:C,MATCH(Observations!B144,'Units and Spaces'!B:B,0)))","v":""}]
[null,null,"",null,null,"",null,null,"",null,null,"","",false,{"$f":"INDEX(EWEMs!$F$5:$F$29,MATCH(D145,EWEMs!$X$5:$X$29,0))","v":{"$error":"#N/A"}},"not bath","not kitchen",{"$error":"#VALUE!"},{"$f":"VLOOKUP(Observations!R145,EWEMs!$B$5:$D$29,3,FALSE)","v":{"$error":"#VALUE!"}},false,false,"",{"$f":"IF(B145=\"\",\"\",INDEX('Units and Spaces'!C:C,MATCH(Observations!B145,'Units and Spaces'!B:B,0)))","v":""}]
[null,null,"",null,null,"",null,null,"",null,null,"","",false,{"$f":"INDEX(EWEMs!$F$5:$F$29,MATCH(D146,EWEMs!$X$5:$X$29,0))","v":{"$error":"#N/A"}},"not bath","not kitchen",{"$error":"#VALUE!"},{"$f":"VLOOKUP(Observations!R146,EWEMs!$B$5:$D$29,3,FALSE)","v":{"$error":"#VALUE!"}},false,false,"",{"$f":"IF(B146=\"\",\"\",INDEX('Units and Spaces'!C:C,MATCH(Observations!B146,'Units and Spaces'!B:B,0)))","v":""}]
[null,null,"",null,null,"",null,null,"",null,null,"","",false,{"$f":"INDEX(EWEMs!$F$5:$F$29,MATCH(D147,EWEMs!$X$5:$X$29,0))","v":{"$error":"#N/A"}},"not bath","not kitchen",{"$error":"#VALUE!"},{"$f":"VLOOKUP(Observations!R147,EWEMs!$B$5:$D$29,3,FALSE)","v":{"$error":"#VALUE!"}},false,false,"",{"$f":"IF(B147=\"\",\"\",INDEX('Units and Spaces'!C:C,MATCH(Observations!B147,'Units and Spaces'!B:B,0)))","v":""}]
[null,null,"",null,null,"",null,null,"",null,null,"","",false,{"$f":"INDEX(EWEMs!$F$5:$F$29,MATCH(D148,EWEMs!$X$5:$X$29,0))","v":{"$error":"#N/A"}},"not bath","not kitchen",{"$error":"#VALUE!"},{"$f":"VLOOKUP(Observations!R148,EWEMs!$B$5:$D$29,3,FALSE)","v":{"$error":"#VALUE!"}},false,false,"",{"$f":"IF(B148=\"\",\"\",INDEX('Units and Spaces'!C:C,MATCH(Observations!B148,'Units and Spaces'!B:B,0)))","v":""}]
[null,null,"",null,null,"",null,null,"",null,null,"","",false,{"$f":"INDEX(EWEMs!$F$5:$F$29,MATCH(D149,EWEMs!$X$5:$X$29,0))","v":{"$error":"#N/A"}},"not bath","not kitchen",{"$error":"#VALUE!"},{"$f":"VLOOKUP(Observations!R149,EWEMs!$B$5:$D$29,3,FALSE)","v":{"$error":"#VALUE!"}},false,false,"",{"$f":"IF(B149=\"\",\"\",INDEX('Units and Spaces'!C:C,MATCH(Observations!B149,'Units and Spaces'!B:B,0)))","v":""}]
[null,null,"",null,null,"",null,null,"",null,null,"","",false,{"$f":"INDEX(EWEMs!$F$5:$F$29,MATCH(D150,EWEMs!$X$5:$X$29,0))","v":{"$error":"#N/A"}},"not bath","not kitchen",{"$error":"#VALUE!"},{"$f":"VLOOKUP(Observations!R150,EWEMs!$B$5:$D$29,3,FALSE)","v":{"$error":"#VALUE!"}},false,false,"",{"$f":"IF(B150=\"\",\"\",INDEX('Units and Spaces'!C:C,MATCH(Observations!B150,'Units and Spaces'!B:B,0)))","v":""}]
[null,null,"",null,null,"",null,null,"",null,null,"","",false,{"$f":"INDEX(EWEMs!$F$5:$F$29,MATCH(D151,EWEMs!$X$5:$X$29,0))","v":{"$error":"#N/A"}},"not bath","not kitchen",{"$error":"#VALUE!"},{"$f":"VLOOKUP(Observations!R151,EWEMs!$B$5:$D$29,3,FALSE)","v":{"$error":"#VALUE!"}},false,false,"",{"$f":"IF(B151=\"\",\"\",INDEX('Units and Spaces'!C:C,MATCH(Observations!B151,'Units and Spaces'!B:B,0)))","v":""}]
[null,null,"",null,null,"",null,null,"",null,null,"","",false,{"$f":"INDEX(EWEMs!$F$5:$F$29,MATCH(D152,EWEMs!$X$5:$X$29,0))","v":{"$error":"#N/A"}},"not bath","not kitchen",{"$error":"#VALUE!"},{"$f":"VLOOKUP(Observations!R152,EWEMs!$B$5:$D$29,3,FALSE)","v":{"$error":"#VALUE!"}},false,false,"",{"$f":"IF(B152=\"\",\"\",INDEX('Units and Spaces'!C:C,MATCH(Observations!B152,'Units and Spaces'!B:B,0)))","v":""}]
[null,null,"",null,null,"",null,null,"",null,null,"","",false,{"$f":"INDEX(EWEMs!$F$5:$F$29,MATCH(D153,EWEMs!$X$5:$X$29,0))","v":{"$error":"#N/A"}},"not bath","not kitchen",{"$error":"#VALUE!"},{"$f":"VLOOKUP(Observations!R153,EWEMs!$B$5:$D$29,3,FALSE)","v":{"$error":"#VALUE!"}},false,false,"",{"$f":"IF(B153=\"\",\"\",INDEX('Units and Spaces'!C:C,MATCH(Observations!B153,'Units and Spaces'!B:B,0)))","v":""}]
[null,null,"",null,null,"",null,null,"",null,null,"","",false,{"$f":"INDEX(EWEMs!$F$5:$F$29,MATCH(D154,EWEMs!$X$5:$X$29,0))","v":{"$error":"#N/A"}},"not bath","not kitchen",{"$error":"#VALUE!"},{"$f":"VLOOKUP(Observations!R154,EWEMs!$B$5:$D$29,3,FALSE)","v":{"$error":"#VALUE!"}},false,false,"",{"$f":"IF(B154=\"\",\"\",INDEX('Units and Spaces'!C:C,MATCH(Observations!B154,'Units and Spaces'!B:B,0)))","v":""}]
[null,null,"",null,null,"",null,null,"",null,null,"","",false,{"$f":"INDEX(EWEMs!$F$5:$F$29,MATCH(D155,EWEMs!$X$5:$X$29,0))","v":{"$error":"#N/A"}},"not bath","not kitchen",{"$error":"#VALUE!"},{"$f":"VLOOKUP(Observations!R155,EWEMs!$B$5:$D$29,3,FALSE)","v":{"$error":"#VALUE!"}},false,false,"",{"$f":"IF(B155=\"\",\"\",INDEX('Units and Spaces'!C:C,MATCH(Observations!B155,'Units and Spaces'!B:B,0)))","v":""}]
[null,null,"",null,null,"",null,null,"",null,null,"","",false,{"$f":"INDEX(EWEMs!$F$5:$F$29,MATCH(D156,EWEMs!$X$5:$X$29,0))","v":{"$error":"#N/A"}},"not bath","not kitchen",{"$error":"#VALUE!"},{"$f":"VLOOKUP(Observations!R156,EWEMs!$B$5:$D$29,3,FALSE)","v":{"$error":"#VALUE!"}},false,false,"",{"$f":"IF(B156=\"\",\"\",INDEX('Units and Spaces'!C:C,MATCH(Observations!B156,'Units and Spaces'!B:B,0)))","v":""}]
[null,null,"",null,null,"",null,null,"",null,null,"","",false,{"$f":"INDEX(EWEMs!$F$5:$F$29,MATCH(D157,EWEMs!$X$5:$X$29,0))","v":{"$error":"#N/A"}},"not bath","not kitchen",{"$error":"#VALUE!"},{"$f":"VLOOKUP(Observations!R157,EWEMs!$B$5:$D$29,3,FALSE)","v":{"$error":"#VALUE!"}},false,false,"",{"$f":"IF(B157=\"\",\"\",INDEX('Units and Spaces'!C:C,MATCH(Observations!B157,'Units and Spaces'!B:B,0)))","v":""}]
[null,null,"",null,null,"",null,null,"",null,null,"","",false,{"$f":"INDEX(EWEMs!$F$5:$F$29,MATCH(D158,EWEMs!$X$5:$X$29,0))","v":{"$error":"#N/A"}},"not bath","not kitchen",{"$error":"#VALUE!"},{"$f":"VLOOKUP(Observations!R158,EWEMs!$B$5:$D$29,3,FALSE)","v":{"$error":"#VALUE!"}},false,false,"",{"$f":"IF(B158=\"\",\"\",INDEX('Units and Spaces'!C:C,MATCH(Observations!B158,'Units and Spaces'!B:B,0)))","v":""}]
[null,null,"",null,null,"",null,null,"",null,null,"","",false,{"$f":"INDEX(EWEMs!$F$5:$F$29,MATCH(D159,EWEMs!$X$5:$X$29,0))","v":{"$error":"#N/A"}},"not bath","not kitchen",{"$error":"#VALUE!"},{"$f":"VLOOKUP(Observations!R159,EWEMs!$B$5:$D$29,3,FALSE)","v":{"$error":"#VALUE!"}},false,false,"",{"$f":"IF(B159=\"\",\"\",INDEX('Units and Spaces'!C:C,MATCH(Observations!B159,'Units and Spaces'!B:B,0)))","v":""}]
[null,null,"",null,null,"",null,null,"",null,null,"","",false,{"$f":"INDEX(EWEMs!$F$5:$F$29,MATCH(D160,EWEMs!$X$5:$X$29,0))","v":{"$error":"#N/A"}},"not bath","not kitchen",{"$error":"#VALUE!"},{"$f":"VLOOKUP(Observations!R160,EWEMs!$B$5:$D$29,3,FALSE)","v":{"$error":"#VALUE!"}},false,false,"",{"$f":"IF(B160=\"\",\"\",INDEX('Units and Spaces'!C:C,MATCH(Observations!B160,'Units and Spaces'!B:B,0)))","v":""}]
[null,null,"",null,null,"",null,null,"",null,null,"","",false,{"$f":"INDEX(EWEMs!$F$5:$F$29,MATCH(D161,EWEMs!$X$5:$X$29,0))","v":{"$error":"#N/A"}},"not bath","not kitchen",{"$error":"#VALUE!"},{"$f":"VLOOKUP(Observations!R161,EWEMs!$B$5:$D$29,3,FALSE)","v":{"$error":"#VALUE!"}},false,false,"",{"$f":"IF(B161=\"\",\"\",INDEX('Units and Spaces'!C:C,MATCH(Observations!B161,'Units and Spaces'!B:B,0)))","v":""}]
[null,null,"",null,null,"",null,null,"",null,null,"","",false,{"$f":"INDEX(EWEMs!$F$5:$F$29,MATCH(D162,EWEMs!$X$5:$X$29,0))","v":{"$error":"#N/A"}},"not bath","not kitchen",{"$error":"#VALUE!"},{"$f":"VLOOKUP(Observations!R162,EWEMs!$B$5:$D$29,3,FALSE)","v":{"$error":"#VALUE!"}},false,false,"",{"$f":"IF(B162=\"\",\"\",INDEX('Units and Spaces'!C:C,MATCH(Observations!B162,'Units and Spaces'!B:B,0)))","v":""}]
[null,null,"",null,null,"",null,null,"",null,null,"","",false,{"$f":"INDEX(EWEMs!$F$5:$F$29,MATCH(D163,EWEMs!$X$5:$X$29,0))","v":{"$error":"#N/A"}},"not bath","not kitchen",{"$error":"#VALUE!"},{"$f":"VLOOKUP(Observations!R163,EWEMs!$B$5:$D$29,3,FALSE)","v":{"$error":"#VALUE!"}},false,false,"",{"$f":"IF(B163=\"\",\"\",INDEX('Units and Spaces'!C:C,MATCH(Observations!B163,'Units and Spaces'!B:B,0)))","v":""}]
[null,null,"",null,null,"",null,null,"",null,null,"","",false,{"$f":"INDEX(EWEMs!$F$5:$F$29,MATCH(D164,EWEMs!$X$5:$X$29,0))","v":{"$error":"#N/A"}},"not bath","not kitchen",{"$error":"#VALUE!"},{"$f":"VLOOKUP(Observations!R164,EWEMs!$B$5:$D$29,3,FALSE)","v":{"$error":"#VALUE!"}},false,false,"",{"$f":"IF(B164=\"\",\"\",INDEX('Units and Spaces'!C:C,MATCH(Observations!B164,'Units and Spaces'!B:B,0)))","v":""}]
[null,null,"",null,null,"",null,null,"",null,null,"","",false,{"$f":"INDEX(EWEMs!$F$5:$F$29,MATCH(D165,EWEMs!$X$5:$X$29,0))","v":{"$error":"#N/A"}},"not bath","not kitchen",{"$error":"#VALUE!"},{"$f":"VLOOKUP(Observations!R165,EWEMs!$B$5:$D$29,3,FALSE)","v":{"$error":"#VALUE!"}},false,false,"",{"$f":"IF(B165=\"\",\"\",INDEX('Units and Spaces'!C:C,MATCH(Observations!B165,'Units and Spaces'!B:B,0)))","v":""}]
[null,null,"",null,null,"",null,null,"",null,null,"","",false,{"$f":"INDEX(EWEMs!$F$5:$F$29,MATCH(D166,EWEMs!$X$5:$X$29,0))","v":{"$error":"#N/A"}},"not bath","not kitchen",{"$error":"#VALUE!"},{"$f":"VLOOKUP(Observations!R166,EWEMs!$B$5:$D$29,3,FALSE)","v":{"$error":"#VALUE!"}},false,false,"",{"$f":"IF(B166=\"\",\"\",INDEX('Units and Spaces'!C:C,MATCH(Observations!B166,'Units and Spaces'!B:B,0)))","v":""}]
[null,null,"",null,null,"",null,null,"",null,null,"","",false,{"$f":"INDEX(EWEMs!$F$5:$F$29,MATCH(D167,EWEMs!$X$5:$X$29,0))","v":{"$error":"#N/A"}},"not bath","not kitchen",{"$error":"#VALUE!"},{"$f":"VLOOKUP(Observations!R167,EWEMs!$B$5:$D$29,3,FALSE)","v":{"$error":"#VALUE!"}},false,false,"",{"$f":"IF(B167=\"\",\"\",INDEX('Units and Spaces'!C:C,MATCH(Observations!B167,'Units and Spaces'!B:B,0)))","v":""}]
[null,null,"",null,null,"",null,null,"",null,null,"","",false,{"$f":"INDEX(EWEMs!$F$5:$F$29,MATCH(D168,EWEMs!$X$5:$X$29,0))","v":{"$error":"#N/A"}},"not bath","not kitchen",{"$error":"#VALUE!"},{"$f":"VLOOKUP(Observations!R168,EWEMs!$B$5:$D$29,3,FALSE)","v":{"$error":"#VALUE!"}},false,false,"",{"$f":"IF(B168=\"\",\"\",INDEX('Units and Spaces'!C:C,MATCH(Observations!B168,'Units and Spaces'!B:B,0)))","v":""}]
[null,null,"",null,null,"",null,null,"",null,null,"","",false,{"$f":"INDEX(EWEMs!$F$5:$F$29,MATCH(D169,EWEMs!$X$5:$X$29,0))","v":{"$error":"#N/A"}},"not bath","not kitchen",{"$error":"#VALUE!"},{"$f":"VLOOKUP(Observations!R169,EWEMs!$B$5:$D$29,3,FALSE)","v":{"$error":"#VALUE!"}},false,false,"",{"$f":"IF(B169=\"\",\"\",INDEX('Units and Spaces'!C:C,MATCH(Observations!B169,'Units and Spaces'!B:B,0)))","v":""}]
[null,null,"",null,null,"",null,null,"",null,null,"","",false,{"$f":"INDEX(EWEMs!$F$5:$F$29,MATCH(D170,EWEMs!$X$5:$X$29,0))","v":{"$error":"#N/A"}},"not bath","not kitchen",{"$error":"#VALUE!"},{"$f":"VLOOKUP(Observations!R170,EWEMs!$B$5:$D$29,3,FALSE)","v":{"$error":"#VALUE!"}},false,false,"",{"$f":"IF(B170=\"\",\"\",INDEX('Units and Spaces'!C:C,MATCH(Observations!B170,'Units and Spaces'!B:B,0)))","v":""}]
[null,null,"",null,null,"",null,null,"",null,null,"","",false,{"$f":"INDEX(EWEMs!$F$5:$F$29,MATCH(D171,EWEMs!$X$5:$X$29,0))","v":{"$error":"#N/A"}},"not bath","not kitchen",{"$error":"#VALUE!"},{"$f":"VLOOKUP(Observations!R171,EWEMs!$B$5:$D$29,3,FALSE)","v":{"$error":"#VALUE!"}},false,false,"",{"$f":"IF(B171=\"\",\"\",INDEX('Units and Spaces'!C:C,MATCH(Observations!B171,'Units and Spaces'!B:B,0)))","v":""}]
[null,null,"",null,null,"",null,null,"",null,null,"","",false,{"$f":"INDEX(EWEMs!$F$5:$F$29,MATCH(D172,EWEMs!$X$5:$X$29,0))","v":{"$error":"#N/A"}},"not bath","not kitchen",{"$error":"#VALUE!"},{"$f":"VLOOKUP(Observations!R172,EWEMs!$B$5:$D$29,3,FALSE)","v":{"$error":"#VALUE!"}},false,false,"",{"$f":"IF(B172=\"\",\"\",INDEX('Units and Spaces'!C:C,MATCH(Observations!B172,'Units and Spaces'!B:B,0)))","v":""}]
[null,null,"",null,null,"",null,null,"",null,null,"","",false,{"$f":"INDEX(EWEMs!$F$5:$F$29,MATCH(D173,EWEMs!$X$5:$X$29,0))","v":{"$error":"#N/A"}},"not bath","not kitchen",{"$error":"#VALUE!"},{"$f":"VLOOKUP(Observations!R173,EWEMs!$B$5:$D$29,3,FALSE)","v":{"$error":"#VALUE!"}},false,false,"",{"$f":"IF(B173=\"\",\"\",INDEX('Units and Spaces'!C:C,MATCH(Observations!B173,'Units and Spaces'!B:B,0)))","v":""}]
[null,null,"",null,null,"",null,null,"",null,null,"","",false,{"$f":"INDEX(EWEMs!$F$5:$F$29,MATCH(D174,EWEMs!$X$5:$X$29,0))","v":{"$error":"#N/A"}},"not bath","not kitchen",{"$error":"#VALUE!"},{"$f":"VLOOKUP(Observations!R174,EWEMs!$B$5:$D$29,3,FALSE)","v":{"$error":"#VALUE!"}},false,false,"",{"$f":"IF(B174=\"\",\"\",INDEX('Units and Spaces'!C:C,MATCH(Observations!B174,'Units and Spaces'!B:B,0)))","v":""}]
[null,null,"",null,null,"",null,null,"",null,null,"","",false,{"$f":"INDEX(EWEMs!$F$5:$F$29,MATCH(D175,EWEMs!$X$5:$X$29,0))","v":{"$error":"#N/A"}},"not bath","not kitchen",{"$error":"#VALUE!"},{"$f":"VLOOKUP(Observations!R175,EWEMs!$B$5:$D$29,3,FALSE)","v":{"$error":"#VALUE!"}},false,false,"",{"$f":"IF(B175=\"\",\"\",INDEX('Units and Spaces'!C:C,MATCH(Observations!B175,'Units and Spaces'!B:B,0)))","v":""}]
[null,null,"",null,null,"",null,null,"",null,null,"","",false,{"$f":"INDEX(EWEMs!$F$5:$F$29,MATCH(D176,EWEMs!$X$5:$X$29,0))","v":{"$error":"#N/A"}},"not bath","not kitchen",{"$error":"#VALUE!"},{"$f":"VLOOKUP(Observations!R176,EWEMs!$B$5:$D$29,3,FALSE)","v":{"$error":"#VALUE!"}},false,false,"",{"$f":"IF(B176=\"\",\"\",INDEX('Units and Spaces'!C:C,MATCH(Observations!B176,'Units and Spaces'!B:B,0)))","v":""}]
[null,null,"",null,null,"",null,null,"",null,null,"","",false,{"$f":"INDEX(EWEMs!$F$5:$F$29,MATCH(D177,EWEMs!$X$5:$X$29,0))","v":{"$error":"#N/A"}},"not bath","not kitchen",{"$error":"#VALUE!"},{"$f":"VLOOKUP(Observations!R177,EWEMs!$B$5:$D$29,3,FALSE)","v":{"$error":"#VALUE!"}},false,false,"",{"$f":"IF(B177=\"\",\"\",INDEX('Units and Spaces'!C:C,MATCH(Observations!B177,'Units and Spaces'!B:B,0)))","v":""}]
[null,null,"",null,null,"",null,null,"",null,null,"","",false,{"$f":"INDEX(EWEMs!$F$5:$F$29,MATCH(D178,EWEMs!$X$5:$X$29,0))","v":{"$error":"#N/A"}},"not bath","not kitchen",{"$error":"#VALUE!"},{"$f":"VLOOKUP(Observations!R178,EWEMs!$B$5:$D$29,3,FALSE)","v":{"$error":"#VALUE!"}},false,false,"",{"$f":"IF(B178=\"\",\"\",INDEX('Units and Spaces'!C:C,MATCH(Observations!B178,'Units and Spaces'!B:B,0)))","v":""}]
[null,null,"",null,null,"",null,null,"",null,null,"","",false,{"$f":"INDEX(EWEMs!$F$5:$F$29,MATCH(D179,EWEMs!$X$5:$X$29,0))","v":{"$error":"#N/A"}},"not bath","not kitchen",{"$error":"#VALUE!"},{"$f":"VLOOKUP(Observations!R179,EWEMs!$B$5:$D$29,3,FALSE)","v":{"$error":"#VALUE!"}},false,false,"",{"$f":"IF(B179=\"\",\"\",INDEX('Units and Spaces'!C:C,MATCH(Observations!B179,'Units and Spaces'!B:B,0)))","v":""}]
[null,null,"",null,null,"",null,null,"",null,null,"","",false,{"$f":"INDEX(EWEMs!$F$5:$F$29,MATCH(D180,EWEMs!$X$5:$X$29,0))","v":{"$error":"#N/A"}},"not bath","not kitchen",{"$error":"#VALUE!"},{"$f":"VLOOKUP(Observations!R180,EWEMs!$B$5:$D$29,3,FALSE)","v":{"$error":"#VALUE!"}},false,false,"",{"$f":"IF(B180=\"\",\"\",INDEX('Units and Spaces'!C:C,MATCH(Observations!B180,'Units and Spaces'!B:B,0)))","v":""}]
[null,null,"",null,null,"",null,null,"",null,null,"","",false,{"$f":"INDEX(EWEMs!$F$5:$F$29,MATCH(D181,EWEMs!$X$5:$X$29,0))","v":{"$error":"#N/A"}},"not bath","not kitchen",{"$error":"#VALUE!"},{"$f":"VLOOKUP(Observations!R181,EWEMs!$B$5:$D$29,3,FALSE)","v":{"$error":"#VALUE!"}},false,false,"",{"$f":"IF(B181=\"\",\"\",INDEX('Units and Spaces'!C:C,MATCH(Observations!B181,'Units and Spaces'!B:B,0)))","v":""}]
[null,null,"",null,null,"",null,null,"",null,null,"","",false,{"$f":"INDEX(EWEMs!$F$5:$F$29,MATCH(D182,EWEMs!$X$5:$X$29,0))","v":{"$error":"#N/A"}},"not bath","not kitchen",{"$error":"#VALUE!"},{"$f":"VLOOKUP(Observations!R182,EWEMs!$B$5:$D$29,3,FALSE)","v":{"$error":"#VALUE!"}},false,false,"",{"$f":"IF(B182=\"\",\"\",INDEX('Units and Spaces'!C:C,MATCH(Observations!B182,'Units and Spaces'!B:B,0)))","v":""}]
[null,null,"",null,null,"",null,null,"",null,null,"","",false,{"$f":"INDEX(EWEMs!$F$5:$F$29,MATCH(D183,EWEMs!$X$5:$X$29,0))","v":{"$error":"#N/A"}},"not bath","not kitchen",{"$error":"#VALUE!"},{"$f":"VLOOKUP(Observations!R183,EWEMs!$B$5:$D$29,3,FALSE)","v":{"$error":"#VALUE!"}},false,false,"",{"$f":"IF(B183=\"\",\"\",INDEX('Units and Spaces'!C:C,MATCH(Observations!B183,'Units and Spaces'!B:B,0)))","v":""}]
[null,null,"",null,null,"",null,null,"",null,null,"","",false,{"$f":"INDEX(EWEMs!$F$5:$F$29,MATCH(D184,EWEMs!$X$5:$X$29,0))","v":{"$error":"#N/A"}},"not bath","not kitchen",{"$error":"#VALUE!"},{"$f":"VLOOKUP(Observations!R184,EWEMs!$B$5:$D$29,3,FALSE)","v":{"$error":"#VALUE!"}},false,false,"",{"$f":"IF(B184=\"\",\"\",INDEX('Units and Spaces'!C:C,MATCH(Observations!B184,'Units and Spaces'!B:B,0)))","v":""}]
[null,null,"",null,null,"",null,null,"",null,null,"","",false,{"$f":"INDEX(EWEMs!$F$5:$F$29,MATCH(D185,EWEMs!$X$5:$X$29,0))","v":{"$error":"#N/A"}},"not bath","not kitchen",{"$error":"#VALUE!"},{"$f":"VLOOKUP(Observations!R185,EWEMs!$B$5:$D$29,3,FALSE)","v":{"$error":"#VALUE!"}},false,false,"",{"$f":"IF(B185=\"\",\"\",INDEX('Units and Spaces'!C:C,MATCH(Observations!B185,'Units and Spaces'!B:B,0)))","v":""}]
[null,null,"",null,null,"",null,null,"",null,null,"","",false,{"$f":"INDEX(EWEMs!$F$5:$F$29,MATCH(D186,EWEMs!$X$5:$X$29,0))","v":{"$error":"#N/A"}},"not bath","not kitchen",{"$error":"#VALUE!"},{"$f":"VLOOKUP(Observations!R186,EWEMs!$B$5:$D$29,3,FALSE)","v":{"$error":"#VALUE!"}},false,false,"",{"$f":"IF(B186=\"\",\"\",INDEX('Units and Spaces'!C:C,MATCH(Observations!B186,'Units and Spaces'!B:B,0)))","v":""}]
[null,null,"",null,null,"",null,null,"",null,null,"","",false,{"$f":"INDEX(EWEMs!$F$5:$F$29,MATCH(D187,EWEMs!$X$5:$X$29,0))","v":{"$error":"#N/A"}},"not bath","not kitchen",{"$error":"#VALUE!"},{"$f":"VLOOKUP(Observations!R187,EWEMs!$B$5:$D$29,3,FALSE)","v":{"$error":"#VALUE!"}},false,false,"",{"$f":"IF(B187=\"\",\"\",INDEX('Units and Spaces'!C:C,MATCH(Observations!B187,'Units and Spaces'!B:B,0)))","v":""}]
[null,null,"",null,null,"",null,null,"",null,null,"","",false,{"$f":"INDEX(EWEMs!$F$5:$F$29,MATCH(D188,EWEMs!$X$5:$X$29,0))","v":{"$error":"#N/A"}},"not bath","not kitchen",{"$error":"#VALUE!"},{"$f":"VLOOKUP(Observations!R188,EWEMs!$B$5:$D$29,3,FALSE)","v":{"$error":"#VALUE!"}},false,false,"",{"$f":"IF(B188=\"\",\"\",INDEX('Units and Spaces'!C:C,MATCH(Observations!B188,'Units and Spaces'!B:B,0)))","v":""}]
[null,null,"",null,null,"",null,null,"",null,null,"","",false,{"$f":"INDEX(EWEMs!$F$5:$F$29,MATCH(D189,EWEMs!$X$5:$X$29,0))","v":{"$error":"#N/A"}},"not bath","not kitchen",{"$error":"#VALUE!"},{"$f":"VLOOKUP(Observations!R189,EWEMs!$B$5:$D$29,3,FALSE)","v":{"$error":"#VALUE!"}},false,false,"",{"$f":"IF(B189=\"\",\"\",INDEX('Units and Spaces'!C:C,MATCH(Observations!B189,'Units and Spaces'!B:B,0)))","v":""}]
[null,null,"",null,null,"",null,null,"",null,null,"","",false,{"$f":"INDEX(EWEMs!$F$5:$F$29,MATCH(D190,EWEMs!$X$5:$X$29,0))","v":{"$error":"#N/A"}},"not bath","not kitchen",{"$error":"#VALUE!"},{"$f":"VLOOKUP(Observations!R190,EWEMs!$B$5:$D$29,3,FALSE)","v":{"$error":"#VALUE!"}},false,false,"",{"$f":"IF(B190=\"\",\"\",INDEX('Units and Spaces'!C:C,MATCH(Observations!B190,'Units and Spaces'!B:B,0)))","v":""}]
[null,null,"",null,null,"",null,null,"",null,null,"","",false,{"$f":"INDEX(EWEMs!$F$5:$F$29,MATCH(D191,EWEMs!$X$5:$X$29,0))","v":{"$error":"#N/A"}},"not bath","not kitchen",{"$error":"#VALUE!"},{"$f":"VLOOKUP(Observations!R191,EWEMs!$B$5:$D$29,3,FALSE)","v":{"$error":"#VALUE!"}},false,false,"",{"$f":"IF(B191=\"\",\"\",INDEX('Units and Spaces'!C:C,MATCH(Observations!B191,'Units and Spaces'!B:B,0)))","v":""}]
[null,null,"",null,null,"",null,null,"",null,null,"","",false,{"$f":"INDEX(EWEMs!$F$5:$F$29,MATCH(D192,EWEMs!$X$5:$X$29,0))","v":{"$error":"#N/A"}},"not bath","not kitchen",{"$error":"#VALUE!"},{"$f":"VLOOKUP(Observations!R192,EWEMs!$B$5:$D$29,3,FALSE)","v":{"$error":"#VALUE!"}},false,false,"",{"$f":"IF(B192=\"\",\"\",INDEX('Units and Spaces'!C:C,MATCH(Observations!B192,'Units and Spaces'!B:B,0)))","v":""}]
[null,null,"",null,null,"",null,null,"",null,null,"","",false,{"$f":"INDEX(EWEMs!$F$5:$F$29,MATCH(D193,EWEMs!$X$5:$X$29,0))","v":{"$error":"#N/A"}},"not bath","not kitchen",{"$error":"#VALUE!"},{"$f":"VLOOKUP(Observations!R193,EWEMs!$B$5:$D$29,3,FALSE)","v":{"$error":"#VALUE!"}},false,false,"",{"$f":"IF(B193=\"\",\"\",INDEX('Units and Spaces'!C:C,MATCH(Observations!B193,'Units and Spaces'!B:B,0)))","v":""}]
[null,null,"",null,null,"",null,null,"",null,null,"","",false,{"$f":"INDEX(EWEMs!$F$5:$F$29,MATCH(D194,EWEMs!$X$5:$X$29,0))","v":{"$error":"#N/A"}},"not bath","not kitchen",{"$error":"#VALUE!"},{"$f":"VLOOKUP(Observations!R194,EWEMs!$B$5:$D$29,3,FALSE)","v":{"$error":"#VALUE!"}},false,false,"",{"$f":"IF(B194=\"\",\"\",INDEX('Units and Spaces'!C:C,MATCH(Observations!B194,'Units and Spaces'!B:B,0)))","v":""}]
[null,null,"",null,null,"",null,null,"",null,null,"","",false,{"$f":"INDEX(EWEMs!$F$5:$F$29,MATCH(D195,EWEMs!$X$5:$X$29,0))","v":{"$error":"#N/A"}},"not bath","not kitchen",{"$error":"#VALUE!"},{"$f":"VLOOKUP(Observations!R195,EWEMs!$B$5:$D$29,3,FALSE)","v":{"$error":"#VALUE!"}},false,false,"",{"$f":"IF(B195=\"\",\"\",INDEX('Units and Spaces'!C:C,MATCH(Observations!B195,'Units and Spaces'!B:B,0)))","v":""}]
[null,null,"",null,null,"",null,null,"",null,null,"","",false,{"$f":"INDEX(EWEMs!$F$5:$F$29,MATCH(D196,EWEMs!$X$5:$X$29,0))","v":{"$error":"#N/A"}},"not bath","not kitchen",{"$error":"#VALUE!"},{"$f":"VLOOKUP(Observations!R196,EWEMs!$B$5:$D$29,3,FALSE)","v":{"$error":"#VALUE!"}},false,false,"",{"$f":"IF(B196=\"\",\"\",INDEX('Units and Spaces'!C:C,MATCH(Observations!B196,'Units and Spaces'!B:B,0)))","v":""}]
[null,null,"",null,null,"",null,null,"",null,null,"","",false,{"$f":"INDEX(EWEMs!$F$5:$F$29,MATCH(D197,EWEMs!$X$5:$X$29,0))","v":{"$error":"#N/A"}},"not bath","not kitchen",{"$error":"#VALUE!"},{"$f":"VLOOKUP(Observations!R197,EWEMs!$B$5:$D$29,3,FALSE)","v":{"$error":"#VALUE!"}},false,false,"",{"$f":"IF(B197=\"\",\"\",INDEX('Units and Spaces'!C:C,MATCH(Observations!B197,'Units and Spaces'!B:B,0)))","v":""}]
[null,null,"",null,null,"",null,null,"",null,null,"","",false,{"$f":"INDEX(EWEMs!$F$5:$F$29,MATCH(D198,EWEMs!$X$5:$X$29,0))","v":{"$error":"#N/A"}},"not bath","not kitchen",{"$error":"#VALUE!"},{"$f":"VLOOKUP(Observations!R198,EWEMs!$B$5:$D$29,3,FALSE)","v":{"$error":"#VALUE!"}},false,false,"",{"$f":"IF(B198=\"\",\"\",INDEX('Units and Spaces'!C:C,MATCH(Observations!B198,'Units and Spaces'!B:B,0)))","v":""}]
[null,null,"",null,null,"",null,null,"",null,null,"","",false,{"$f":"INDEX(EWEMs!$F$5:$F$29,MATCH(D199,EWEMs!$X$5:$X$29,0))","v":{"$error":"#N/A"}},"not bath","not kitchen",{"$error":"#VALUE!"},{"$f":"VLOOKUP(Observations!R199,EWEMs!$B$5:$D$29,3,FALSE)","v":{"$error":"#VALUE!"}},false,false,"",{"$f":"IF(B199=\"\",\"\",INDEX('Units and Spaces'!C:C,MATCH(Observations!B199,'Units and Spaces'!B:B,0)))","v":""}]
[null,null,{"$f":"IF(B200=\"\", \"\", IF(AND(B200<>\"\",D200=\"\"),W200,IF(ISNUMBER(SEARCH(W200,D200)),W200,\"SPACE MISMATACH\")))","v":""},null,null,{"$f":"IF(AND(N200=TRUE,E200<>\"\"), IF(ISNUMBER(SEARCH(\"compliant\", P200)),P200,IF(ISNUMBER(SEARCH(\"compliant\",Q200)),Q200,IF(E200<=O200,\"compliant\",\"noncompliant\"))),\"\")","v":""},null,null,{"$f":"IF(AND(D200=\"\",D201<>\"\"), \"No Blanks Please!\", \"\")","v":""},null,null,{"$f":"IF(OR(F200=\"compliant\",F200=\"noncompliant\"),D200&F200,D200&G200)","v":""},{"$f":"IF(C200=\"Apartment\",IF(B200=0,\"\",B200),\"\")","v":""},{"$f":"IF(OR(ISNUMBER(FIND(\"low-flow\",D200,1)), ISNUMBER(FIND(\"low-flush\",D200,1))),TRUE,FALSE)","v":false},{"$f":"INDEX(EWEMs!$F$5:$F$29,MATCH(D200,EWEMs!$X$5:$X$29,0))","v":{"$error":"#N/A"}},{"$f":"IF(OR(ISNUMBER(SEARCH(\"bath faucets\", D200)), AND( ISNUMBER(SEARCH(\"fixture\", D200)),ISNUMBER(SEARCH(\"bath\", S200)) )), IF(O200<=1, IF(AND(E200>=O200, E200<=1), \"compliant\", \"noncompliant\"), IF(AND(E200>=1, E200<=O200),\"compliant\",\"noncompliant\")), \"not bath\"\n)","v":"not bath"},{"$f":"IF(OR(ISNUMBER(SEARCH(\"kitchen faucets\",D200)),AND(ISNUMBER(SEARCH(\"fixtures\",D200)),ISNUMBER(SEARCH(\"kitchen\",S200)))),IF(O200<=1.5,IF(AND(E200>=1, E200<=1.5),\"compliant\",\"noncompliant\"),IF(AND(E200>=1.5,E200<=O200),\"compliant\",\"noncompliant\")),\"not kitchen\"\n)","v":"not kitchen"},{"$f":"LEFT(D200,(FIND(\" \",D200,1)-1))*1","v":{"$error":"#VALUE!"}},{"$f":"VLOOKUP(Observations!R200,EWEMs!$B$5:$D$29,3,FALSE)","v":{"$error":"#VALUE!"}},{"$f":"IF(ISNUMBER(E200),AND(OR(E200<0.5,E200>5),E200<>\"\"),FALSE)","v":false},{"$f":"IF(OR(B200<>\"\",D200<>\"\", E200<>\"\",G200<>\"\",H200<>\"\"), IF(N200=TRUE, IF(OR(B200=\"\", D200=\"\", E200=\"\", H200=\"\"), TRUE, FALSE), IF(OR(B200=\"\", D200=\"\", G200=\"\", H200=\"\"), TRUE, FALSE)), FALSE)","v":false},{"$f":"IF(OR(F200=\"noncompliant\", G200=\"noncompliant\"), IFERROR(LEFT(D200, LEN(_xlfn.TEXTBEFORE(D200,\"-\",-1)))&\" (Space: \"&B200&\")\", \"\"), \"\")","v":""},{"$f":"IF(B200=\"\",\"\",INDEX('Units and Spaces'!C:C,MATCH(Observations!B200,'Units and Spaces'!B:B,0)))","v":""}]
[null,null,"",null,null,"",null,null,"",null,null,"","",false,{"$f":"INDEX(EWEMs!$F$5:$F$29,MATCH(D201,EWEMs!$X$5:$X$29,0))","v":{"$error":"#N/A"}},"not bath","not kitchen",{"$error":"#VALUE!"},{"$f":"VLOOKUP(Observations!R201,EWEMs!$B$5:$D$29,3,FALSE)","v":{"$error":"#VALUE!"}},false,false,"",{"$f":"IF(B201=\"\",\"\",INDEX('Units and Spaces'!C:C,MATCH(Observations!B201,'Units and Spaces'!B:B,0)))","v":""}]
[null,null,"",null,null,"",null,null,"",null,null,"","",false,{"$f":"INDEX(EWEMs!$F$5:$F$29,MATCH(D202,EWEMs!$X$5:$X$29,0))","v":{"$error":"#N/A"}},"not bath","not kitchen",{"$error":"#VALUE!"},{"$f":"VLOOKUP(Observations!R202,EWEMs!$B$5:$D$29,3,FALSE)","v":{"$error":"#VALUE!"}},false,false,"",{"$f":"IF(B202=\"\",\"\",INDEX('Units and Spaces'!C:C,MATCH(Observations!B202,'Units and Spaces'!B:B,0)))","v":""}]
[null,null,"",null,null,"",null,null,"",null,null,"","",false,{"$f":"INDEX(EWEMs!$F$5:$F$29,MATCH(D203,EWEMs!$X$5:$X$29,0))","v":{"$error":"#N/A"}},"not bath","not kitchen",{"$error":"#VALUE!"},{"$f":"VLOOKUP(Observations!R203,EWEMs!$B$5:$D$29,3,FALSE)","v":{"$error":"#VALUE!"}},false,false,"",{"$f":"IF(B203=\"\",\"\",INDEX('Units and Spaces'!C:C,MATCH(Observations!B203,'Units and Spaces'!B:B,0)))","v":""}]
[null,null,"",null,null,"",null,null,"",null,null,"","",false,{"$f":"INDEX(EWEMs!$F$5:$F$29,MATCH(D204,EWEMs!$X$5:$X$29,0))","v":{"$error":"#N/A"}},"not bath","not kitchen",{"$error":"#VALUE!"},{"$f":"VLOOKUP(Observations!R204,EWEMs!$B$5:$D$29,3,FALSE)","v":{"$error":"#VALUE!"}},false,false,"",{"$f":"IF(B204=\"\",\"\",INDEX('Units and Spaces'!C:C,MATCH(Observations!B204,'Units and Spaces'!B:B,0)))","v":""}]
[null,null,"",null,null,"",null,null,"",null,null,"","",false,{"$f":"INDEX(EWEMs!$F$5:$F$29,MATCH(D205,EWEMs!$X$5:$X$29,0))","v":{"$error":"#N/A"}},"not bath","not kitchen",{"$error":"#VALUE!"},{"$f":"VLOOKUP(Observations!R205,EWEMs!$B$5:$D$29,3,FALSE)","v":{"$error":"#VALUE!"}},false,false,"",{"$f":"IF(B205=\"\",\"\",INDEX('Units and Spaces'!C:C,MATCH(Observations!B205,'Units and Spaces'!B:B,0)))","v":""}]
[null,null,"",null,null,"",null,null,"",null,null,"","",false,{"$f":"INDEX(EWEMs!$F$5:$F$29,MATCH(D206,EWEMs!$X$5:$X$29,0))","v":{"$error":"#N/A"}},"not bath","not kitchen",{"$error":"#VALUE!"},{"$f":"VLOOKUP(Observations!R206,EWEMs!$B$5:$D$29,3,FALSE)","v":{"$error":"#VALUE!"}},false,false,"",{"$f":"IF(B206=\"\",\"\",INDEX('Units and Spaces'!C:C,MATCH(Observations!B206,'Units and Spaces'!B:B,0)))","v":""}]
[null,null,"",null,null,"",null,null,"",null,null,"","",false,{"$f":"INDEX(EWEMs!$F$5:$F$29,MATCH(D207,EWEMs!$X$5:$X$29,0))","v":{"$error":"#N/A"}},"not bath","not kitchen",{"$error":"#VALUE!"},{"$f":"VLOOKUP(Observations!R207,EWEMs!$B$5:$D$29,3,FALSE)","v":{"$error":"#VALUE!"}},false,false,"",{"$f":"IF(B207=\"\",\"\",INDEX('Units and Spaces'!C:C,MATCH(Observations!B207,'Units and Spaces'!B:B,0)))","v":""}]
[null,null,"",null,null,"",null,null,"",null,null,"","",false,{"$f":"INDEX(EWEMs!$F$5:$F$29,MATCH(D208,EWEMs!$X$5:$X$29,0))","v":{"$error":"#N/A"}},"not bath","not kitchen",{"$error":"#VALUE!"},{"$f":"VLOOKUP(Observations!R208,EWEMs!$B$5:$D$29,3,FALSE)","v":{"$error":"#VALUE!"}},false,false,"",{"$f":"IF(B208=\"\",\"\",INDEX('Units and Spaces'!C:C,MATCH(Observations!B208,'Units and Spaces'!B:B,0)))","v":""}]
[null,null,"",null,null,"",null,null,"",null,null,"","",false,{"$f":"INDEX(EWEMs!$F$5:$F$29,MATCH(D209,EWEMs!$X$5:$X$29,0))","v":{"$error":"#N/A"}},"not bath","not kitchen",{"$error":"#VALUE!"},{"$f":"VLOOKUP(Observations!R209,EWEMs!$B$5:$D$29,3,FALSE)","v":{"$error":"#VALUE!"}},false,false,"",{"$f":"IF(B209=\"\",\"\",INDEX('Units and Spaces'!C:C,MATCH(Observations!B209,'Units and Spaces'!B:B,0)))","v":""}]
[null,null,"",null,null,"",null,null,"",null,null,"","",false,{"$f":"INDEX(EWEMs!$F$5:$F$29,MATCH(D210,EWEMs!$X$5:$X$29,0))","v":{"$error":"#N/A"}},"not bath","not kitchen",{"$error":"#VALUE!"},{"$f":"VLOOKUP(Observations!R210,EWEMs!$B$5:$D$29,3,FALSE)","v":{"$error":"#VALUE!"}},false,false,"",{"$f":"IF(B210=\"\",\"\",INDEX('Units and Spaces'!C:C,MATCH(Observations!B210,'Units and Spaces'!B:B,0)))","v":""}]
[null,null,"",null,null,"",null,null,"",null,null,"","",false,{"$f":"INDEX(EWEMs!$F$5:$F$29,MATCH(D211,EWEMs!$X$5:$X$29,0))","v":{"$error":"#N/A"}},"not bath","not kitchen",{"$error":"#VALUE!"},{"$f":"VLOOKUP(Observations!R211,EWEMs!$B$5:$D$29,3,FALSE)","v":{"$error":"#VALUE!"}},false,false,"",{"$f":"IF(B211=\"\",\"\",INDEX('Units and Spaces'!C:C,MATCH(Observations!B211,'Units and Spaces'!B:B,0)))","v":""}]
[null,null,"",null,null,"",null,null,"",null,null,"","",false,{"$f":"INDEX(EWEMs!$F$5:$F$29,MATCH(D212,EWEMs!$X$5:$X$29,0))","v":{"$error":"#N/A"}},"not bath","not kitchen",{"$error":"#VALUE!"},{"$f":"VLOOKUP(Observations!R212,EWEMs!$B$5:$D$29,3,FALSE)","v":{"$error":"#VALUE!"}},false,false,"",{"$f":"IF(B212=\"\",\"\",INDEX('Units and Spaces'!C:C,MATCH(Observations!B212,'Units and Spaces'!B:B,0)))","v":""}]
[null,null,"",null,null,"",null,null,"",null,null,"","",false,{"$f":"INDEX(EWEMs!$F$5:$F$29,MATCH(D213,EWEMs!$X$5:$X$29,0))","v":{"$error":"#N/A"}},"not bath","not kitchen",{"$error":"#VALUE!"},{"$f":"VLOOKUP(Observations!R213,EWEMs!$B$5:$D$29,3,FALSE)","v":{"$error":"#VALUE!"}},false,false,"",{"$f":"IF(B213=\"\",\"\",INDEX('Units and Spaces'!C:C,MATCH(Observations!B213,'Units and Spaces'!B:B,0)))","v":""}]
[null,null,"",null,null,"",null,null,"",null,null,"","",false,{"$f":"INDEX(EWEMs!$F$5:$F$29,MATCH(D214,EWEMs!$X$5:$X$29,0))","v":{"$error":"#N/A"}},"not bath","not kitchen",{"$error":"#VALUE!"},{"$f":"VLOOKUP(Observations!R214,EWEMs!$B$5:$D$29,3,FALSE)","v":{"$error":"#VALUE!"}},false,false,"",{"$f":"IF(B214=\"\",\"\",INDEX('Units and Spaces'!C:C,MATCH(Observations!B214,'Units and Spaces'!B:B,0)))","v":""}]
[null,null,"",null,null,"",null,null,"",null,null,"","",false,{"$f":"INDEX(EWEMs!$F$5:$F$29,MATCH(D215,EWEMs!$X$5:$X$29,0))","v":{"$error":"#N/A"}},"not bath","not kitchen",{"$error":"#VALUE!"},{"$f":"VLOOKUP(Observations!R215,EWEMs!$B$5:$D$29,3,FALSE)","v":{"$error":"#VALUE!"}},false,false,"",{"$f":"IF(B215=\"\",\"\",INDEX('Units and Spaces'!C:C,MATCH(Observations!B215,'Units and Spaces'!B:B,0)))","v":""}]
[null,null,"",null,null,"",null,null,"",null,null,"","",false,{"$f":"INDEX(EWEMs!$F$5:$F$29,MATCH(D216,EWEMs!$X$5:$X$29,0))","v":{"$error":"#N/A"}},"not bath","not kitchen",{"$error":"#VALUE!"},{"$f":"VLOOKUP(Observations!R216,EWEMs!$B$5:$D$29,3,FALSE)","v":{"$error":"#VALUE!"}},false,false,"",{"$f":"IF(B216=\"\",\"\",INDEX('Units and Spaces'!C:C,MATCH(Observations!B216,'Units and Spaces'!B:B,0)))","v":""}]
[null,null,"",null,null,"",null,null,"",null,null,"","",false,{"$f":"INDEX(EWEMs!$F$5:$F$29,MATCH(D217,EWEMs!$X$5:$X$29,0))","v":{"$error":"#N/A"}},"not bath","not kitchen",{"$error":"#VALUE!"},{"$f":"VLOOKUP(Observations!R217,EWEMs!$B$5:$D$29,3,FALSE)","v":{"$error":"#VALUE!"}},false,false,"",{"$f":"IF(B217=\"\",\"\",INDEX('Units and Spaces'!C:C,MATCH(Observations!B217,'Units and Spaces'!B:B,0)))","v":""}]
[null,null,"",null,null,"",null,null,"",null,null,"","",false,{"$f":"INDEX(EWEMs!$F$5:$F$29,MATCH(D218,EWEMs!$X$5:$X$29,0))","v":{"$error":"#N/A"}},"not bath","not kitchen",{"$error":"#VALUE!"},{"$f":"VLOOKUP(Observations!R218,EWEMs!$B$5:$D$29,3,FALSE)","v":{"$error":"#VALUE!"}},false,false,"",{"$f":"IF(B218=\"\",\"\",INDEX('Units and Spaces'!C:C,MATCH(Observations!B218,'Units and Spaces'!B:B,0)))","v":""}]
[null,null,"",null,null,"",null,null,"",null,null,"","",false,{"$f":"INDEX(EWEMs!$F$5:$F$29,MATCH(D219,EWEMs!$X$5:$X$29,0))","v":{"$error":"#N/A"}},"not bath","not kitchen",{"$error":"#VALUE!"},{"$f":"VLOOKUP(Observations!R219,EWEMs!$B$5:$D$29,3,FALSE)","v":{"$error":"#VALUE!"}},false,false,"",{"$f":"IF(B219=\"\",\"\",INDEX('Units and Spaces'!C:C,MATCH(Observations!B219,'Units and Spaces'!B:B,0)))","v":""}]
[null,null,"",null,null,"",null,null,"",null,null,"","",false,{"$f":"INDEX(EWEMs!$F$5:$F$29,MATCH(D220,EWEMs!$X$5:$X$29,0))","v":{"$error":"#N/A"}},"not bath","not kitchen",{"$error":"#VALUE!"},{"$f":"VLOOKUP(Observations!R220,EWEMs!$B$5:$D$29,3,FALSE)","v":{"$error":"#VALUE!"}},false,false,"",{"$f":"IF(B220=\"\",\"\",INDEX('Units and Spaces'!C:C,MATCH(Observations!B220,'Units and Spaces'!B:B,0)))","v":""}]
[null,null,"",null,null,"",null,null,"",null,null,"","",false,{"$f":"INDEX(EWEMs!$F$5:$F$29,MATCH(D221,EWEMs!$X$5:$X$29,0))","v":{"$error":"#N/A"}},"not bath","not kitchen",{"$error":"#VALUE!"},{"$f":"VLOOKUP(Observations!R221,EWEMs!$B$5:$D$29,3,FALSE)","v":{"$error":"#VALUE!"}},false,false,"",{"$f":"IF(B221=\"\",\"\",INDEX('Units and Spaces'!C:C,MATCH(Observations!B221,'Units and Spaces'!B:B,0)))","v":""}]
[null,null,"",null,null,"",null,null,"",null,null,"","",false,{"$f":"INDEX(EWEMs!$F$5:$F$29,MATCH(D222,EWEMs!$X$5:$X$29,0))","v":{"$error":"#N/A"}},"not bath","not kitchen",{"$error":"#VALUE!"},{"$f":"VLOOKUP(Observations!R222,EWEMs!$B$5:$D$29,3,FALSE)","v":{"$error":"#VALUE!"}},false,false,"",{"$f":"IF(B222=\"\",\"\",INDEX('Units and Spaces'!C:C,MATCH(Observations!B222,'Units and Spaces'!B:B,0)))","v":""}]
[null,null,"",null,null,"",null,null,"",null,null,"","",false,{"$f":"INDEX(EWEMs!$F$5:$F$29,MATCH(D223,EWEMs!$X$5:$X$29,0))","v":{"$error":"#N/A"}},"not bath","not kitchen",{"$error":"#VALUE!"},{"$f":"VLOOKUP(Observations!R223,EWEMs!$B$5:$D$29,3,FALSE)","v":{"$error":"#VALUE!"}},false,false,"",{"$f":"IF(B223=\"\",\"\",INDEX('Units and Spaces'!C:C,MATCH(Observations!B223,'Units and Spaces'!B:B,0)))","v":""}]
[null,null,"",null,null,"",null,null,"",null,null,"","",false,{"$f":"INDEX(EWEMs!$F$5:$F$29,MATCH(D224,EWEMs!$X$5:$X$29,0))","v":{"$error":"#N/A"}},"not bath","not kitchen",{"$error":"#VALUE!"},{"$f":"VLOOKUP(Observations!R224,EWEMs!$B$5:$D$29,3,FALSE)","v":{"$error":"#VALUE!"}},false,false,"",{"$f":"IF(B224=\"\",\"\",INDEX('Units and Spaces'!C:C,MATCH(Observations!B224,'Units and Spaces'!B:B,0)))","v":""}]
[null,null,"",null,null,"",null,null,"",null,null,"","",false,{"$f":"INDEX(EWEMs!$F$5:$F$29,MATCH(D225,EWEMs!$X$5:$X$29,0))","v":{"$error":"#N/A"}},"not bath","not kitchen",{"$error":"#VALUE!"},{"$f":"VLOOKUP(Observations!R225,EWEMs!$B$5:$D$29,3,FALSE)","v":{"$error":"#VALUE!"}},false,false,"",{"$f":"IF(B225=\"\",\"\",INDEX('Units and Spaces'!C:C,MATCH(Observations!B225,'Units and Spaces'!B:B,0)))","v":""}]
[null,null,"",null,null,"",null,null,"",null,null,"","",false,{"$f":"INDEX(EWEMs!$F$5:$F$29,MATCH(D226,EWEMs!$X$5:$X$29,0))","v":{"$error":"#N/A"}},"not bath","not kitchen",{"$error":"#VALUE!"},{"$f":"VLOOKUP(Observations!R226,EWEMs!$B$5:$D$29,3,FALSE)","v":{"$error":"#VALUE!"}},false,false,"",{"$f":"IF(B226=\"\",\"\",INDEX('Units and Spaces'!C:C,MATCH(Observations!B226,'Units and Spaces'!B:B,0)))","v":""}]
[null,null,"",null,null,"",null,null,"",null,null,"","",false,{"$f":"INDEX(EWEMs!$F$5:$F$29,MATCH(D227,EWEMs!$X$5:$X$29,0))","v":{"$error":"#N/A"}},"not bath","not kitchen",{"$error":"#VALUE!"},{"$f":"VLOOKUP(Observations!R227,EWEMs!$B$5:$D$29,3,FALSE)","v":{"$error":"#VALUE!"}},false,false,"",{"$f":"IF(B227=\"\",\"\",INDEX('Units and Spaces'!C:C,MATCH(Observations!B227,'Units and Spaces'!B:B,0)))","v":""}]
[null,null,"",null,null,"",null,null,"",null,null,"","",false,{"$f":"INDEX(EWEMs!$F$5:$F$29,MATCH(D228,EWEMs!$X$5:$X$29,0))","v":{"$error":"#N/A"}},"not bath","not kitchen",{"$error":"#VALUE!"},{"$f":"VLOOKUP(Observations!R228,EWEMs!$B$5:$D$29,3,FALSE)","v":{"$error":"#VALUE!"}},false,false,"",{"$f":"IF(B228=\"\",\"\",INDEX('Units and Spaces'!C:C,MATCH(Observations!B228,'Units and Spaces'!B:B,0)))","v":""}]
[null,null,"",null,null,"",null,null,"",null,null,"","",false,{"$f":"INDEX(EWEMs!$F$5:$F$29,MATCH(D229,EWEMs!$X$5:$X$29,0))","v":{"$error":"#N/A"}},"not bath","not kitchen",{"$error":"#VALUE!"},{"$f":"VLOOKUP(Observations!R229,EWEMs!$B$5:$D$29,3,FALSE)","v":{"$error":"#VALUE!"}},false,false,"",{"$f":"IF(B229=\"\",\"\",INDEX('Units and Spaces'!C:C,MATCH(Observations!B229,'Units and Spaces'!B:B,0)))","v":""}]
[null,null,"",null,null,"",null,null,"",null,null,"","",false,{"$f":"INDEX(EWEMs!$F$5:$F$29,MATCH(D230,EWEMs!$X$5:$X$29,0))","v":{"$error":"#N/A"}},"not bath","not kitchen",{"$error":"#VALUE!"},{"$f":"VLOOKUP(Observations!R230,EWEMs!$B$5:$D$29,3,FALSE)","v":{"$error":"#VALUE!"}},false,false,"",{"$f":"IF(B230=\"\",\"\",INDEX('Units and Spaces'!C:C,MATCH(Observations!B230,'Units and Spaces'!B:B,0)))","v":""}]
[null,null,"",null,null,"",null,null,"",null,null,"","",false,{"$f":"INDEX(EWEMs!$F$5:$F$29,MATCH(D231,EWEMs!$X$5:$X$29,0))","v":{"$error":"#N/A"}},"not bath","not kitchen",{"$error":"#VALUE!"},{"$f":"VLOOKUP(Observations!R231,EWEMs!$B$5:$D$29,3,FALSE)","v":{"$error":"#VALUE!"}},false,false,"",{"$f":"IF(B231=\"\",\"\",INDEX('Units and Spaces'!C:C,MATCH(Observations!B231,'Units and Spaces'!B:B,0)))","v":""}]
[null,null,"",null,null,"",null,null,"",null,null,"","",false,{"$f":"INDEX(EWEMs!$F$5:$F$29,MATCH(D232,EWEMs!$X$5:$X$29,0))","v":{"$error":"#N/A"}},"not bath","not kitchen",{"$error":"#VALUE!"},{"$f":"VLOOKUP(Observations!R232,EWEMs!$B$5:$D$29,3,FALSE)","v":{"$error":"#VALUE!"}},false,false,"",{"$f":"IF(B232=\"\",\"\",INDEX('Units and Spaces'!C:C,MATCH(Observations!B232,'Units and Spaces'!B:B,0)))","v":""}]
[null,null,"",null,null,"",null,null,"",null,null,"","",false,{"$f":"INDEX(EWEMs!$F$5:$F$29,MATCH(D233,EWEMs!$X$5:$X$29,0))","v":{"$error":"#N/A"}},"not bath","not kitchen",{"$error":"#VALUE!"},{"$f":"VLOOKUP(Observations!R233,EWEMs!$B$5:$D$29,3,FALSE)","v":{"$error":"#VALUE!"}},false,false,"",{"$f":"IF(B233=\"\",\"\",INDEX('Units and Spaces'!C:C,MATCH(Observations!B233,'Units and Spaces'!B:B,0)))","v":""}]
[null,null,"",null,null,"",null,null,"",null,null,"","",false,{"$f":"INDEX(EWEMs!$F$5:$F$29,MATCH(D234,EWEMs!$X$5:$X$29,0))","v":{"$error":"#N/A"}},"not bath","not kitchen",{"$error":"#VALUE!"},{"$f":"VLOOKUP(Observations!R234,EWEMs!$B$5:$D$29,3,FALSE)","v":{"$error":"#VALUE!"}},false,false,"",{"$f":"IF(B234=\"\",\"\",INDEX('Units and Spaces'!C:C,MATCH(Observations!B234,'Units and Spaces'!B:B,0)))","v":""}]
[null,null,"",null,null,"",null,null,"",null,null,"","",false,{"$f":"INDEX(EWEMs!$F$5:$F$29,MATCH(D235,EWEMs!$X$5:$X$29,0))","v":{"$error":"#N/A"}},"not bath","not kitchen",{"$error":"#VALUE!"},{"$f":"VLOOKUP(Observations!R235,EWEMs!$B$5:$D$29,3,FALSE)","v":{"$error":"#VALUE!"}},false,false,"",{"$f":"IF(B235=\"\",\"\",INDEX('Units and Spaces'!C:C,MATCH(Observations!B235,'Units and Spaces'!B:B,0)))","v":""}]
[null,null,"",null,null,"",null,null,"",null,null,"","",false,{"$f":"INDEX(EWEMs!$F$5:$F$29,MATCH(D236,EWEMs!$X$5:$X$29,0))","v":{"$error":"#N/A"}},"not bath","not kitchen",{"$error":"#VALUE!"},{"$f":"VLOOKUP(Observations!R236,EWEMs!$B$5:$D$29,3,FALSE)","v":{"$error":"#VALUE!"}},false,false,"",{"$f":"IF(B236=\"\",\"\",INDEX('Units and Spaces'!C:C,MATCH(Observations!B236,'Units and Spaces'!B:B,0)))","v":""}]
[null,null,"",null,null,"",null,null,"",null,null,"","",false,{"$f":"INDEX(EWEMs!$F$5:$F$29,MATCH(D237,EWEMs!$X$5:$X$29,0))","v":{"$error":"#N/A"}},"not bath","not kitchen",{"$error":"#VALUE!"},{"$f":"VLOOKUP(Observations!R237,EWEMs!$B$5:$D$29,3,FALSE)","v":{"$error":"#VALUE!"}},false,false,"",{"$f":"IF(B237=\"\",\"\",INDEX('Units and Spaces'!C:C,MATCH(Observations!B237,'Units and Spaces'!B:B,0)))","v":""}]
[null,null,"",null,null,"",null,null,"",null,null,"","",false,{"$f":"INDEX(EWEMs!$F$5:$F$29,MATCH(D238,EWEMs!$X$5:$X$29,0))","v":{"$error":"#N/A"}},"not bath","not kitchen",{"$error":"#VALUE!"},{"$f":"VLOOKUP(Observations!R238,EWEMs!$B$5:$D$29,3,FALSE)","v":{"$error":"#VALUE!"}},false,false,"",{"$f":"IF(B238=\"\",\"\",INDEX('Units and Spaces'!C:C,MATCH(Observations!B238,'Units and Spaces'!B:B,0)))","v":""}]
[null,null,"",null,null,"",null,null,"",null,null,"","",false,{"$f":"INDEX(EWEMs!$F$5:$F$29,MATCH(D239,EWEMs!$X$5:$X$29,0))","v":{"$error":"#N/A"}},"not bath","not kitchen",{"$error":"#VALUE!"},{"$f":"VLOOKUP(Observations!R239,EWEMs!$B$5:$D$29,3,FALSE)","v":{"$error":"#VALUE!"}},false,false,"",{"$f":"IF(B239=\"\",\"\",INDEX('Units and Spaces'!C:C,MATCH(Observations!B239,'Units and Spaces'!B:B,0)))","v":""}]
[null,null,"",null,null,"",null,null,"",null,null,"","",false,{"$f":"INDEX(EWEMs!$F$5:$F$29,MATCH(D240,EWEMs!$X$5:$X$29,0))","v":{"$error":"#N/A"}},"not bath","not kitchen",{"$error":"#VALUE!"},{"$f":"VLOOKUP(Observations!R240,EWEMs!$B$5:$D$29,3,FALSE)","v":{"$error":"#VALUE!"}},false,false,"",{"$f":"IF(B240=\"\",\"\",INDEX('Units and Spaces'!C:C,MATCH(Observations!B240,'Units and Spaces'!B:B,0)))","v":""}]
[null,null,"",null,null,"",null,null,"",null,null,"","",false,{"$f":"INDEX(EWEMs!$F$5:$F$29,MATCH(D241,EWEMs!$X$5:$X$29,0))","v":{"$error":"#N/A"}},"not bath","not kitchen",{"$error":"#VALUE!"},{"$f":"VLOOKUP(Observations!R241,EWEMs!$B$5:$D$29,3,FALSE)","v":{"$error":"#VALUE!"}},false,false,"",{"$f":"IF(B241=\"\",\"\",INDEX('Units and Spaces'!C:C,MATCH(Observations!B241,'Units and Spaces'!B:B,0)))","v":""}]
[null,null,"",null,null,"",null,null,"",null,null,"","",false,{"$f":"INDEX(EWEMs!$F$5:$F$29,MATCH(D242,EWEMs!$X$5:$X$29,0))","v":{"$error":"#N/A"}},"not bath","not kitchen",{"$error":"#VALUE!"},{"$f":"VLOOKUP(Observations!R242,EWEMs!$B$5:$D$29,3,FALSE)","v":{"$error":"#VALUE!"}},false,false,"",{"$f":"IF(B242=\"\",\"\",INDEX('Units and Spaces'!C:C,MATCH(Observations!B242,'Units and Spaces'!B:B,0)))","v":""}]
[null,null,"",null,null,"",null,null,"",null,null,"","",false,{"$f":"INDEX(EWEMs!$F$5:$F$29,MATCH(D243,EWEMs!$X$5:$X$29,0))","v":{"$error":"#N/A"}},"not bath","not kitchen",{"$error":"#VALUE!"},{"$f":"VLOOKUP(Observations!R243,EWEMs!$B$5:$D$29,3,FALSE)","v":{"$error":"#VALUE!"}},false,false,"",{"$f":"IF(B243=\"\",\"\",INDEX('Units and Spaces'!C:C,MATCH(Observations!B243,'Units and Spaces'!B:B,0)))","v":""}]
[null,null,"",null,null,"",null,null,"",null,null,"","",false,{"$f":"INDEX(EWEMs!$F$5:$F$29,MATCH(D244,EWEMs!$X$5:$X$29,0))","v":{"$error":"#N/A"}},"not bath","not kitchen",{"$error":"#VALUE!"},{"$f":"VLOOKUP(Observations!R244,EWEMs!$B$5:$D$29,3,FALSE)","v":{"$error":"#VALUE!"}},false,false,"",{"$f":"IF(B244=\"\",\"\",INDEX('Units and Spaces'!C:C,MATCH(Observations!B244,'Units and Spaces'!B:B,0)))","v":""}]
[null,null,"",null,null,"",null,null,"",null,null,"","",false,{"$f":"INDEX(EWEMs!$F$5:$F$29,MATCH(D245,EWEMs!$X$5:$X$29,0))","v":{"$error":"#N/A"}},"not bath","not kitchen",{"$error":"#VALUE!"},{"$f":"VLOOKUP(Observations!R245,EWEMs!$B$5:$D$29,3,FALSE)","v":{"$error":"#VALUE!"}},false,false,"",{"$f":"IF(B245=\"\",\"\",INDEX('Units and Spaces'!C:C,MATCH(Observations!B245,'Units and Spaces'!B:B,0)))","v":""}]
[null,null,"",null,null,"",null,null,"",null,null,"","",false,{"$f":"INDEX(EWEMs!$F$5:$F$29,MATCH(D246,EWEMs!$X$5:$X$29,0))","v":{"$error":"#N/A"}},"not bath","not kitchen",{"$error":"#VALUE!"},{"$f":"VLOOKUP(Observations!R246,EWEMs!$B$5:$D$29,3,FALSE)","v":{"$error":"#VALUE!"}},false,false,"",{"$f":"IF(B246=\"\",\"\",INDEX('Units and Spaces'!C:C,MATCH(Observations!B246,'Units and Spaces'!B:B,0)))","v":""}]
[null,null,"",null,null,"",null,null,"",null,null,"","",false,{"$f":"INDEX(EWEMs!$F$5:$F$29,MATCH(D247,EWEMs!$X$5:$X$29,0))","v":{"$error":"#N/A"}},"not bath","not kitchen",{"$error":"#VALUE!"},{"$f":"VLOOKUP(Observations!R247,EWEMs!$B$5:$D$29,3,FALSE)","v":{"$error":"#VALUE!"}},false,false,"",{"$f":"IF(B247=\"\",\"\",INDEX('Units and Spaces'!C:C,MATCH(Observations!B247,'Units and Spaces'!B:B,0)))","v":""}]
[null,null,"",null,null,"",null,null,"",null,null,"","",false,{"$f":"INDEX(EWEMs!$F$5:$F$29,MATCH(D248,EWEMs!$X$5:$X$29,0))","v":{"$error":"#N/A"}},"not bath","not kitchen",{"$error":"#VALUE!"},{"$f":"VLOOKUP(Observations!R248,EWEMs!$B$5:$D$29,3,FALSE)","v":{"$error":"#VALUE!"}},false,false,"",{"$f":"IF(B248=\"\",\"\",INDEX('Units and Spaces'!C:C,MATCH(Observations!B248,'Units and Spaces'!B:B,0)))","v":""}]
[null,null,"",null,null,"",null,null,"",null,null,"","",false,{"$f":"INDEX(EWEMs!$F$5:$F$29,MATCH(D249,EWEMs!$X$5:$X$29,0))","v":{"$error":"#N/A"}},"not bath","not kitchen",{"$error":"#VALUE!"},{"$f":"VLOOKUP(Observations!R249,EWEMs!$B$5:$D$29,3,FALSE)","v":{"$error":"#VALUE!"}},false,false,"",{"$f":"IF(B249=\"\",\"\",INDEX('Units and Spaces'!C:C,MATCH(Observations!B249,'Units and Spaces'!B:B,0)))","v":""}]
[null,null,"",null,null,"",null,null,"",null,null,"","",false,{"$f":"INDEX(EWEMs!$F$5:$F$29,MATCH(D250,EWEMs!$X$5:$X$29,0))","v":{"$error":"#N/A"}},"not bath","not kitchen",{"$error":"#VALUE!"},{"$f":"VLOOKUP(Observations!R250,EWEMs!$B$5:$D$29,3,FALSE)","v":{"$error":"#VALUE!"}},false,false,"",{"$f":"IF(B250=\"\",\"\",INDEX('Units and Spaces'!C:C,MATCH(Observations!B250,'Units and Spaces'!B:B,0)))","v":""}]
[null,null,"",null,null,"",null,null,"",null,null,"","",false,{"$f":"INDEX(EWEMs!$F$5:$F$29,MATCH(D251,EWEMs!$X$5:$X$29,0))","v":{"$error":"#N/A"}},"not bath","not kitchen",{"$error":"#VALUE!"},{"$f":"VLOOKUP(Observations!R251,EWEMs!$B$5:$D$29,3,FALSE)","v":{"$error":"#VALUE!"}},false,false,"",{"$f":"IF(B251=\"\",\"\",INDEX('Units and Spaces'!C:C,MATCH(Observations!B251,'Units and Spaces'!B:B,0)))","v":""}]
[null,null,"",null,null,"",null,null,"",null,null,"","",false,{"$f":"INDEX(EWEMs!$F$5:$F$29,MATCH(D252,EWEMs!$X$5:$X$29,0))","v":{"$error":"#N/A"}},"not bath","not kitchen",{"$error":"#VALUE!"},{"$f":"VLOOKUP(Observations!R252,EWEMs!$B$5:$D$29,3,FALSE)","v":{"$error":"#VALUE!"}},false,false,"",{"$f":"IF(B252=\"\",\"\",INDEX('Units and Spaces'!C:C,MATCH(Observations!B252,'Units and Spaces'!B:B,0)))","v":""}]
[null,null,"",null,null,"",null,null,"",null,null,"","",false,{"$f":"INDEX(EWEMs!$F$5:$F$29,MATCH(D253,EWEMs!$X$5:$X$29,0))","v":{"$error":"#N/A"}},"not bath","not kitchen",{"$error":"#VALUE!"},{"$f":"VLOOKUP(Observations!R253,EWEMs!$B$5:$D$29,3,FALSE)","v":{"$error":"#VALUE!"}},false,false,"",{"$f":"IF(B253=\"\",\"\",INDEX('Units and Spaces'!C:C,MATCH(Observations!B253,'Units and Spaces'!B:B,0)))","v":""}]
[null,null,"",null,null,"",null,null,"",null,null,"","",false,{"$f":"INDEX(EWEMs!$F$5:$F$29,MATCH(D254,EWEMs!$X$5:$X$29,0))","v":{"$error":"#N/A"}},"not bath","not kitchen",{"$error":"#VALUE!"},{"$f":"VLOOKUP(Observations!R254,EWEMs!$B$5:$D$29,3,FALSE)","v":{"$error":"#VALUE!"}},false,false,"",{"$f":"IF(B254=\"\",\"\",INDEX('Units and Spaces'!C:C,MATCH(Observations!B254,'Units and Spaces'!B:B,0)))","v":""}]
[null,null,"",null,null,"",null,null,"",null,null,"","",false,{"$f":"INDEX(EWEMs!$F$5:$F$29,MATCH(D255,EWEMs!$X$5:$X$29,0))","v":{"$error":"#N/A"}},"not bath","not kitchen",{"$error":"#VALUE!"},{"$f":"VLOOKUP(Observations!R255,EWEMs!$B$5:$D$29,3,FALSE)","v":{"$error":"#VALUE!"}},false,false,"",{"$f":"IF(B255=\"\",\"\",INDEX('Units and Spaces'!C:C,MATCH(Observations!B255,'Units and Spaces'!B:B,0)))","v":""}]
[null,null,"",null,null,"",null,null,"",null,null,"","",false,{"$f":"INDEX(EWEMs!$F$5:$F$29,MATCH(D256,EWEMs!$X$5:$X$29,0))","v":{"$error":"#N/A"}},"not bath","not kitchen",{"$error":"#VALUE!"},{"$f":"VLOOKUP(Observations!R256,EWEMs!$B$5:$D$29,3,FALSE)","v":{"$error":"#VALUE!"}},false,false,"",{"$f":"IF(B256=\"\",\"\",INDEX('Units and Spaces'!C:C,MATCH(Observations!B256,'Units and Spaces'!B:B,0)))","v":""}]
[null,null,"",null,null,"",null,null,"",null,null,"","",false,{"$f":"INDEX(EWEMs!$F$5:$F$29,MATCH(D257,EWEMs!$X$5:$X$29,0))","v":{"$error":"#N/A"}},"not bath","not kitchen",{"$error":"#VALUE!"},{"$f":"VLOOKUP(Observations!R257,EWEMs!$B$5:$D$29,3,FALSE)","v":{"$error":"#VALUE!"}},false,false,"",{"$f":"IF(B257=\"\",\"\",INDEX('Units and Spaces'!C:C,MATCH(Observations!B257,'Units and Spaces'!B:B,0)))","v":""}]
[null,null,"",null,null,"",null,null,"",null,null,"","",false,{"$f":"INDEX(EWEMs!$F$5:$F$29,MATCH(D258,EWEMs!$X$5:$X$29,0))","v":{"$error":"#N/A"}},"not bath","not kitchen",{"$error":"#VALUE!"},{"$f":"VLOOKUP(Observations!R258,EWEMs!$B$5:$D$29,3,FALSE)","v":{"$error":"#VALUE!"}},false,false,"",{"$f":"IF(B258=\"\",\"\",INDEX('Units and Spaces'!C:C,MATCH(Observations!B258,'Units and Spaces'!B:B,0)))","v":""}]
[null,null,"",null,null,"",null,null,"",null,null,"","",false,{"$f":"INDEX(EWEMs!$F$5:$F$29,MATCH(D259,EWEMs!$X$5:$X$29,0))","v":{"$error":"#N/A"}},"not bath","not kitchen",{"$error":"#VALUE!"},{"$f":"VLOOKUP(Observations!R259,EWEMs!$B$5:$D$29,3,FALSE)","v":{"$error":"#VALUE!"}},false,false,"",{"$f":"IF(B259=\"\",\"\",INDEX('Units and Spaces'!C:C,MATCH(Observations!B259,'Units and Spaces'!B:B,0)))","v":""}]
[null,null,"",null,null,"",null,null,"",null,null,"","",false,{"$f":"INDEX(EWEMs!$F$5:$F$29,MATCH(D260,EWEMs!$X$5:$X$29,0))","v":{"$error":"#N/A"}},"not bath","not kitchen",{"$error":"#VALUE!"},{"$f":"VLOOKUP(Observations!R260,EWEMs!$B$5:$D$29,3,FALSE)","v":{"$error":"#VALUE!"}},false,false,"",{"$f":"IF(B260=\"\",\"\",INDEX('Units and Spaces'!C:C,MATCH(Observations!B260,'Units and Spaces'!B:B,0)))","v":""}]
[null,null,"",null,null,"",null,null,"",null,null,"","",false,{"$f":"INDEX(EWEMs!$F$5:$F$29,MATCH(D261,EWEMs!$X$5:$X$29,0))","v":{"$error":"#N/A"}},"not bath","not kitchen",{"$error":"#VALUE!"},{"$f":"VLOOKUP(Observations!R261,EWEMs!$B$5:$D$29,3,FALSE)","v":{"$error":"#VALUE!"}},false,false,"",{"$f":"IF(B261=\"\",\"\",INDEX('Units and Spaces'!C:C,MATCH(Observations!B261,'Units and Spaces'!B:B,0)))","v":""}]
[null,null,"",null,null,"",null,null,"",null,null,"","",false,{"$f":"INDEX(EWEMs!$F$5:$F$29,MATCH(D262,EWEMs!$X$5:$X$29,0))","v":{"$error":"#N/A"}},"not bath","not kitchen",{"$error":"#VALUE!"},{"$f":"VLOOKUP(Observations!R262,EWEMs!$B$5:$D$29,3,FALSE)","v":{"$error":"#VALUE!"}},false,false,"",{"$f":"IF(B262=\"\",\"\",INDEX('Units and Spaces'!C:C,MATCH(Observations!B262,'Units and Spaces'!B:B,0)))","v":""}]
[null,null,"",null,null,"",null,null,"",null,null,"","",false,{"$f":"INDEX(EWEMs!$F$5:$F$29,MATCH(D263,EWEMs!$X$5:$X$29,0))","v":{"$error":"#N/A"}},"not bath","not kitchen",{"$error":"#VALUE!"},{"$f":"VLOOKUP(Observations!R263,EWEMs!$B$5:$D$29,3,FALSE)","v":{"$error":"#VALUE!"}},false,false,"",{"$f":"IF(B263=\"\",\"\",INDEX('Units and Spaces'!C:C,MATCH(Observations!B263,'Units and Spaces'!B:B,0)))","v":""}]
[null,null,{"$f":"IF(B264=\"\", \"\", IF(AND(B264<>\"\",D264=\"\"),W264,IF(ISNUMBER(SEARCH(W264,D264)),W264,\"SPACE MISMATACH\")))","v":""},null,null,{"$f":"IF(AND(N264=TRUE,E264<>\"\"), IF(ISNUMBER(SEARCH(\"compliant\", P264)),P264,IF(ISNUMBER(SEARCH(\"compliant\",Q264)),Q264,IF(E264<=O264,\"compliant\",\"noncompliant\"))),\"\")","v":""},null,null,{"$f":"IF(AND(D264=\"\",D265<>\"\"), \"No Blanks Please!\", \"\")","v":""},null,null,{"$f":"IF(OR(F264=\"compliant\",F264=\"noncompliant\"),D264&F264,D264&G264)","v":""},{"$f":"IF(C264=\"Apartment\",IF(B264=0,\"\",B264),\"\")","v":""},{"$f":"IF(OR(ISNUMBER(FIND(\"low-flow\",D264,1)), ISNUMBER(FIND(\"low-flush\",D264,1))),TRUE,FALSE)","v":false},{"$f":"INDEX(EWEMs!$F$5:$F$29,MATCH(D264,EWEMs!$X$5:$X$29,0))","v":{"$error":"#N/A"}},{"$f":"IF(OR(ISNUMBER(SEARCH(\"bath faucets\", D264)), AND( ISNUMBER(SEARCH(\"fixture\", D264)),ISNUMBER(SEARCH(\"bath\", S264)) )), IF(O264<=1, IF(AND(E264>=O264, E264<=1), \"compliant\", \"noncompliant\"), IF(AND(E264>=1, E264<=O264),\"compliant\",\"noncompliant\")), \"not bath\"\n)","v":"not bath"},{"$f":"IF(OR(ISNUMBER(SEARCH(\"kitchen faucets\",D264)),AND(ISNUMBER(SEARCH(\"fixtures\",D264)),ISNUMBER(SEARCH(\"kitchen\",S264)))),IF(O264<=1.5,IF(AND(E264>=1, E264<=1.5),\"compliant\",\"noncompliant\"),IF(AND(E264>=1.5,E264<=O264),\"compliant\",\"noncompliant\")),\"not kitchen\"\n)","v":"not kitchen"},{"$f":"LEFT(D264,(FIND(\" \",D264,1)-1))*1","v":{"$error":"#VALUE!"}},{"$f":"VLOOKUP(Observations!R264,EWEMs!$B$5:$D$29,3,FALSE)","v":{"$error":"#VALUE!"}},{"$f":"IF(ISNUMBER(E264),AND(OR(E264<0.5,E264>5),E264<>\"\"),FALSE)","v":false},{"$f":"IF(OR(B264<>\"\",D264<>\"\", E264<>\"\",G264<>\"\",H264<>\"\"), IF(N264=TRUE, IF(OR(B264=\"\", D264=\"\", E264=\"\", H264=\"\"), TRUE, FALSE), IF(OR(B264=\"\", D264=\"\", G264=\"\", H264=\"\"), TRUE, FALSE)), FALSE)","v":false},{"$f":"IF(OR(F264=\"noncompliant\", G264=\"noncompliant\"), IFERROR(LEFT(D264, LEN(_xlfn.TEXTBEFORE(D264,\"-\",-1)))&\" (Space: \"&B264&\")\", \"\"), \"\")","v":""},{"$f":"IF(B264=\"\",\"\",INDEX('Units and Spaces'!C:C,MATCH(Observations!B264,'Units and Spaces'!B:B,0)))","v":""}]
[null,null,"",null,null,"",null,null,"",null,null,"","",false,{"$f":"INDEX(EWEMs!$F$5:$F$29,MATCH(D265,EWEMs!$X$5:$X$29,0))","v":{"$error":"#N/A"}},"not bath","not kitchen",{"$error":"#VALUE!"},{"$f":"VLOOKUP(Observations!R265,EWEMs!$B$5:$D$29,3,FALSE)","v":{"$error":"#VALUE!"}},false,false,"",{"$f":"IF(B265=\"\",\"\",INDEX('Units and Spaces'!C:C,MATCH(Observations!B265,'Units and Spaces'!B:B,0)))","v":""}]
[null,null,"",null,null,"",null,null,"",null,null,"","",false,{"$f":"INDEX(EWEMs!$F$5:$F$29,MATCH(D266,EWEMs!$X$5:$X$29,0))","v":{"$error":"#N/A"}},"not bath","not kitchen",{"$error":"#VALUE!"},{"$f":"VLOOKUP(Observations!R266,EWEMs!$B$5:$D$29,3,FALSE)","v":{"$error":"#VALUE!"}},false,false,"",{"$f":"IF(B266=\"\",\"\",INDEX('Units and Spaces'!C:C,MATCH(Observations!B266,'Units and Spaces'!B:B,0)))","v":""}]
[null,null,"",null,null,"",null,null,"",null,null,"","",false,{"$f":"INDEX(EWEMs!$F$5:$F$29,MATCH(D267,EWEMs!$X$5:$X$29,0))","v":{"$error":"#N/A"}},"not bath","not kitchen",{"$error":"#VALUE!"},{"$f":"VLOOKUP(Observations!R267,EWEMs!$B$5:$D$29,3,FALSE)","v":{"$error":"#VALUE!"}},false,false,"",{"$f":"IF(B267=\"\",\"\",INDEX('Units and Spaces'!C:C,MATCH(Observations!B267,'Units and Spaces'!B:B,0)))","v":""}]
[null,null,"",null,null,"",null,null,"",null,null,"","",false,{"$f":"INDEX(EWEMs!$F$5:$F$29,MATCH(D268,EWEMs!$X$5:$X$29,0))","v":{"$error":"#N/A"}},"not bath","not kitchen",{"$error":"#VALUE!"},{"$f":"VLOOKUP(Observations!R268,EWEMs!$B$5:$D$29,3,FALSE)","v":{"$error":"#VALUE!"}},false,false,"",{"$f":"IF(B268=\"\",\"\",INDEX('Units and Spaces'!C:C,MATCH(Observations!B268,'Units and Spaces'!B:B,0)))","v":""}]
[null,null,"",null,null,"",null,null,"",null,null,"","",false,{"$f":"INDEX(EWEMs!$F$5:$F$29,MATCH(D269,EWEMs!$X$5:$X$29,0))","v":{"$error":"#N/A"}},"not bath","not kitchen",{"$error":"#VALUE!"},{"$f":"VLOOKUP(Observations!R269,EWEMs!$B$5:$D$29,3,FALSE)","v":{"$error":"#VALUE!"}},false,false,"",{"$f":"IF(B269=\"\",\"\",INDEX('Units and Spaces'!C:C,MATCH(Observations!B269,'Units and Spaces'!B:B,0)))","v":""}]
[null,null,"",null,null,"",null,null,"",null,null,"","",false,{"$f":"INDEX(EWEMs!$F$5:$F$29,MATCH(D270,EWEMs!$X$5:$X$29,0))","v":{"$error":"#N/A"}},"not bath","not kitchen",{"$error":"#VALUE!"},{"$f":"VLOOKUP(Observations!R270,EWEMs!$B$5:$D$29,3,FALSE)","v":{"$error":"#VALUE!"}},false,false,"",{"$f":"IF(B270=\"\",\"\",INDEX('Units and Spaces'!C:C,MATCH(Observations!B270,'Units and Spaces'!B:B,0)))","v":""}]
[null,null,"",null,null,"",null,null,"",null,null,"","",false,{"$f":"INDEX(EWEMs!$F$5:$F$29,MATCH(D271,EWEMs!$X$5:$X$29,0))","v":{"$error":"#N/A"}},"not bath","not kitchen",{"$error":"#VALUE!"},{"$f":"VLOOKUP(Observations!R271,EWEMs!$B$5:$D$29,3,FALSE)","v":{"$error":"#VALUE!"}},false,false,"",{"$f":"IF(B271=\"\",\"\",INDEX('Units and Spaces'!C:C,MATCH(Observations!B271,'Units and Spaces'!B:B,0)))","v":""}]
[null,null,"",null,null,"",null,null,"",null,null,"","",false,{"$f":"INDEX(EWEMs!$F$5:$F$29,MATCH(D272,EWEMs!$X$5:$X$29,0))","v":{"$error":"#N/A"}},"not bath","not kitchen",{"$error":"#VALUE!"},{"$f":"VLOOKUP(Observations!R272,EWEMs!$B$5:$D$29,3,FALSE)","v":{"$error":"#VALUE!"}},false,false,"",{"$f":"IF(B272=\"\",\"\",INDEX('Units and Spaces'!C:C,MATCH(Observations!B272,'Units and Spaces'!B:B,0)))","v":""}]
[null,null,"",null,null,"",null,null,"",null,null,"","",false,{"$f":"INDEX(EWEMs!$F$5:$F$29,MATCH(D273,EWEMs!$X$5:$X$29,0))","v":{"$error":"#N/A"}},"not bath","not kitchen",{"$error":"#VALUE!"},{"$f":"VLOOKUP(Observations!R273,EWEMs!$B$5:$D$29,3,FALSE)","v":{"$error":"#VALUE!"}},false,false,"",{"$f":"IF(B273=\"\",\"\",INDEX('Units and Spaces'!C:C,MATCH(Observations!B273,'Units and Spaces'!B:B,0)))","v":""}]
[null,null,"",null,null,"",null,null,"",null,null,"","",false,{"$f":"INDEX(EWEMs!$F$5:$F$29,MATCH(D274,EWEMs!$X$5:$X$29,0))","v":{"$error":"#N/A"}},"not bath","not kitchen",{"$error":"#VALUE!"},{"$f":"VLOOKUP(Observations!R274,EWEMs!$B$5:$D$29,3,FALSE)","v":{"$error":"#VALUE!"}},false,false,"",{"$f":"IF(B274=\"\",\"\",INDEX('Units and Spaces'!C:C,MATCH(Observations!B274,'Units and Spaces'!B:B,0)))","v":""}]
[null,null,"",null,null,"",null,null,"",null,null,"","",false,{"$f":"INDEX(EWEMs!$F$5:$F$29,MATCH(D275,EWEMs!$X$5:$X$29,0))","v":{"$error":"#N/A"}},"not bath","not kitchen",{"$error":"#VALUE!"},{"$f":"VLOOKUP(Observations!R275,EWEMs!$B$5:$D$29,3,FALSE)","v":{"$error":"#VALUE!"}},false,false,"",{"$f":"IF(B275=\"\",\"\",INDEX('Units and Spaces'!C:C,MATCH(Observations!B275,'Units and Spaces'!B:B,0)))","v":""}]
[null,null,"",null,null,"",null,null,"",null,null,"","",false,{"$f":"INDEX(EWEMs!$F$5:$F$29,MATCH(D276,EWEMs!$X$5:$X$29,0))","v":{"$error":"#N/A"}},"not bath","not kitchen",{"$error":"#VALUE!"},{"$f":"VLOOKUP(Observations!R276,EWEMs!$B$5:$D$29,3,FALSE)","v":{"$error":"#VALUE!"}},false,false,"",{"$f":"IF(B276=\"\",\"\",INDEX('Units and Spaces'!C:C,MATCH(Observations!B276,'Units and Spaces'!B:B,0)))","v":""}]
[null,null,"",null,null,"",null,null,"",null,null,"","",false,{"$f":"INDEX(EWEMs!$F$5:$F$29,MATCH(D277,EWEMs!$X$5:$X$29,0))","v":{"$error":"#N/A"}},"not bath","not kitchen",{"$error":"#VALUE!"},{"$f":"VLOOKUP(Observations!R277,EWEMs!$B$5:$D$29,3,FALSE)","v":{"$error":"#VALUE!"}},false,false,"",{"$f":"IF(B277=\"\",\"\",INDEX('Units and Spaces'!C:C,MATCH(Observations!B277,'Units and Spaces'!B:B,0)))","v":""}]
[null,null,"",null,null,"",null,null,"",null,null,"","",false,{"$f":"INDEX(EWEMs!$F$5:$F$29,MATCH(D278,EWEMs!$X$5:$X$29,0))","v":{"$error":"#N/A"}},"not bath","not kitchen",{"$error":"#VALUE!"},{"$f":"VLOOKUP(Observations!R278,EWEMs!$B$5:$D$29,3,FALSE)","v":{"$error":"#VALUE!"}},false,false,"",{"$f":"IF(B278=\"\",\"\",INDEX('Units and Spaces'!C:C,MATCH(Observations!B278,'Units and Spaces'!B:B,0)))","v":""}]
[null,null,"",null,null,"",null,null,"",null,null,"","",false,{"$f":"INDEX(EWEMs!$F$5:$F$29,MATCH(D279,EWEMs!$X$5:$X$29,0))","v":{"$error":"#N/A"}},"not bath","not kitchen",{"$error":"#VALUE!"},{"$f":"VLOOKUP(Observations!R279,EWEMs!$B$5:$D$29,3,FALSE)","v":{"$error":"#VALUE!"}},false,false,"",{"$f":"IF(B279=\"\",\"\",INDEX('Units and Spaces'!C:C,MATCH(Observations!B279,'Units and Spaces'!B:B,0)))","v":""}]
[null,null,"",null,null,"",null,null,"",null,null,"","",false,{"$f":"INDEX(EWEMs!$F$5:$F$29,MATCH(D280,EWEMs!$X$5:$X$29,0))","v":{"$error":"#N/A"}},"not bath","not kitchen",{"$error":"#VALUE!"},{"$f":"VLOOKUP(Observations!R280,EWEMs!$B$5:$D$29,3,FALSE)","v":{"$error":"#VALUE!"}},false,false,"",{"$f":"IF(B280=\"\",\"\",INDEX('Units and Spaces'!C:C,MATCH(Observations!B280,'Units and Spaces'!B:B,0)))","v":""}]
[null,null,"",null,null,"",null,null,"",null,null,"","",false,{"$f":"INDEX(EWEMs!$F$5:$F$29,MATCH(D281,EWEMs!$X$5:$X$29,0))","v":{"$error":"#N/A"}},"not bath","not kitchen",{"$error":"#VALUE!"},{"$f":"VLOOKUP(Observations!R281,EWEMs!$B$5:$D$29,3,FALSE)","v":{"$error":"#VALUE!"}},false,false,"",{"$f":"IF(B281=\"\",\"\",INDEX('Units and Spaces'!C:C,MATCH(Observations!B281,'Units and Spaces'!B:B,0)))","v":""}]
[null,null,"",null,null,"",null,null,"",null,null,"","",false,{"$f":"INDEX(EWEMs!$F$5:$F$29,MATCH(D282,EWEMs!$X$5:$X$29,0))","v":{"$error":"#N/A"}},"not bath","not kitchen",{"$error":"#VALUE!"},{"$f":"VLOOKUP(Observations!R282,EWEMs!$B$5:$D$29,3,FALSE)","v":{"$error":"#VALUE!"}},false,false,"",{"$f":"IF(B282=\"\",\"\",INDEX('Units and Spaces'!C:C,MATCH(Observations!B282,'Units and Spaces'!B:B,0)))","v":""}]
[null,null,"",null,null,"",null,null,"",null,null,"","",false,{"$f":"INDEX(EWEMs!$F$5:$F$29,MATCH(D283,EWEMs!$X$5:$X$29,0))","v":{"$error":"#N/A"}},"not bath","not kitchen",{"$error":"#VALUE!"},{"$f":"VLOOKUP(Observations!R283,EWEMs!$B$5:$D$29,3,FALSE)","v":{"$error":"#VALUE!"}},false,false,"",{"$f":"IF(B283=\"\",\"\",INDEX('Units and Spaces'!C:C,MATCH(Observations!B283,'Units and Spaces'!B:B,0)))","v":""}]
[null,null,"",null,null,"",null,null,"",null,null,"","",false,{"$f":"INDEX(EWEMs!$F$5:$F$29,MATCH(D284,EWEMs!$X$5:$X$29,0))","v":{"$error":"#N/A"}},"not bath","not kitchen",{"$error":"#VALUE!"},{"$f":"VLOOKUP(Observations!R284,EWEMs!$B$5:$D$29,3,FALSE)","v":{"$error":"#VALUE!"}},false,false,"",{"$f":"IF(B284=\"\",\"\",INDEX('Units and Spaces'!C:C,MATCH(Observations!B284,'Units and Spaces'!B:B,0)))","v":""}]
[null,null,"",null,null,"",null,null,"",null,null,"","",false,{"$f":"INDEX(EWEMs!$F$5:$F$29,MATCH(D285,EWEMs!$X$5:$X$29,0))","v":{"$error":"#N/A"}},"not bath","not kitchen",{"$error":"#VALUE!"},{"$f":"VLOOKUP(Observations!R285,EWEMs!$B$5:$D$29,3,FALSE)","v":{"$error":"#VALUE!"}},false,false,"",{"$f":"IF(B285=\"\",\"\",INDEX('Units and Spaces'!C:C,MATCH(Observations!B285,'Units and Spaces'!B:B,0)))","v":""}]
[null,null,"",null,null,"",null,null,"",null,null,"","",false,{"$f":"INDEX(EWEMs!$F$5:$F$29,MATCH(D286,EWEMs!$X$5:$X$29,0))","v":{"$error":"#N/A"}},"not bath","not kitchen",{"$error":"#VALUE!"},{"$f":"VLOOKUP(Observations!R286,EWEMs!$B$5:$D$29,3,FALSE)","v":{"$error":"#VALUE!"}},false,false,"",{"$f":"IF(B286=\"\",\"\",INDEX('Units and Spaces'!C:C,MATCH(Observations!B286,'Units and Spaces'!B:B,0)))","v":""}]
[null,null,"",null,null,"",null,null,"",null,null,"","",false,{"$f":"INDEX(EWEMs!$F$5:$F$29,MATCH(D287,EWEMs!$X$5:$X$29,0))","v":{"$error":"#N/A"}},"not bath","not kitchen",{"$error":"#VALUE!"},{"$f":"VLOOKUP(Observations!R287,EWEMs!$B$5:$D$29,3,FALSE)","v":{"$error":"#VALUE!"}},false,false,"",{"$f":"IF(B287=\"\",\"\",INDEX('Units and Spaces'!C:C,MATCH(Observations!B287,'Units and Spaces'!B:B,0)))","v":""}]
[null,null,"",null,null,"",null,null,"",null,null,"","",false,{"$f":"INDEX(EWEMs!$F$5:$F$29,MATCH(D288,EWEMs!$X$5:$X$29,0))","v":{"$error":"#N/A"}},"not bath","not kitchen",{"$error":"#VALUE!"},{"$f":"VLOOKUP(Observations!R288,EWEMs!$B$5:$D$29,3,FALSE)","v":{"$error":"#VALUE!"}},false,false,"",{"$f":"IF(B288=\"\",\"\",INDEX('Units and Spaces'!C:C,MATCH(Observations!B288,'Units and Spaces'!B:B,0)))","v":""}]
[null,null,"",null,null,"",null,null,"",null,null,"","",false,{"$f":"INDEX(EWEMs!$F$5:$F$29,MATCH(D289,EWEMs!$X$5:$X$29,0))","v":{"$error":"#N/A"}},"not bath","not kitchen",{"$error":"#VALUE!"},{"$f":"VLOOKUP(Observations!R289,EWEMs!$B$5:$D$29,3,FALSE)","v":{"$error":"#VALUE!"}},false,false,"",{"$f":"IF(B289=\"\",\"\",INDEX('Units and Spaces'!C:C,MATCH(Observations!B289,'Units and Spaces'!B:B,0)))","v":""}]
[null,null,"",null,null,"",null,null,"",null,null,"","",false,{"$f":"INDEX(EWEMs!$F$5:$F$29,MATCH(D290,EWEMs!$X$5:$X$29,0))","v":{"$error":"#N/A"}},"not bath","not kitchen",{"$error":"#VALUE!"},{"$f":"VLOOKUP(Observations!R290,EWEMs!$B$5:$D$29,3,FALSE)","v":{"$error":"#VALUE!"}},false,false,"",{"$f":"IF(B290=\"\",\"\",INDEX('Units and Spaces'!C:C,MATCH(Observations!B290,'Units and Spaces'!B:B,0)))","v":""}]
[null,null,"",null,null,"",null,null,"",null,null,"","",false,{"$f":"INDEX(EWEMs!$F$5:$F$29,MATCH(D291,EWEMs!$X$5:$X$29,0))","v":{"$error":"#N/A"}},"not bath","not kitchen",{"$error":"#VALUE!"},{"$f":"VLOOKUP(Observations!R291,EWEMs!$B$5:$D$29,3,FALSE)","v":{"$error":"#VALUE!"}},false,false,"",{"$f":"IF(B291=\"\",\"\",INDEX('Units and Spaces'!C:C,MATCH(Observations!B291,'Units and Spaces'!B:B,0)))","v":""}]
[null,null,"",null,null,"",null,null,"",null,null,"","",false,{"$f":"INDEX(EWEMs!$F$5:$F$29,MATCH(D292,EWEMs!$X$5:$X$29,0))","v":{"$error":"#N/A"}},"not bath","not kitchen",{"$error":"#VALUE!"},{"$f":"VLOOKUP(Observations!R292,EWEMs!$B$5:$D$29,3,FALSE)","v":{"$error":"#VALUE!"}},false,false,"",{"$f":"IF(B292=\"\",\"\",INDEX('Units and Spaces'!C:C,MATCH(Observations!B292,'Units and Spaces'!B:B,0)))","v":""}]
[null,null,"",null,null,"",null,null,"",null,null,"","",false,{"$f":"INDEX(EWEMs!$F$5:$F$29,MATCH(D293,EWEMs!$X$5:$X$29,0))","v":{"$error":"#N/A"}},"not bath","not kitchen",{"$error":"#VALUE!"},{"$f":"VLOOKUP(Observations!R293,EWEMs!$B$5:$D$29,3,FALSE)","v":{"$error":"#VALUE!"}},false,false,"",{"$f":"IF(B293=\"\",\"\",INDEX('Units and Spaces'!C:C,MATCH(Observations!B293,'Units and Spaces'!B:B,0)))","v":""}]
[null,null,"",null,null,"",null,null,"",null,null,"","",false,{"$f":"INDEX(EWEMs!$F$5:$F$29,MATCH(D294,EWEMs!$X$5:$X$29,0))","v":{"$error":"#N/A"}},"not bath","not kitchen",{"$error":"#VALUE!"},{"$f":"VLOOKUP(Observations!R294,EWEMs!$B$5:$D$29,3,FALSE)","v":{"$error":"#VALUE!"}},false,false,"",{"$f":"IF(B294=\"\",\"\",INDEX('Units and Spaces'!C:C,MATCH(Observations!B294,'Units and Spaces'!B:B,0)))","v":""}]
[null,null,"",null,null,"",null,null,"",null,null,"","",false,{"$f":"INDEX(EWEMs!$F$5:$F$29,MATCH(D295,EWEMs!$X$5:$X$29,0))","v":{"$error":"#N/A"}},"not bath","not kitchen",{"$error":"#VALUE!"},{"$f":"VLOOKUP(Observations!R295,EWEMs!$B$5:$D$29,3,FALSE)","v":{"$error":"#VALUE!"}},false,false,"",{"$f":"IF(B295=\"\",\"\",INDEX('Units and Spaces'!C:C,MATCH(Observations!B295,'Units and Spaces'!B:B,0)))","v":""}]
[null,null,"",null,null,"",null,null,"",null,null,"","",false,{"$f":"INDEX(EWEMs!$F$5:$F$29,MATCH(D296,EWEMs!$X$5:$X$29,0))","v":{"$error":"#N/A"}},"not bath","not kitchen",{"$error":"#VALUE!"},{"$f":"VLOOKUP(Observations!R296,EWEMs!$B$5:$D$29,3,FALSE)","v":{"$error":"#VALUE!"}},false,false,"",{"$f":"IF(B296=\"\",\"\",INDEX('Units and Spaces'!C:C,MATCH(Observations!B296,'Units and Spaces'!B:B,0)))","v":""}]
[null,null,"",null,null,"",null,null,"",null,null,"","",false,{"$f":"INDEX(EWEMs!$F$5:$F$29,MATCH(D297,EWEMs!$X$5:$X$29,0))","v":{"$error":"#N/A"}},"not bath","not kitchen",{"$error":"#VALUE!"},{"$f":"VLOOKUP(Observations!R297,EWEMs!$B$5:$D$29,3,FALSE)","v":{"$error":"#VALUE!"}},false,false,"",{"$f":"IF(B297=\"\",\"\",INDEX('Units and Spaces'!C:C,MATCH(Observations!B297,'Units and Spaces'!B:B,0)))","v":""}]
[null,null,"",null,null,"",null,null,"",null,null,"","",false,{"$f":"INDEX(EWEMs!$F$5:$F$29,MATCH(D298,EWEMs!$X$5:$X$29,0))","v":{"$error":"#N/A"}},"not bath","not kitchen",{"$error":"#VALUE!"},{"$f":"VLOOKUP(Observations!R298,EWEMs!$B$5:$D$29,3,FALSE)","v":{"$error":"#VALUE!"}},false,false,"",{"$f":"IF(B298=\"\",\"\",INDEX('Units and Spaces'!C:C,MATCH(Observations!B298,'Units and Spaces'!B:B,0)))","v":""}]
[null,null,"",null,null,"",null,null,"",null,null,"","",false,{"$f":"INDEX(EWEMs!$F$5:$F$29,MATCH(D299,EWEMs!$X$5:$X$29,0))","v":{"$error":"#N/A"}},"not bath","not kitchen",{"$error":"#VALUE!"},{"$f":"VLOOKUP(Observations!R299,EWEMs!$B$5:$D$29,3,FALSE)","v":{"$error":"#VALUE!"}},false,false,"",{"$f":"IF(B299=\"\",\"\",INDEX('Units and Spaces'!C:C,MATCH(Observations!B299,'Units and Spaces'!B:B,0)))","v":""}]
[null,null,"",null,null,"",null,null,"",null,null,"","",false,{"$f":"INDEX(EWEMs!$F$5:$F$29,MATCH(D300,EWEMs!$X$5:$X$29,0))","v":{"$error":"#N/A"}},"not bath","not kitchen",{"$error":"#VALUE!"},{"$f":"VLOOKUP(Observations!R300,EWEMs!$B$5:$D$29,3,FALSE)","v":{"$error":"#VALUE!"}},false,false,"",{"$f":"IF(B300=\"\",\"\",INDEX('Units and Spaces'!C:C,MATCH(Observations!B300,'Units and Spaces'!B:B,0)))","v":""}]
[null,null,"",null,null,"",null,null,"",null,null,"","",false,{"$f":"INDEX(EWEMs!$F$5:$F$29,MATCH(D301,EWEMs!$X$5:$X$29,0))","v":{"$error":"#N/A"}},"not bath","not kitchen",{"$error":"#VALUE!"},{"$f":"VLOOKUP(Observations!R301,EWEMs!$B$5:$D$29,3,FALSE)","v":{"$error":"#VALUE!"}},false,false,"",{"$f":"IF(B301=\"\",\"\",INDEX('Units and Spaces'!C:C,MATCH(Observations!B301,'Units and Spaces'!B:B,0)))","v":""}]
[null,null,"",null,null,"",null,null,"",null,null,"","",false,{"$f":"INDEX(EWEMs!$F$5:$F$29,MATCH(D302,EWEMs!$X$5:$X$29,0))","v":{"$error":"#N/A"}},"not bath","not kitchen",{"$error":"#VALUE!"},{"$f":"VLOOKUP(Observations!R302,EWEMs!$B$5:$D$29,3,FALSE)","v":{"$error":"#VALUE!"}},false,false,"",{"$f":"IF(B302=\"\",\"\",INDEX('Units and Spaces'!C:C,MATCH(Observations!B302,'Units and Spaces'!B:B,0)))","v":""}]
[null,null,"",null,null,"",null,null,"",null,null,"","",false,{"$f":"INDEX(EWEMs!$F$5:$F$29,MATCH(D303,EWEMs!$X$5:$X$29,0))","v":{"$error":"#N/A"}},"not bath","not kitchen",{"$error":"#VALUE!"},{"$f":"VLOOKUP(Observations!R303,EWEMs!$B$5:$D$29,3,FALSE)","v":{"$error":"#VALUE!"}},false,false,"",{"$f":"IF(B303=\"\",\"\",INDEX('Units and Spaces'!C:C,MATCH(Observations!B303,'Units and Spaces'!B:B,0)))","v":""}]
[null,null,"",null,null,"",null,null,"",null,null,"","",false,{"$f":"INDEX(EWEMs!$F$5:$F$29,MATCH(D304,EWEMs!$X$5:$X$29,0))","v":{"$error":"#N/A"}},"not bath","not kitchen",{"$error":"#VALUE!"},{"$f":"VLOOKUP(Observations!R304,EWEMs!$B$5:$D$29,3,FALSE)","v":{"$error":"#VALUE!"}},false,false,"",{"$f":"IF(B304=\"\",\"\",INDEX('Units and Spaces'!C:C,MATCH(Observations!B304,'Units and Spaces'!B:B,0)))","v":""}]
[null,null,"",null,null,"",null,null,"",null,null,"","",false,{"$f":"INDEX(EWEMs!$F$5:$F$29,MATCH(D305,EWEMs!$X$5:$X$29,0))","v":{"$error":"#N/A"}},"not bath","not kitchen",{"$error":"#VALUE!"},{"$f":"VLOOKUP(Observations!R305,EWEMs!$B$5:$D$29,3,FALSE)","v":{"$error":"#VALUE!"}},false,false,"",{"$f":"IF(B305=\"\",\"\",INDEX('Units and Spaces'!C:C,MATCH(Observations!B305,'Units and Spaces'!B:B,0)))","v":""}]
[null,null,"",null,null,"",null,null,"",null,null,"","",false,{"$f":"INDEX(EWEMs!$F$5:$F$29,MATCH(D306,EWEMs!$X$5:$X$29,0))","v":{"$error":"#N/A"}},"not bath","not kitchen",{"$error":"#VALUE!"},{"$f":"VLOOKUP(Observations!R306,EWEMs!$B$5:$D$29,3,FALSE)","v":{"$error":"#VALUE!"}},false,false,"",{"$f":"IF(B306=\"\",\"\",INDEX('Units and Spaces'!C:C,MATCH(Observations!B306,'Units and Spaces'!B:B,0)))","v":""}]
[null,null,"",null,null,"",null,null,"",null,null,"","",false,{"$f":"INDEX(EWEMs!$F$5:$F$29,MATCH(D307,EWEMs!$X$5:$X$29,0))","v":{"$error":"#N/A"}},"not bath","not kitchen",{"$error":"#VALUE!"},{"$f":"VLOOKUP(Observations!R307,EWEMs!$B$5:$D$29,3,FALSE)","v":{"$error":"#VALUE!"}},false,false,"",{"$f":"IF(B307=\"\",\"\",INDEX('Units and Spaces'!C:C,MATCH(Observations!B307,'Units and Spaces'!B:B,0)))","v":""}]
[null,null,"",null,null,"",null,null,"",null,null,"","",false,{"$f":"INDEX(EWEMs!$F$5:$F$29,MATCH(D308,EWEMs!$X$5:$X$29,0))","v":{"$error":"#N/A"}},"not bath","not kitchen",{"$error":"#VALUE!"},{"$f":"VLOOKUP(Observations!R308,EWEMs!$B$5:$D$29,3,FALSE)","v":{"$error":"#VALUE!"}},false,false,"",{"$f":"IF(B308=\"\",\"\",INDEX('Units and Spaces'!C:C,MATCH(Observations!B308,'Units and Spaces'!B:B,0)))","v":""}]
[null,null,"",null,null,"",null,null,"",null,null,"","",false,{"$f":"INDEX(EWEMs!$F$5:$F$29,MATCH(D309,EWEMs!$X$5:$X$29,0))","v":{"$error":"#N/A"}},"not bath","not kitchen",{"$error":"#VALUE!"},{"$f":"VLOOKUP(Observations!R309,EWEMs!$B$5:$D$29,3,FALSE)","v":{"$error":"#VALUE!"}},false,false,"",{"$f":"IF(B309=\"\",\"\",INDEX('Units and Spaces'!C:C,MATCH(Observations!B309,'Units and Spaces'!B:B,0)))","v":""}]
[null,null,"",null,null,"",null,null,"",null,null,"","",false,{"$f":"INDEX(EWEMs!$F$5:$F$29,MATCH(D310,EWEMs!$X$5:$X$29,0))","v":{"$error":"#N/A"}},"not bath","not kitchen",{"$error":"#VALUE!"},{"$f":"VLOOKUP(Observations!R310,EWEMs!$B$5:$D$29,3,FALSE)","v":{"$error":"#VALUE!"}},false,false,"",{"$f":"IF(B310=\"\",\"\",INDEX('Units and Spaces'!C:C,MATCH(Observations!B310,'Units and Spaces'!B:B,0)))","v":""}]
[null,null,"",null,null,"",null,null,"",null,null,"","",false,{"$f":"INDEX(EWEMs!$F$5:$F$29,MATCH(D311,EWEMs!$X$5:$X$29,0))","v":{"$error":"#N/A"}},"not bath","not kitchen",{"$error":"#VALUE!"},{"$f":"VLOOKUP(Observations!R311,EWEMs!$B$5:$D$29,3,FALSE)","v":{"$error":"#VALUE!"}},false,false,"",{"$f":"IF(B311=\"\",\"\",INDEX('Units and Spaces'!C:C,MATCH(Observations!B311,'Units and Spaces'!B:B,0)))","v":""}]
[null,null,"",null,null,"",null,null,"",null,null,"","",false,{"$f":"INDEX(EWEMs!$F$5:$F$29,MATCH(D312,EWEMs!$X$5:$X$29,0))","v":{"$error":"#N/A"}},"not bath","not kitchen",{"$error":"#VALUE!"},{"$f":"VLOOKUP(Observations!R312,EWEMs!$B$5:$D$29,3,FALSE)","v":{"$error":"#VALUE!"}},false,false,"",{"$f":"IF(B312=\"\",\"\",INDEX('Units and Spaces'!C:C,MATCH(Observations!B312,'Units and Spaces'!B:B,0)))","v":""}]
[null,null,"",null,null,"",null,null,"",null,null,"","",false,{"$f":"INDEX(EWEMs!$F$5:$F$29,MATCH(D313,EWEMs!$X$5:$X$29,0))","v":{"$error":"#N/A"}},"not bath","not kitchen",{"$error":"#VALUE!"},{"$f":"VLOOKUP(Observations!R313,EWEMs!$B$5:$D$29,3,FALSE)","v":{"$error":"#VALUE!"}},false,false,"",{"$f":"IF(B313=\"\",\"\",INDEX('Units and Spaces'!C:C,MATCH(Observations!B313,'Units and Spaces'!B:B,0)))","v":""}]
[null,null,"",null,null,"",null,null,"",null,null,"","",false,{"$f":"INDEX(EWEMs!$F$5:$F$29,MATCH(D314,EWEMs!$X$5:$X$29,0))","v":{"$error":"#N/A"}},"not bath","not kitchen",{"$error":"#VALUE!"},{"$f":"VLOOKUP(Observations!R314,EWEMs!$B$5:$D$29,3,FALSE)","v":{"$error":"#VALUE!"}},false,false,"",{"$f":"IF(B314=\"\",\"\",INDEX('Units and Spaces'!C:C,MATCH(Observations!B314,'Units and Spaces'!B:B,0)))","v":""}]
[null,null,"",null,null,"",null,null,"",null,null,"","",false,{"$f":"INDEX(EWEMs!$F$5:$F$29,MATCH(D315,EWEMs!$X$5:$X$29,0))","v":{"$error":"#N/A"}},"not bath","not kitchen",{"$error":"#VALUE!"},{"$f":"VLOOKUP(Observations!R315,EWEMs!$B$5:$D$29,3,FALSE)","v":{"$error":"#VALUE!"}},false,false,"",{"$f":"IF(B315=\"\",\"\",INDEX('Units and Spaces'!C:C,MATCH(Observations!B315,'Units and Spaces'!B:B,0)))","v":""}]
[null,null,"",null,null,"",null,null,"",null,null,"","",false,{"$f":"INDEX(EWEMs!$F$5:$F$29,MATCH(D316,EWEMs!$X$5:$X$29,0))","v":{"$error":"#N/A"}},"not bath","not kitchen",{"$error":"#VALUE!"},{"$f":"VLOOKUP(Observations!R316,EWEMs!$B$5:$D$29,3,FALSE)","v":{"$error":"#VALUE!"}},false,false,"",{"$f":"IF(B316=\"\",\"\",INDEX('Units and Spaces'!C:C,MATCH(Observations!B316,'Units and Spaces'!B:B,0)))","v":""}]
[null,null,"",null,null,"",null,null,"",null,null,"","",false,{"$f":"INDEX(EWEMs!$F$5:$F$29,MATCH(D317,EWEMs!$X$5:$X$29,0))","v":{"$error":"#N/A"}},"not bath","not kitchen",{"$error":"#VALUE!"},{"$f":"VLOOKUP(Observations!R317,EWEMs!$B$5:$D$29,3,FALSE)","v":{"$error":"#VALUE!"}},false,false,"",{"$f":"IF(B317=\"\",\"\",INDEX('Units and Spaces'!C:C,MATCH(Observations!B317,'Units and Spaces'!B:B,0)))","v":""}]
[null,null,"",null,null,"",null,null,"",null,null,"","",false,{"$f":"INDEX(EWEMs!$F$5:$F$29,MATCH(D318,EWEMs!$X$5:$X$29,0))","v":{"$error":"#N/A"}},"not bath","not kitchen",{"$error":"#VALUE!"},{"$f":"VLOOKUP(Observations!R318,EWEMs!$B$5:$D$29,3,FALSE)","v":{"$error":"#VALUE!"}},false,false,"",{"$f":"IF(B318=\"\",\"\",INDEX('Units and Spaces'!C:C,MATCH(Observations!B318,'Units and Spaces'!B:B,0)))","v":""}]
[null,null,"",null,null,"",null,null,"",null,null,"","",false,{"$f":"INDEX(EWEMs!$F$5:$F$29,MATCH(D319,EWEMs!$X$5:$X$29,0))","v":{"$error":"#N/A"}},"not bath","not kitchen",{"$error":"#VALUE!"},{"$f":"VLOOKUP(Observations!R319,EWEMs!$B$5:$D$29,3,FALSE)","v":{"$error":"#VALUE!"}},false,false,"",{"$f":"IF(B319=\"\",\"\",INDEX('Units and Spaces'!C:C,MATCH(Observations!B319,'Units and Spaces'!B:B,0)))","v":""}]
[null,null,"",null,null,"",null,null,"",null,null,"","",false,{"$f":"INDEX(EWEMs!$F$5:$F$29,MATCH(D320,EWEMs!$X$5:$X$29,0))","v":{"$error":"#N/A"}},"not bath","not kitchen",{"$error":"#VALUE!"},{"$f":"VLOOKUP(Observations!R320,EWEMs!$B$5:$D$29,3,FALSE)","v":{"$error":"#VALUE!"}},false,false,"",{"$f":"IF(B320=\"\",\"\",INDEX('Units and Spaces'!C:C,MATCH(Observations!B320,'Units and Spaces'!B:B,0)))","v":""}]
[null,null,"",null,null,"",null,null,"",null,null,"","",false,{"$f":"INDEX(EWEMs!$F$5:$F$29,MATCH(D321,EWEMs!$X$5:$X$29,0))","v":{"$error":"#N/A"}},"not bath","not kitchen",{"$error":"#VALUE!"},{"$f":"VLOOKUP(Observations!R321,EWEMs!$B$5:$D$29,3,FALSE)","v":{"$error":"#VALUE!"}},false,false,"",{"$f":"IF(B321=\"\",\"\",INDEX('Units and Spaces'!C:C,MATCH(Observations!B321,'Units and Spaces'!B:B,0)))","v":""}]
[null,null,"",null,null,"",null,null,"",null,null,"","",false,{"$f":"INDEX(EWEMs!$F$5:$F$29,MATCH(D322,EWEMs!$X$5:$X$29,0))","v":{"$error":"#N/A"}},"not bath","not kitchen",{"$error":"#VALUE!"},{"$f":"VLOOKUP(Observations!R322,EWEMs!$B$5:$D$29,3,FALSE)","v":{"$error":"#VALUE!"}},false,false,"",{"$f":"IF(B322=\"\",\"\",INDEX('Units and Spaces'!C:C,MATCH(Observations!B322,'Units and Spaces'!B:B,0)))","v":""}]
[null,null,"",null,null,"",null,null,"",null,null,"","",false,{"$f":"INDEX(EWEMs!$F$5:$F$29,MATCH(D323,EWEMs!$X$5:$X$29,0))","v":{"$error":"#N/A"}},"not bath","not kitchen",{"$error":"#VALUE!"},{"$f":"VLOOKUP(Observations!R323,EWEMs!$B$5:$D$29,3,FALSE)","v":{"$error":"#VALUE!"}},false,false,"",{"$f":"IF(B323=\"\",\"\",INDEX('Units and Spaces'!C:C,MATCH(Observations!B323,'Units and Spaces'!B:B,0)))","v":""}]
[null,null,"",null,null,"",null,null,"",null,null,"","",false,{"$f":"INDEX(EWEMs!$F$5:$F$29,MATCH(D324,EWEMs!$X$5:$X$29,0))","v":{"$error":"#N/A"}},"not bath","not kitchen",{"$error":"#VALUE!"},{"$f":"VLOOKUP(Observations!R324,EWEMs!$B$5:$D$29,3,FALSE)","v":{"$error":"#VALUE!"}},false,false,"",{"$f":"IF(B324=\"\",\"\",INDEX('Units and Spaces'!C:C,MATCH(Observations!B324,'Units and Spaces'!B:B,0)))","v":""}]
[null,null,"",null,null,"",null,null,"",null,null,"","",false,{"$f":"INDEX(EWEMs!$F$5:$F$29,MATCH(D325,EWEMs!$X$5:$X$29,0))","v":{"$error":"#N/A"}},"not bath","not kitchen",{"$error":"#VALUE!"},{"$f":"VLOOKUP(Observations!R325,EWEMs!$B$5:$D$29,3,FALSE)","v":{"$error":"#VALUE!"}},false,false,"",{"$f":"IF(B325=\"\",\"\",INDEX('Units and Spaces'!C:C,MATCH(Observations!B325,'Units and Spaces'!B:B,0)))","v":""}]
[null,null,"",null,null,"",null,null,"",null,null,"","",false,{"$f":"INDEX(EWEMs!$F$5:$F$29,MATCH(D326,EWEMs!$X$5:$X$29,0))","v":{"$error":"#N/A"}},"not bath","not kitchen",{"$error":"#VALUE!"},{"$f":"VLOOKUP(Observations!R326,EWEMs!$B$5:$D$29,3,FALSE)","v":{"$error":"#VALUE!"}},false,false,"",{"$f":"IF(B326=\"\",\"\",INDEX('Units and Spaces'!C:C,MATCH(Observations!B326,'Units and Spaces'!B:B,0)))","v":""}]
[null,null,"",null,null,"",null,null,"",null,null,"","",false,{"$f":"INDEX(EWEMs!$F$5:$F$29,MATCH(D327,EWEMs!$X$5:$X$29,0))","v":{"$error":"#N/A"}},"not bath","not kitchen",{"$error":"#VALUE!"},{"$f":"VLOOKUP(Observations!R327,EWEMs!$B$5:$D$29,3,FALSE)","v":{"$error":"#VALUE!"}},false,false,"",{"$f":"IF(B327=\"\",\"\",INDEX('Units and Spaces'!C:C,MATCH(Observations!B327,'Units and Spaces'!B:B,0)))","v":""}]
[null,null,{"$f":"IF(B328=\"\", \"\", IF(AND(B328<>\"\",D328=\"\"),W328,IF(ISNUMBER(SEARCH(W328,D328)),W328,\"SPACE MISMATACH\")))","v":""},null,null,{"$f":"IF(AND(N328=TRUE,E328<>\"\"), IF(ISNUMBER(SEARCH(\"compliant\", P328)),P328,IF(ISNUMBER(SEARCH(\"compliant\",Q328)),Q328,IF(E328<=O328,\"compliant\",\"noncompliant\"))),\"\")","v":""},null,null,{"$f":"IF(AND(D328=\"\",D329<>\"\"), \"No Blanks Please!\", \"\")","v":""},null,null,{"$f":"IF(OR(F328=\"compliant\",F328=\"noncompliant\"),D328&F328,D328&G328)","v":""},{"$f":"IF(C328=\"Apartment\",IF(B328=0,\"\",B328),\"\")","v":""},{"$f":"IF(OR(ISNUMBER(FIND(\"low-flow\",D328,1)), ISNUMBER(FIND(\"low-flush\",D328,1))),TRUE,FALSE)","v":false},{"$f":"INDEX(EWEMs!$F$5:$F$29,MATCH(D328,EWEMs!$X$5:$X$29,0))","v":{"$error":"#N/A"}},{"$f":"IF(OR(ISNUMBER(SEARCH(\"bath faucets\", D328)), AND( ISNUMBER(SEARCH(\"fixture\", D328)),ISNUMBER(SEARCH(\"bath\", S328)) )), IF(O328<=1, IF(AND(E328>=O328, E328<=1), \"compliant\", \"noncompliant\"), IF(AND(E328>=1, E328<=O328),\"compliant\",\"noncompliant\")), \"not bath\"\n)","v":"not bath"},{"$f":"IF(OR(ISNUMBER(SEARCH(\"kitchen faucets\",D328)),AND(ISNUMBER(SEARCH(\"fixtures\",D328)),ISNUMBER(SEARCH(\"kitchen\",S328)))),IF(O328<=1.5,IF(AND(E328>=1, E328<=1.5),\"compliant\",\"noncompliant\"),IF(AND(E328>=1.5,E328<=O328),\"compliant\",\"noncompliant\")),\"not kitchen\"\n)","v":"not kitchen"},{"$f":"LEFT(D328,(FIND(\" \",D328,1)-1))*1","v":{"$error":"#VALUE!"}},{"$f":"VLOOKUP(Observations!R328,EWEMs!$B$5:$D$29,3,FALSE)","v":{"$error":"#VALUE!"}},{"$f":"IF(ISNUMBER(E328),AND(OR(E328<0.5,E328>5),E328<>\"\"),FALSE)","v":false},{"$f":"IF(OR(B328<>\"\",D328<>\"\", E328<>\"\",G328<>\"\",H328<>\"\"), IF(N328=TRUE, IF(OR(B328=\"\", D328=\"\", E328=\"\", H328=\"\"), TRUE, FALSE), IF(OR(B328=\"\", D328=\"\", G328=\"\", H328=\"\"), TRUE, FALSE)), FALSE)","v":false},{"$f":"IF(OR(F328=\"noncompliant\", G328=\"noncompliant\"), IFERROR(LEFT(D328, LEN(_xlfn.TEXTBEFORE(D328,\"-\",-1)))&\" (Space: \"&B328&\")\", \"\"), \"\")","v":""},{"$f":"IF(B328=\"\",\"\",INDEX('Units and Spaces'!C:C,MATCH(Observations!B328,'Units and Spaces'!B:B,0)))","v":""}]
[null,null,"",null,null,"",null,null,"",null,null,"","",false,{"$f":"INDEX(EWEMs!$F$5:$F$29,MATCH(D329,EWEMs!$X$5:$X$29,0))","v":{"$error":"#N/A"}},"not bath","not kitchen",{"$error":"#VALUE!"},{"$f":"VLOOKUP(Observations!R329,EWEMs!$B$5:$D$29,3,FALSE)","v":{"$error":"#VALUE!"}},false,false,"",{"$f":"IF(B329=\"\",\"\",INDEX('Units and Spaces'!C:C,MATCH(Observations!B329,'Units and Spaces'!B:B,0)))","v":""}]
[null,null,"",null,null,"",null,null,"",null,null,"","",false,{"$f":"INDEX(EWEMs!$F$5:$F$29,MATCH(D330,EWEMs!$X$5:$X$29,0))","v":{"$error":"#N/A"}},"not bath","not kitchen",{"$error":"#VALUE!"},{"$f":"VLOOKUP(Observations!R330,EWEMs!$B$5:$D$29,3,FALSE)","v":{"$error":"#VALUE!"}},false,false,"",{"$f":"IF(B330=\"\",\"\",INDEX('Units and Spaces'!C:C,MATCH(Observations!B330,'Units and Spaces'!B:B,0)))","v":""}]
[null,null,"",null,null,"",null,null,"",null,null,"","",false,{"$f":"INDEX(EWEMs!$F$5:$F$29,MATCH(D331,EWEMs!$X$5:$X$29,0))","v":{"$error":"#N/A"}},"not bath","not kitchen",{"$error":"#VALUE!"},{"$f":"VLOOKUP(Observations!R331,EWEMs!$B$5:$D$29,3,FALSE)","v":{"$error":"#VALUE!"}},false,false,"",{"$f":"IF(B331=\"\",\"\",INDEX('Units and Spaces'!C:C,MATCH(Observations!B331,'Units and Spaces'!B:B,0)))","v":""}]
[null,null,"",null,null,"",null,null,"",null,null,"","",false,{"$f":"INDEX(EWEMs!$F$5:$F$29,MATCH(D332,EWEMs!$X$5:$X$29,0))","v":{"$error":"#N/A"}},"not bath","not kitchen",{"$error":"#VALUE!"},{"$f":"VLOOKUP(Observations!R332,EWEMs!$B$5:$D$29,3,FALSE)","v":{"$error":"#VALUE!"}},false,false,"",{"$f":"IF(B332=\"\",\"\",INDEX('Units and Spaces'!C:C,MATCH(Observations!B332,'Units and Spaces'!B:B,0)))","v":""}]
[null,null,"",null,null,"",null,null,"",null,null,"","",false,{"$f":"INDEX(EWEMs!$F$5:$F$29,MATCH(D333,EWEMs!$X$5:$X$29,0))","v":{"$error":"#N/A"}},"not bath","not kitchen",{"$error":"#VALUE!"},{"$f":"VLOOKUP(Observations!R333,EWEMs!$B$5:$D$29,3,FALSE)","v":{"$error":"#VALUE!"}},false,false,"",{"$f":"IF(B333=\"\",\"\",INDEX('Units and Spaces'!C:C,MATCH(Observations!B333,'Units and Spaces'!B:B,0)))","v":""}]
[null,null,"",null,null,"",null,null,"",null,null,"","",false,{"$f":"INDEX(EWEMs!$F$5:$F$29,MATCH(D334,EWEMs!$X$5:$X$29,0))","v":{"$error":"#N/A"}},"not bath","not kitchen",{"$error":"#VALUE!"},{"$f":"VLOOKUP(Observations!R334,EWEMs!$B$5:$D$29,3,FALSE)","v":{"$error":"#VALUE!"}},false,false,"",{"$f":"IF(B334=\"\",\"\",INDEX('Units and Spaces'!C:C,MATCH(Observations!B334,'Units and Spaces'!B:B,0)))","v":""}]
[null,null,"",null,null,"",null,null,"",null,null,"","",false,{"$f":"INDEX(EWEMs!$F$5:$F$29,MATCH(D335,EWEMs!$X$5:$X$29,0))","v":{"$error":"#N/A"}},"not bath","not kitchen",{"$error":"#VALUE!"},{"$f":"VLOOKUP(Observations!R335,EWEMs!$B$5:$D$29,3,FALSE)","v":{"$error":"#VALUE!"}},false,false,"",{"$f":"IF(B335=\"\",\"\",INDEX('Units and Spaces'!C:C,MATCH(Observations!B335,'Units and Spaces'!B:B,0)))","v":""}]
[null,null,"",null,null,"",null,null,"",null,null,"","",false,{"$f":"INDEX(EWEMs!$F$5:$F$29,MATCH(D336,EWEMs!$X$5:$X$29,0))","v":{"$error":"#N/A"}},"not bath","not kitchen",{"$error":"#VALUE!"},{"$f":"VLOOKUP(Observations!R336,EWEMs!$B$5:$D$29,3,FALSE)","v":{"$error":"#VALUE!"}},false,false,"",{"$f":"IF(B336=\"\",\"\",INDEX('Units and Spaces'!C:C,MATCH(Observations!B336,'Units and Spaces'!B:B,0)))","v":""}]
[null,null,"",null,null,"",null,null,"",null,null,"","",false,{"$f":"INDEX(EWEMs!$F$5:$F$29,MATCH(D337,EWEMs!$X$5:$X$29,0))","v":{"$error":"#N/A"}},"not bath","not kitchen",{"$error":"#VALUE!"},{"$f":"VLOOKUP(Observations!R337,EWEMs!$B$5:$D$29,3,FALSE)","v":{"$error":"#VALUE!"}},false,false,"",{"$f":"IF(B337=\"\",\"\",INDEX('Units and Spaces'!C:C,MATCH(Observations!B337,'Units and Spaces'!B:B,0)))","v":""}]
[null,null,"",null,null,"",null,null,"",null,null,"","",false,{"$f":"INDEX(EWEMs!$F$5:$F$29,MATCH(D338,EWEMs!$X$5:$X$29,0))","v":{"$error":"#N/A"}},"not bath","not kitchen",{"$error":"#VALUE!"},{"$f":"VLOOKUP(Observations!R338,EWEMs!$B$5:$D$29,3,FALSE)","v":{"$error":"#VALUE!"}},false,false,"",{"$f":"IF(B338=\"\",\"\",INDEX('Units and Spaces'!C:C,MATCH(Observations!B338,'Units and Spaces'!B:B,0)))","v":""}]
[null,null,"",null,null,"",null,null,"",null,null,"","",false,{"$f":"INDEX(EWEMs!$F$5:$F$29,MATCH(D339,EWEMs!$X$5:$X$29,0))","v":{"$error":"#N/A"}},"not bath","not kitchen",{"$error":"#VALUE!"},{"$f":"VLOOKUP(Observations!R339,EWEMs!$B$5:$D$29,3,FALSE)","v":{"$error":"#VALUE!"}},false,false,"",{"$f":"IF(B339=\"\",\"\",INDEX('Units and Spaces'!C:C,MATCH(Observations!B339,'Units and Spaces'!B:B,0)))","v":""}]
[null,null,"",null,null,"",null,null,"",null,null,"","",false,{"$f":"INDEX(EWEMs!$F$5:$F$29,MATCH(D340,EWEMs!$X$5:$X$29,0))","v":{"$error":"#N/A"}},"not bath","not kitchen",{"$error":"#VALUE!"},{"$f":"VLOOKUP(Observations!R340,EWEMs!$B$5:$D$29,3,FALSE)","v":{"$error":"#VALUE!"}},false,false,"",{"$f":"IF(B340=\"\",\"\",INDEX('Units and Spaces'!C:C,MATCH(Observations!B340,'Units and Spaces'!B:B,0)))","v":""}]
[null,null,"",null,null,"",null,null,"",null,null,"","",false,{"$f":"INDEX(EWEMs!$F$5:$F$29,MATCH(D341,EWEMs!$X$5:$X$29,0))","v":{"$error":"#N/A"}},"not bath","not kitchen",{"$error":"#VALUE!"},{"$f":"VLOOKUP(Observations!R341,EWEMs!$B$5:$D$29,3,FALSE)","v":{"$error":"#VALUE!"}},false,false,"",{"$f":"IF(B341=\"\",\"\",INDEX('Units and Spaces'!C:C,MATCH(Observations!B341,'Units and Spaces'!B:B,0)))","v":""}]
[null,null,"",null,null,"",null,null,"",null,null,"","",false,{"$f":"INDEX(EWEMs!$F$5:$F$29,MATCH(D342,EWEMs!$X$5:$X$29,0))","v":{"$error":"#N/A"}},"not bath","not kitchen",{"$error":"#VALUE!"},{"$f":"VLOOKUP(Observations!R342,EWEMs!$B$5:$D$29,3,FALSE)","v":{"$error":"#VALUE!"}},false,false,"",{"$f":"IF(B342=\"\",\"\",INDEX('Units and Spaces'!C:C,MATCH(Observations!B342,'Units and Spaces'!B:B,0)))","v":""}]
[null,null,"",null,null,"",null,null,"",null,null,"","",false,{"$f":"INDEX(EWEMs!$F$5:$F$29,MATCH(D343,EWEMs!$X$5:$X$29,0))","v":{"$error":"#N/A"}},"not bath","not kitchen",{"$error":"#VALUE!"},{"$f":"VLOOKUP(Observations!R343,EWEMs!$B$5:$D$29,3,FALSE)","v":{"$error":"#VALUE!"}},false,false,"",{"$f":"IF(B343=\"\",\"\",INDEX('Units and Spaces'!C:C,MATCH(Observations!B343,'Units and Spaces'!B:B,0)))","v":""}]
[null,null,"",null,null,"",null,null,"",null,null,"","",false,{"$f":"INDEX(EWEMs!$F$5:$F$29,MATCH(D344,EWEMs!$X$5:$X$29,0))","v":{"$error":"#N/A"}},"not bath","not kitchen",{"$error":"#VALUE!"},{"$f":"VLOOKUP(Observations!R344,EWEMs!$B$5:$D$29,3,FALSE)","v":{"$error":"#VALUE!"}},false,false,"",{"$f":"IF(B344=\"\",\"\",INDEX('Units and Spaces'!C:C,MATCH(Observations!B344,'Units and Spaces'!B:B,0)))","v":""}]
[null,null,"",null,null,"",null,null,"",null,null,"","",false,{"$f":"INDEX(EWEMs!$F$5:$F$29,MATCH(D345,EWEMs!$X$5:$X$29,0))","v":{"$error":"#N/A"}},"not bath","not kitchen",{"$error":"#VALUE!"},{"$f":"VLOOKUP(Observations!R345,EWEMs!$B$5:$D$29,3,FALSE)","v":{"$error":"#VALUE!"}},false,false,"",{"$f":"IF(B345=\"\",\"\",INDEX('Units and Spaces'!C:C,MATCH(Observations!B345,'Units and Spaces'!B:B,0)))","v":""}]
[null,null,"",null,null,"",null,null,"",null,null,"","",false,{"$f":"INDEX(EWEMs!$F$5:$F$29,MATCH(D346,EWEMs!$X$5:$X$29,0))","v":{"$error":"#N/A"}},"not bath","not kitchen",{"$error":"#VALUE!"},{"$f":"VLOOKUP(Observations!R346,EWEMs!$B$5:$D$29,3,FALSE)","v":{"$error":"#VALUE!"}},false,false,"",{"$f":"IF(B346=\"\",\"\",INDEX('Units and Spaces'!C:C,MATCH(Observations!B346,'Units and Spaces'!B:B,0)))","v":""}]
[null,null,"",null,null,"",null,null,"",null,null,"","",false,{"$f":"INDEX(EWEMs!$F$5:$F$29,MATCH(D347,EWEMs!$X$5:$X$29,0))","v":{"$error":"#N/A"}},"not bath","not kitchen",{"$error":"#VALUE!"},{"$f":"VLOOKUP(Observations!R347,EWEMs!$B$5:$D$29,3,FALSE)","v":{"$error":"#VALUE!"}},false,false,"",{"$f":"IF(B347=\"\",\"\",INDEX('Units and Spaces'!C:C,MATCH(Observations!B347,'Units and Spaces'!B:B,0)))","v":""}]
[null,null,"",null,null,"",null,null,"",null,null,"","",false,{"$f":"INDEX(EWEMs!$F$5:$F$29,MATCH(D348,EWEMs!$X$5:$X$29,0))","v":{"$error":"#N/A"}},"not bath","not kitchen",{"$error":"#VALUE!"},{"$f":"VLOOKUP(Observations!R348,EWEMs!$B$5:$D$29,3,FALSE)","v":{"$error":"#VALUE!"}},false,false,"",{"$f":"IF(B348=\"\",\"\",INDEX('Units and Spaces'!C:C,MATCH(Observations!B348,'Units and Spaces'!B:B,0)))","v":""}]
[null,null,"",null,null,"",null,null,"",null,null,"","",false,{"$f":"INDEX(EWEMs!$F$5:$F$29,MATCH(D349,EWEMs!$X$5:$X$29,0))","v":{"$error":"#N/A"}},"not bath","not kitchen",{"$error":"#VALUE!"},{"$f":"VLOOKUP(Observations!R349,EWEMs!$B$5:$D$29,3,FALSE)","v":{"$error":"#VALUE!"}},false,false,"",{"$f":"IF(B349=\"\",\"\",INDEX('Units and Spaces'!C:C,MATCH(Observations!B349,'Units and Spaces'!B:B,0)))","v":""}]
[null,null,"",null,null,"",null,null,"",null,null,"","",false,{"$f":"INDEX(EWEMs!$F$5:$F$29,MATCH(D350,EWEMs!$X$5:$X$29,0))","v":{"$error":"#N/A"}},"not bath","not kitchen",{"$error":"#VALUE!"},{"$f":"VLOOKUP(Observations!R350,EWEMs!$B$5:$D$29,3,FALSE)","v":{"$error":"#VALUE!"}},false,false,"",{"$f":"IF(B350=\"\",\"\",INDEX('Units and Spaces'!C:C,MATCH(Observations!B350,'Units and Spaces'!B:B,0)))","v":""}]
[null,null,"",null,null,"",null,null,"",null,null,"","",false,{"$f":"INDEX(EWEMs!$F$5:$F$29,MATCH(D351,EWEMs!$X$5:$X$29,0))","v":{"$error":"#N/A"}},"not bath","not kitchen",{"$error":"#VALUE!"},{"$f":"VLOOKUP(Observations!R351,EWEMs!$B$5:$D$29,3,FALSE)","v":{"$error":"#VALUE!"}},false,false,"",{"$f":"IF(B351=\"\",\"\",INDEX('Units and Spaces'!C:C,MATCH(Observations!B351,'Units and Spaces'!B:B,0)))","v":""}]
[null,null,"",null,null,"",null,null,"",null,null,"","",false,{"$f":"INDEX(EWEMs!$F$5:$F$29,MATCH(D352,EWEMs!$X$5:$X$29,0))","v":{"$error":"#N/A"}},"not bath","not kitchen",{"$error":"#VALUE!"},{"$f":"VLOOKUP(Observations!R352,EWEMs!$B$5:$D$29,3,FALSE)","v":{"$error":"#VALUE!"}},false,false,"",{"$f":"IF(B352=\"\",\"\",INDEX('Units and Spaces'!C:C,MATCH(Observations!B352,'Units and Spaces'!B:B,0)))","v":""}]
[null,null,"",null,null,"",null,null,"",null,null,"","",false,{"$f":"INDEX(EWEMs!$F$5:$F$29,MATCH(D353,EWEMs!$X$5:$X$29,0))","v":{"$error":"#N/A"}},"not bath","not kitchen",{"$error":"#VALUE!"},{"$f":"VLOOKUP(Observations!R353,EWEMs!$B$5:$D$29,3,FALSE)","v":{"$error":"#VALUE!"}},false,false,"",{"$f":"IF(B353=\"\",\"\",INDEX('Units and Spaces'!C:C,MATCH(Observations!B353,'Units and Spaces'!B:B,0)))","v":""}]
[null,null,"",null,null,"",null,null,"",null,null,"","",false,{"$f":"INDEX(EWEMs!$F$5:$F$29,MATCH(D354,EWEMs!$X$5:$X$29,0))","v":{"$error":"#N/A"}},"not bath","not kitchen",{"$error":"#VALUE!"},{"$f":"VLOOKUP(Observations!R354,EWEMs!$B$5:$D$29,3,FALSE)","v":{"$error":"#VALUE!"}},false,false,"",{"$f":"IF(B354=\"\",\"\",INDEX('Units and Spaces'!C:C,MATCH(Observations!B354,'Units and Spaces'!B:B,0)))","v":""}]
[null,null,"",null,null,"",null,null,"",null,null,"","",false,{"$f":"INDEX(EWEMs!$F$5:$F$29,MATCH(D355,EWEMs!$X$5:$X$29,0))","v":{"$error":"#N/A"}},"not bath","not kitchen",{"$error":"#VALUE!"},{"$f":"VLOOKUP(Observations!R355,EWEMs!$B$5:$D$29,3,FALSE)","v":{"$error":"#VALUE!"}},false,false,"",{"$f":"IF(B355=\"\",\"\",INDEX('Units and Spaces'!C:C,MATCH(Observations!B355,'Units and Spaces'!B:B,0)))","v":""}]
[null,null,"",null,null,"",null,null,"",null,null,"","",false,{"$f":"INDEX(EWEMs!$F$5:$F$29,MATCH(D356,EWEMs!$X$5:$X$29,0))","v":{"$error":"#N/A"}},"not bath","not kitchen",{"$error":"#VALUE!"},{"$f":"VLOOKUP(Observations!R356,EWEMs!$B$5:$D$29,3,FALSE)","v":{"$error":"#VALUE!"}},false,false,"",{"$f":"IF(B356=\"\",\"\",INDEX('Units and Spaces'!C:C,MATCH(Observations!B356,'Units and Spaces'!B:B,0)))","v":""}]
[null,null,"",null,null,"",null,null,"",null,null,"","",false,{"$f":"INDEX(EWEMs!$F$5:$F$29,MATCH(D357,EWEMs!$X$5:$X$29,0))","v":{"$error":"#N/A"}},"not bath","not kitchen",{"$error":"#VALUE!"},{"$f":"VLOOKUP(Observations!R357,EWEMs!$B$5:$D$29,3,FALSE)","v":{"$error":"#VALUE!"}},false,false,"",{"$f":"IF(B357=\"\",\"\",INDEX('Units and Spaces'!C:C,MATCH(Observations!B357,'Units and Spaces'!B:B,0)))","v":""}]
[null,null,"",null,null,"",null,null,"",null,null,"","",false,{"$f":"INDEX(EWEMs!$F$5:$F$29,MATCH(D358,EWEMs!$X$5:$X$29,0))","v":{"$error":"#N/A"}},"not bath","not kitchen",{"$error":"#VALUE!"},{"$f":"VLOOKUP(Observations!R358,EWEMs!$B$5:$D$29,3,FALSE)","v":{"$error":"#VALUE!"}},false,false,"",{"$f":"IF(B358=\"\",\"\",INDEX('Units and Spaces'!C:C,MATCH(Observations!B358,'Units and Spaces'!B:B,0)))","v":""}]
[null,null,"",null,null,"",null,null,"",null,null,"","",false,{"$f":"INDEX(EWEMs!$F$5:$F$29,MATCH(D359,EWEMs!$X$5:$X$29,0))","v":{"$error":"#N/A"}},"not bath","not kitchen",{"$error":"#VALUE!"},{"$f":"VLOOKUP(Observations!R359,EWEMs!$B$5:$D$29,3,FALSE)","v":{"$error":"#VALUE!"}},false,false,"",{"$f":"IF(B359=\"\",\"\",INDEX('Units and Spaces'!C:C,MATCH(Observations!B359,'Units and Spaces'!B:B,0)))","v":""}]
[null,null,"",null,null,"",null,null,"",null,null,"","",false,{"$f":"INDEX(EWEMs!$F$5:$F$29,MATCH(D360,EWEMs!$X$5:$X$29,0))","v":{"$error":"#N/A"}},"not bath","not kitchen",{"$error":"#VALUE!"},{"$f":"VLOOKUP(Observations!R360,EWEMs!$B$5:$D$29,3,FALSE)","v":{"$error":"#VALUE!"}},false,false,"",{"$f":"IF(B360=\"\",\"\",INDEX('Units and Spaces'!C:C,MATCH(Observations!B360,'Units and Spaces'!B:B,0)))","v":""}]
[null,null,"",null,null,"",null,null,"",null,null,"","",false,{"$f":"INDEX(EWEMs!$F$5:$F$29,MATCH(D361,EWEMs!$X$5:$X$29,0))","v":{"$error":"#N/A"}},"not bath","not kitchen",{"$error":"#VALUE!"},{"$f":"VLOOKUP(Observations!R361,EWEMs!$B$5:$D$29,3,FALSE)","v":{"$error":"#VALUE!"}},false,false,"",{"$f":"IF(B361=\"\",\"\",INDEX('Units and Spaces'!C:C,MATCH(Observations!B361,'Units and Spaces'!B:B,0)))","v":""}]
[null,null,"",null,null,"",null,null,"",null,null,"","",false,{"$f":"INDEX(EWEMs!$F$5:$F$29,MATCH(D362,EWEMs!$X$5:$X$29,0))","v":{"$error":"#N/A"}},"not bath","not kitchen",{"$error":"#VALUE!"},{"$f":"VLOOKUP(Observations!R362,EWEMs!$B$5:$D$29,3,FALSE)","v":{"$error":"#VALUE!"}},false,false,"",{"$f":"IF(B362=\"\",\"\",INDEX('Units and Spaces'!C:C,MATCH(Observations!B362,'Units and Spaces'!B:B,0)))","v":""}]
[null,null,"",null,null,"",null,null,"",null,null,"","",false,{"$f":"INDEX(EWEMs!$F$5:$F$29,MATCH(D363,EWEMs!$X$5:$X$29,0))","v":{"$error":"#N/A"}},"not bath","not kitchen",{"$error":"#VALUE!"},{"$f":"VLOOKUP(Observations!R363,EWEMs!$B$5:$D$29,3,FALSE)","v":{"$error":"#VALUE!"}},false,false,"",{"$f":"IF(B363=\"\",\"\",INDEX('Units and Spaces'!C:C,MATCH(Observations!B363,'Units and Spaces'!B:B,0)))","v":""}]
[null,null,"",null,null,"",null,null,"",null,null,"","",false,{"$f":"INDEX(EWEMs!$F$5:$F$29,MATCH(D364,EWEMs!$X$5:$X$29,0))","v":{"$error":"#N/A"}},"not bath","not kitchen",{"$error":"#VALUE!"},{"$f":"VLOOKUP(Observations!R364,EWEMs!$B$5:$D$29,3,FALSE)","v":{"$error":"#VALUE!"}},false,false,"",{"$f":"IF(B364=\"\",\"\",INDEX('Units and Spaces'!C:C,MATCH(Observations!B364,'Units and Spaces'!B:B,0)))","v":""}]
[null,null,"",null,null,"",null,null,"",null,null,"","",false,{"$f":"INDEX(EWEMs!$F$5:$F$29,MATCH(D365,EWEMs!$X$5:$X$29,0))","v":{"$error":"#N/A"}},"not bath","not kitchen",{"$error":"#VALUE!"},{"$f":"VLOOKUP(Observations!R365,EWEMs!$B$5:$D$29,3,FALSE)","v":{"$error":"#VALUE!"}},false,false,"",{"$f":"IF(B365=\"\",\"\",INDEX('Units and Spaces'!C:C,MATCH(Observations!B365,'Units and Spaces'!B:B,0)))","v":""}]
[null,null,"",null,null,"",null,null,"",null,null,"","",false,{"$f":"INDEX(EWEMs!$F$5:$F$29,MATCH(D366,EWEMs!$X$5:$X$29,0))","v":{"$error":"#N/A"}},"not bath","not kitchen",{"$error":"#VALUE!"},{"$f":"VLOOKUP(Observations!R366,EWEMs!$B$5:$D$29,3,FALSE)","v":{"$error":"#VALUE!"}},false,false,"",{"$f":"IF(B366=\"\",\"\",INDEX('Units and Spaces'!C:C,MATCH(Observations!B366,'Units and Spaces'!B:B,0)))","v":""}]
[null,null,"",null,null,"",null,null,"",null,null,"","",false,{"$f":"INDEX(EWEMs!$F$5:$F$29,MATCH(D367,EWEMs!$X$5:$X$29,0))","v":{"$error":"#N/A"}},"not bath","not kitchen",{"$error":"#VALUE!"},{"$f":"VLOOKUP(Observations!R367,EWEMs!$B$5:$D$29,3,FALSE)","v":{"$error":"#VALUE!"}},false,false,"",{"$f":"IF(B367=\"\",\"\",INDEX('Units and Spaces'!C:C,MATCH(Observations!B367,'Units and Spaces'!B:B,0)))","v":""}]
[null,null,"",null,null,"",null,null,"",null,null,"","",false,{"$f":"INDEX(EWEMs!$F$5:$F$29,MATCH(D368,EWEMs!$X$5:$X$29,0))","v":{"$error":"#N/A"}},"not bath","not kitchen",{"$error":"#VALUE!"},{"$f":"VLOOKUP(Observations!R368,EWEMs!$B$5:$D$29,3,FALSE)","v":{"$error":"#VALUE!"}},false,false,"",{"$f":"IF(B368=\"\",\"\",INDEX('Units and Spaces'!C:C,MATCH(Observations!B368,'Units and Spaces'!B:B,0)))","v":""}]
[null,null,"",null,null,"",null,null,"",null,null,"","",false,{"$f":"INDEX(EWEMs!$F$5:$F$29,MATCH(D369,EWEMs!$X$5:$X$29,0))","v":{"$error":"#N/A"}},"not bath","not kitchen",{"$error":"#VALUE!"},{"$f":"VLOOKUP(Observations!R369,EWEMs!$B$5:$D$29,3,FALSE)","v":{"$error":"#VALUE!"}},false,false,"",{"$f":"IF(B369=\"\",\"\",INDEX('Units and Spaces'!C:C,MATCH(Observations!B369,'Units and Spaces'!B:B,0)))","v":""}]
[null,null,"",null,null,"",null,null,"",null,null,"","",false,{"$f":"INDEX(EWEMs!$F$5:$F$29,MATCH(D370,EWEMs!$X$5:$X$29,0))","v":{"$error":"#N/A"}},"not bath","not kitchen",{"$error":"#VALUE!"},{"$f":"VLOOKUP(Observations!R370,EWEMs!$B$5:$D$29,3,FALSE)","v":{"$error":"#VALUE!"}},false,false,"",{"$f":"IF(B370=\"\",\"\",INDEX('Units and Spaces'!C:C,MATCH(Observations!B370,'Units and Spaces'!B:B,0)))","v":""}]
[null,null,"",null,null,"",null,null,"",null,null,"","",false,{"$f":"INDEX(EWEMs!$F$5:$F$29,MATCH(D371,EWEMs!$X$5:$X$29,0))","v":{"$error":"#N/A"}},"not bath","not kitchen",{"$error":"#VALUE!"},{"$f":"VLOOKUP(Observations!R371,EWEMs!$B$5:$D$29,3,FALSE)","v":{"$error":"#VALUE!"}},false,false,"",{"$f":"IF(B371=\"\",\"\",INDEX('Units and Spaces'!C:C,MATCH(Observations!B371,'Units and Spaces'!B:B,0)))","v":""}]
[null,null,"",null,null,"",null,null,"",null,null,"","",false,{"$f":"INDEX(EWEMs!$F$5:$F$29,MATCH(D372,EWEMs!$X$5:$X$29,0))","v":{"$error":"#N/A"}},"not bath","not kitchen",{"$error":"#VALUE!"},{"$f":"VLOOKUP(Observations!R372,EWEMs!$B$5:$D$29,3,FALSE)","v":{"$error":"#VALUE!"}},false,false,"",{"$f":"IF(B372=\"\",\"\",INDEX('Units and Spaces'!C:C,MATCH(Observations!B372,'Units and Spaces'!B:B,0)))","v":""}]
[null,null,"",null,null,"",null,null,"",null,null,"","",false,{"$f":"INDEX(EWEMs!$F$5:$F$29,MATCH(D373,EWEMs!$X$5:$X$29,0))","v":{"$error":"#N/A"}},"not bath","not kitchen",{"$error":"#VALUE!"},{"$f":"VLOOKUP(Observations!R373,EWEMs!$B$5:$D$29,3,FALSE)","v":{"$error":"#VALUE!"}},false,false,"",{"$f":"IF(B373=\"\",\"\",INDEX('Units and Spaces'!C:C,MATCH(Observations!B373,'Units and Spaces'!B:B,0)))","v":""}]
[null,null,"",null,null,"",null,null,"",null,null,"","",false,{"$f":"INDEX(EWEMs!$F$5:$F$29,MATCH(D374,EWEMs!$X$5:$X$29,0))","v":{"$error":"#N/A"}},"not bath","not kitchen",{"$error":"#VALUE!"},{"$f":"VLOOKUP(Observations!R374,EWEMs!$B$5:$D$29,3,FALSE)","v":{"$error":"#VALUE!"}},false,false,"",{"$f":"IF(B374=\"\",\"\",INDEX('Units and Spaces'!C:C,MATCH(Observations!B374,'Units and Spaces'!B:B,0)))","v":""}]
[null,null,"",null,null,"",null,null,"",null,null,"","",false,{"$f":"INDEX(EWEMs!$F$5:$F$29,MATCH(D375,EWEMs!$X$5:$X$29,0))","v":{"$error":"#N/A"}},"not bath","not kitchen",{"$error":"#VALUE!"},{"$f":"VLOOKUP(Observations!R375,EWEMs!$B$5:$D$29,3,FALSE)","v":{"$error":"#VALUE!"}},false,false,"",{"$f":"IF(B375=\"\",\"\",INDEX('Units and Spaces'!C:C,MATCH(Observations!B375,'Units and Spaces'!B:B,0)))","v":""}]
[null,null,"",null,null,"",null,null,"",null,null,"","",false,{"$f":"INDEX(EWEMs!$F$5:$F$29,MATCH(D376,EWEMs!$X$5:$X$29,0))","v":{"$error":"#N/A"}},"not bath","not kitchen",{"$error":"#VALUE!"},{"$f":"VLOOKUP(Observations!R376,EWEMs!$B$5:$D$29,3,FALSE)","v":{"$error":"#VALUE!"}},false,false,"",{"$f":"IF(B376=\"\",\"\",INDEX('Units and Spaces'!C:C,MATCH(Observations!B376,'Units and Spaces'!B:B,0)))","v":""}]
[null,null,"",null,null,"",null,null,"",null,null,"","",false,{"$f":"INDEX(EWEMs!$F$5:$F$29,MATCH(D377,EWEMs!$X$5:$X$29,0))","v":{"$error":"#N/A"}},"not bath","not kitchen",{"$error":"#VALUE!"},{"$f":"VLOOKUP(Observations!R377,EWEMs!$B$5:$D$29,3,FALSE)","v":{"$error":"#VALUE!"}},false,false,"",{"$f":"IF(B377=\"\",\"\",INDEX('Units and Spaces'!C:C,MATCH(Observations!B377,'Units and Spaces'!B:B,0)))","v":""}]
[null,null,"",null,null,"",null,null,"",null,null,"","",false,{"$f":"INDEX(EWEMs!$F$5:$F$29,MATCH(D378,EWEMs!$X$5:$X$29,0))","v":{"$error":"#N/A"}},"not bath","not kitchen",{"$error":"#VALUE!"},{"$f":"VLOOKUP(Observations!R378,EWEMs!$B$5:$D$29,3,FALSE)","v":{"$error":"#VALUE!"}},false,false,"",{"$f":"IF(B378=\"\",\"\",INDEX('Units and Spaces'!C:C,MATCH(Observations!B378,'Units and Spaces'!B:B,0)))","v":""}]
[null,null,"",null,null,"",null,null,"",null,null,"","",false,{"$f":"INDEX(EWEMs!$F$5:$F$29,MATCH(D379,EWEMs!$X$5:$X$29,0))","v":{"$error":"#N/A"}},"not bath","not kitchen",{"$error":"#VALUE!"},{"$f":"VLOOKUP(Observations!R379,EWEMs!$B$5:$D$29,3,FALSE)","v":{"$error":"#VALUE!"}},false,false,"",{"$f":"IF(B379=\"\",\"\",INDEX('Units and Spaces'!C:C,MATCH(Observations!B379,'Units and Spaces'!B:B,0)))","v":""}]
[null,null,"",null,null,"",null,null,"",null,null,"","",false,{"$f":"INDEX(EWEMs!$F$5:$F$29,MATCH(D380,EWEMs!$X$5:$X$29,0))","v":{"$error":"#N/A"}},"not bath","not kitchen",{"$error":"#VALUE!"},{"$f":"VLOOKUP(Observations!R380,EWEMs!$B$5:$D$29,3,FALSE)","v":{"$error":"#VALUE!"}},false,false,"",{"$f":"IF(B380=\"\",\"\",INDEX('Units and Spaces'!C:C,MATCH(Observations!B380,'Units and Spaces'!B:B,0)))","v":""}]
[null,null,"",null,null,"",null,null,"",null,null,"","",false,{"$f":"INDEX(EWEMs!$F$5:$F$29,MATCH(D381,EWEMs!$X$5:$X$29,0))","v":{"$error":"#N/A"}},"not bath","not kitchen",{"$error":"#VALUE!"},{"$f":"VLOOKUP(Observations!R381,EWEMs!$B$5:$D$29,3,FALSE)","v":{"$error":"#VALUE!"}},false,false,"",{"$f":"IF(B381=\"\",\"\",INDEX('Units and Spaces'!C:C,MATCH(Observations!B381,'Units and Spaces'!B:B,0)))","v":""}]
[null,null,"",null,null,"",null,null,"",null,null,"","",false,{"$f":"INDEX(EWEMs!$F$5:$F$29,MATCH(D382,EWEMs!$X$5:$X$29,0))","v":{"$error":"#N/A"}},"not bath","not kitchen",{"$error":"#VALUE!"},{"$f":"VLOOKUP(Observations!R382,EWEMs!$B$5:$D$29,3,FALSE)","v":{"$error":"#VALUE!"}},false,false,"",{"$f":"IF(B382=\"\",\"\",INDEX('Units and Spaces'!C:C,MATCH(Observations!B382,'Units and Spaces'!B:B,0)))","v":""}]
[null,null,"",null,null,"",null,null,"",null,null,"","",false,{"$f":"INDEX(EWEMs!$F$5:$F$29,MATCH(D383,EWEMs!$X$5:$X$29,0))","v":{"$error":"#N/A"}},"not bath","not kitchen",{"$error":"#VALUE!"},{"$f":"VLOOKUP(Observations!R383,EWEMs!$B$5:$D$29,3,FALSE)","v":{"$error":"#VALUE!"}},false,false,"",{"$f":"IF(B383=\"\",\"\",INDEX('Units and Spaces'!C:C,MATCH(Observations!B383,'Units and Spaces'!B:B,0)))","v":""}]
[null,null,"",null,null,"",null,null,"",null,null,"","",false,{"$f":"INDEX(EWEMs!$F$5:$F$29,MATCH(D384,EWEMs!$X$5:$X$29,0))","v":{"$error":"#N/A"}},"not bath","not kitchen",{"$error":"#VALUE!"},{"$f":"VLOOKUP(Observations!R384,EWEMs!$B$5:$D$29,3,FALSE)","v":{"$error":"#VALUE!"}},false,false,"",{"$f":"IF(B384=\"\",\"\",INDEX('Units and Spaces'!C:C,MATCH(Observations!B384,'Units and Spaces'!B:B,0)))","v":""}]
[null,null,"",null,null,"",null,null,"",null,null,"","",false,{"$f":"INDEX(EWEMs!$F$5:$F$29,MATCH(D385,EWEMs!$X$5:$X$29,0))","v":{"$error":"#N/A"}},"not bath","not kitchen",{"$error":"#VALUE!"},{"$f":"VLOOKUP(Observations!R385,EWEMs!$B$5:$D$29,3,FALSE)","v":{"$error":"#VALUE!"}},false,false,"",{"$f":"IF(B385=\"\",\"\",INDEX('Units and Spaces'!C:C,MATCH(Observations!B385,'Units and Spaces'!B:B,0)))","v":""}]
[null,null,"",null,null,"",null,null,"",null,null,"","",false,{"$f":"INDEX(EWEMs!$F$5:$F$29,MATCH(D386,EWEMs!$X$5:$X$29,0))","v":{"$error":"#N/A"}},"not bath","not kitchen",{"$error":"#VALUE!"},{"$f":"VLOOKUP(Observations!R386,EWEMs!$B$5:$D$29,3,FALSE)","v":{"$error":"#VALUE!"}},false,false,"",{"$f":"IF(B386=\"\",\"\",INDEX('Units and Spaces'!C:C,MATCH(Observations!B386,'Units and Spaces'!B:B,0)))","v":""}]
[null,null,"",null,null,"",null,null,"",null,null,"","",false,{"$f":"INDEX(EWEMs!$F$5:$F$29,MATCH(D387,EWEMs!$X$5:$X$29,0))","v":{"$error":"#N/A"}},"not bath","not kitchen",{"$error":"#VALUE!"},{"$f":"VLOOKUP(Observations!R387,EWEMs!$B$5:$D$29,3,FALSE)","v":{"$error":"#VALUE!"}},false,false,"",{"$f":"IF(B387=\"\",\"\",INDEX('Units and Spaces'!C:C,MATCH(Observations!B387,'Units and Spaces'!B:B,0)))","v":""}]
[null,null,"",null,null,"",null,null,"",null,null,"","",false,{"$f":"INDEX(EWEMs!$F$5:$F$29,MATCH(D388,EWEMs!$X$5:$X$29,0))","v":{"$error":"#N/A"}},"not bath","not kitchen",{"$error":"#VALUE!"},{"$f":"VLOOKUP(Observations!R388,EWEMs!$B$5:$D$29,3,FALSE)","v":{"$error":"#VALUE!"}},false,false,"",{"$f":"IF(B388=\"\",\"\",INDEX('Units and Spaces'!C:C,MATCH(Observations!B388,'Units and Spaces'!B:B,0)))","v":""}]
[null,null,"",null,null,"",null,null,"",null,null,"","",false,{"$f":"INDEX(EWEMs!$F$5:$F$29,MATCH(D389,EWEMs!$X$5:$X$29,0))","v":{"$error":"#N/A"}},"not bath","not kitchen",{"$error":"#VALUE!"},{"$f":"VLOOKUP(Observations!R389,EWEMs!$B$5:$D$29,3,FALSE)","v":{"$error":"#VALUE!"}},false,false,"",{"$f":"IF(B389=\"\",\"\",INDEX('Units and Spaces'!C:C,MATCH(Observations!B389,'Units and Spaces'!B:B,0)))","v":""}]
[null,null,"",null,null,"",null,null,"",null,null,"","",false,{"$f":"INDEX(EWEMs!$F$5:$F$29,MATCH(D390,EWEMs!$X$5:$X$29,0))","v":{"$error":"#N/A"}},"not bath","not kitchen",{"$error":"#VALUE!"},{"$f":"VLOOKUP(Observations!R390,EWEMs!$B$5:$D$29,3,FALSE)","v":{"$error":"#VALUE!"}},false,false,"",{"$f":"IF(B390=\"\",\"\",INDEX('Units and Spaces'!C:C,MATCH(Observations!B390,'Units and Spaces'!B:B,0)))","v":""}]
[null,null,"",null,null,"",null,null,"",null,null,"","",false,{"$f":"INDEX(EWEMs!$F$5:$F$29,MATCH(D391,EWEMs!$X$5:$X$29,0))","v":{"$error":"#N/A"}},"not bath","not kitchen",{"$error":"#VALUE!"},{"$f":"VLOOKUP(Observations!R391,EWEMs!$B$5:$D$29,3,FALSE)","v":{"$error":"#VALUE!"}},false,false,"",{"$f":"IF(B391=\"\",\"\",INDEX('Units and Spaces'!C:C,MATCH(Observations!B391,'Units and Spaces'!B:B,0)))","v":""}]
[null,null,{"$f":"IF(B392=\"\", \"\", IF(AND(B392<>\"\",D392=\"\"),W392,IF(ISNUMBER(SEARCH(W392,D392)),W392,\"SPACE MISMATACH\")))","v":""},null,null,{"$f":"IF(AND(N392=TRUE,E392<>\"\"), IF(ISNUMBER(SEARCH(\"compliant\", P392)),P392,IF(ISNUMBER(SEARCH(\"compliant\",Q392)),Q392,IF(E392<=O392,\"compliant\",\"noncompliant\"))),\"\")","v":""},null,null,{"$f":"IF(AND(D392=\"\",D393<>\"\"), \"No Blanks Please!\", \"\")","v":""},null,null,{"$f":"IF(OR(F392=\"compliant\",F392=\"noncompliant\"),D392&F392,D392&G392)","v":""},{"$f":"IF(C392=\"Apartment\",IF(B392=0,\"\",B392),\"\")","v":""},{"$f":"IF(OR(ISNUMBER(FIND(\"low-flow\",D392,1)), ISNUMBER(FIND(\"low-flush\",D392,1))),TRUE,FALSE)","v":false},{"$f":"INDEX(EWEMs!$F$5:$F$29,MATCH(D392,EWEMs!$X$5:$X$29,0))","v":{"$error":"#N/A"}},{"$f":"IF(OR(ISNUMBER(SEARCH(\"bath faucets\", D392)), AND( ISNUMBER(SEARCH(\"fixture\", D392)),ISNUMBER(SEARCH(\"bath\", S392)) )), IF(O392<=1, IF(AND(E392>=O392, E392<=1), \"compliant\", \"noncompliant\"), IF(AND(E392>=1, E392<=O392),\"compliant\",\"noncompliant\")), \"not bath\"\n)","v":"not bath"},{"$f":"IF(OR(ISNUMBER(SEARCH(\"kitchen faucets\",D392)),AND(ISNUMBER(SEARCH(\"fixtures\",D392)),ISNUMBER(SEARCH(\"kitchen\",S392)))),IF(O392<=1.5,IF(AND(E392>=1, E392<=1.5),\"compliant\",\"noncompliant\"),IF(AND(E392>=1.5,E392<=O392),\"compliant\",\"noncompliant\")),\"not kitchen\"\n)","v":"not kitchen"},{"$f":"LEFT(D392,(FIND(\" \",D392,1)-1))*1","v":{"$error":"#VALUE!"}},{"$f":"VLOOKUP(Observations!R392,EWEMs!$B$5:$D$29,3,FALSE)","v":{"$error":"#VALUE!"}},{"$f":"IF(ISNUMBER(E392),AND(OR(E392<0.5,E392>5),E392<>\"\"),FALSE)","v":false},{"$f":"IF(OR(B392<>\"\",D392<>\"\", E392<>\"\",G392<>\"\",H392<>\"\"), IF(N392=TRUE, IF(OR(B392=\"\", D392=\"\", E392=\"\", H392=\"\"), TRUE, FALSE), IF(OR(B392=\"\", D392=\"\", G392=\"\", H392=\"\"), TRUE, FALSE)), FALSE)","v":false},{"$f":"IF(OR(F392=\"noncompliant\", G392=\"noncompliant\"), IFERROR(LEFT(D392, LEN(_xlfn.TEXTBEFORE(D392,\"-\",-1)))&\" (Space: \"&B392&\")\", \"\"), \"\")","v":""},{"$f":"IF(B392=\"\",\"\",INDEX('Units and Spaces'!C:C,MATCH(Observations!B392,'Units and Spaces'!B:B,0)))","v":""}]
[null,null,"",null,null,"",null,null,"",null,null,"","",false,{"$f":"INDEX(EWEMs!$F$5:$F$29,MATCH(D393,EWEMs!$X$5:$X$29,0))","v":{"$error":"#N/A"}},"not bath","not kitchen",{"$error":"#VALUE!"},{"$f":"VLOOKUP(Observations!R393,EWEMs!$B$5:$D$29,3,FALSE)","v":{"$error":"#VALUE!"}},false,false,"",{"$f":"IF(B393=\"\",\"\",INDEX('Units and Spaces'!C:C,MATCH(Observations!B393,'Units and Spaces'!B:B,0)))","v":""}]
[null,null,"",null,null,"",null,null,"",null,null,"","",false,{"$f":"INDEX(EWEMs!$F$5:$F$29,MATCH(D394,EWEMs!$X$5:$X$29,0))","v":{"$error":"#N/A"}},"not bath","not kitchen",{"$error":"#VALUE!"},{"$f":"VLOOKUP(Observations!R394,EWEMs!$B$5:$D$29,3,FALSE)","v":{"$error":"#VALUE!"}},false,false,"",{"$f":"IF(B394=\"\",\"\",INDEX('Units and Spaces'!C:C,MATCH(Observations!B394,'Units and Spaces'!B:B,0)))","v":""}]
[null,null,"",null,null,"",null,null,"",null,null,"","",false,{"$f":"INDEX(EWEMs!$F$5:$F$29,MATCH(D395,EWEMs!$X$5:$X$29,0))","v":{"$error":"#N/A"}},"not bath","not kitchen",{"$error":"#VALUE!"},{"$f":"VLOOKUP(Observations!R395,EWEMs!$B$5:$D$29,3,FALSE)","v":{"$error":"#VALUE!"}},false,false,"",{"$f":"IF(B395=\"\",\"\",INDEX('Units and Spaces'!C:C,MATCH(Observations!B395,'Units and Spaces'!B:B,0)))","v":""}]
[null,null,"",null,null,"",null,null,"",null,null,"","",false,{"$f":"INDEX(EWEMs!$F$5:$F$29,MATCH(D396,EWEMs!$X$5:$X$29,0))","v":{"$error":"#N/A"}},"not bath","not kitchen",{"$error":"#VALUE!"},{"$f":"VLOOKUP(Observations!R396,EWEMs!$B$5:$D$29,3,FALSE)","v":{"$error":"#VALUE!"}},false,false,"",{"$f":"IF(B396=\"\",\"\",INDEX('Units and Spaces'!C:C,MATCH(Observations!B396,'Units and Spaces'!B:B,0)))","v":""}]
[null,null,"",null,null,"",null,null,"",null,null,"","",false,{"$f":"INDEX(EWEMs!$F$5:$F$29,MATCH(D397,EWEMs!$X$5:$X$29,0))","v":{"$error":"#N/A"}},"not bath","not kitchen",{"$error":"#VALUE!"},{"$f":"VLOOKUP(Observations!R397,EWEMs!$B$5:$D$29,3,FALSE)","v":{"$error":"#VALUE!"}},false,false,"",{"$f":"IF(B397=\"\",\"\",INDEX('Units and Spaces'!C:C,MATCH(Observations!B397,'Units and Spaces'!B:B,0)))","v":""}]
[null,null,"",null,null,"",null,null,"",null,null,"","",false,{"$f":"INDEX(EWEMs!$F$5:$F$29,MATCH(D398,EWEMs!$X$5:$X$29,0))","v":{"$error":"#N/A"}},"not bath","not kitchen",{"$error":"#VALUE!"},{"$f":"VLOOKUP(Observations!R398,EWEMs!$B$5:$D$29,3,FALSE)","v":{"$error":"#VALUE!"}},false,false,"",{"$f":"IF(B398=\"\",\"\",INDEX('Units and Spaces'!C:C,MATCH(Observations!B398,'Units and Spaces'!B:B,0)))","v":""}]
[null,null,"",null,null,"",null,null,"",null,null,"","",false,{"$f":"INDEX(EWEMs!$F$5:$F$29,MATCH(D399,EWEMs!$X$5:$X$29,0))","v":{"$error":"#N/A"}},"not bath","not kitchen",{"$error":"#VALUE!"},{"$f":"VLOOKUP(Observations!R399,EWEMs!$B$5:$D$29,3,FALSE)","v":{"$error":"#VALUE!"}},false,false,"",{"$f":"IF(B399=\"\",\"\",INDEX('Units and Spaces'!C:C,MATCH(Observations!B399,'Units and Spaces'!B:B,0)))","v":""}]
[null,null,"",null,null,"",null,null,"",null,null,"","",false,{"$f":"INDEX(EWEMs!$F$5:$F$29,MATCH(D400,EWEMs!$X$5:$X$29,0))","v":{"$error":"#N/A"}},"not bath","not kitchen",{"$error":"#VALUE!"},{"$f":"VLOOKUP(Observations!R400,EWEMs!$B$5:$D$29,3,FALSE)","v":{"$error":"#VALUE!"}},false,false,"",{"$f":"IF(B400=\"\",\"\",INDEX('Units and Spaces'!C:C,MATCH(Observations!B400,'Units and Spaces'!B:B,0)))","v":""}]
[null,null,"",null,null,"",null,null,"",null,null,"","",false,{"$f":"INDEX(EWEMs!$F$5:$F$29,MATCH(D401,EWEMs!$X$5:$X$29,0))","v":{"$error":"#N/A"}},"not bath","not kitchen",{"$error":"#VALUE!"},{"$f":"VLOOKUP(Observations!R401,EWEMs!$B$5:$D$29,3,FALSE)","v":{"$error":"#VALUE!"}},false,false,"",{"$f":"IF(B401=\"\",\"\",INDEX('Units and Spaces'!C:C,MATCH(Observations!B401,'Units and Spaces'!B:B,0)))","v":""}]
[null,null,"",null,null,"",null,null,"",null,null,"","",false,{"$f":"INDEX(EWEMs!$F$5:$F$29,MATCH(D402,EWEMs!$X$5:$X$29,0))","v":{"$error":"#N/A"}},"not bath","not kitchen",{"$error":"#VALUE!"},{"$f":"VLOOKUP(Observations!R402,EWEMs!$B$5:$D$29,3,FALSE)","v":{"$error":"#VALUE!"}},false,false,"",{"$f":"IF(B402=\"\",\"\",INDEX('Units and Spaces'!C:C,MATCH(Observations!B402,'Units and Spaces'!B:B,0)))","v":""}]
[null,null,"",null,null,"",null,null,"",null,null,"","",false,{"$f":"INDEX(EWEMs!$F$5:$F$29,MATCH(D403,EWEMs!$X$5:$X$29,0))","v":{"$error":"#N/A"}},"not bath","not kitchen",{"$error":"#VALUE!"},{"$f":"VLOOKUP(Observations!R403,EWEMs!$B$5:$D$29,3,FALSE)","v":{"$error":"#VALUE!"}},false,false,"",{"$f":"IF(B403=\"\",\"\",INDEX('Units and Spaces'!C:C,MATCH(Observations!B403,'Units and Spaces'!B:B,0)))","v":""}]
[null,null,"",null,null,"",null,null,"",null,null,"","",false,{"$f":"INDEX(EWEMs!$F$5:$F$29,MATCH(D404,EWEMs!$X$5:$X$29,0))","v":{"$error":"#N/A"}},"not bath","not kitchen",{"$error":"#VALUE!"},{"$f":"VLOOKUP(Observations!R404,EWEMs!$B$5:$D$29,3,FALSE)","v":{"$error":"#VALUE!"}},false,false,"",{"$f":"IF(B404=\"\",\"\",INDEX('Units and Spaces'!C:C,MATCH(Observations!B404,'Units and Spaces'!B:B,0)))","v":""}]
[null,null,"",null,null,"",null,null,"",null,null,"","",false,{"$f":"INDEX(EWEMs!$F$5:$F$29,MATCH(D405,EWEMs!$X$5:$X$29,0))","v":{"$error":"#N/A"}},"not bath","not kitchen",{"$error":"#VALUE!"},{"$f":"VLOOKUP(Observations!R405,EWEMs!$B$5:$D$29,3,FALSE)","v":{"$error":"#VALUE!"}},false,false,"",{"$f":"IF(B405=\"\",\"\",INDEX('Units and Spaces'!C:C,MATCH(Observations!B405,'Units and Spaces'!B:B,0)))","v":""}]
[null,null,"",null,null,"",null,null,"",null,null,"","",false,{"$f":"INDEX(EWEMs!$F$5:$F$29,MATCH(D406,EWEMs!$X$5:$X$29,0))","v":{"$error":"#N/A"}},"not bath","not kitchen",{"$error":"#VALUE!"},{"$f":"VLOOKUP(Observations!R406,EWEMs!$B$5:$D$29,3,FALSE)","v":{"$error":"#VALUE!"}},false,false,"",{"$f":"IF(B406=\"\",\"\",INDEX('Units and Spaces'!C:C,MATCH(Observations!B406,'Units and Spaces'!B:B,0)))","v":""}]
[null,null,"",null,null,"",null,null,"",null,null,"","",false,{"$f":"INDEX(EWEMs!$F$5:$F$29,MATCH(D407,EWEMs!$X$5:$X$29,0))","v":{"$error":"#N/A"}},"not bath","not kitchen",{"$error":"#VALUE!"},{"$f":"VLOOKUP(Observations!R407,EWEMs!$B$5:$D$29,3,FALSE)","v":{"$error":"#VALUE!"}},false,false,"",{"$f":"IF(B407=\"\",\"\",INDEX('Units and Spaces'!C:C,MATCH(Observations!B407,'Units and Spaces'!B:B,0)))","v":""}]
[null,null,"",null,null,"",null,null,"",null,null,"","",false,{"$f":"INDEX(EWEMs!$F$5:$F$29,MATCH(D408,EWEMs!$X$5:$X$29,0))","v":{"$error":"#N/A"}},"not bath","not kitchen",{"$error":"#VALUE!"},{"$f":"VLOOKUP(Observations!R408,EWEMs!$B$5:$D$29,3,FALSE)","v":{"$error":"#VALUE!"}},false,false,"",{"$f":"IF(B408=\"\",\"\",INDEX('Units and Spaces'!C:C,MATCH(Observations!B408,'Units and Spaces'!B:B,0)))","v":""}]
[null,null,"",null,null,"",null,null,"",null,null,"","",false,{"$f":"INDEX(EWEMs!$F$5:$F$29,MATCH(D409,EWEMs!$X$5:$X$29,0))","v":{"$error":"#N/A"}},"not bath","not kitchen",{"$error":"#VALUE!"},{"$f":"VLOOKUP(Observations!R409,EWEMs!$B$5:$D$29,3,FALSE)","v":{"$error":"#VALUE!"}},false,false,"",{"$f":"IF(B409=\"\",\"\",INDEX('Units and Spaces'!C:C,MATCH(Observations!B409,'Units and Spaces'!B:B,0)))","v":""}]
[null,null,"",null,null,"",null,null,"",null,null,"","",false,{"$f":"INDEX(EWEMs!$F$5:$F$29,MATCH(D410,EWEMs!$X$5:$X$29,0))","v":{"$error":"#N/A"}},"not bath","not kitchen",{"$error":"#VALUE!"},{"$f":"VLOOKUP(Observations!R410,EWEMs!$B$5:$D$29,3,FALSE)","v":{"$error":"#VALUE!"}},false,false,"",{"$f":"IF(B410=\"\",\"\",INDEX('Units and Spaces'!C:C,MATCH(Observations!B410,'Units and Spaces'!B:B,0)))","v":""}]
[null,null,"",null,null,"",null,null,"",null,null,"","",false,{"$f":"INDEX(EWEMs!$F$5:$F$29,MATCH(D411,EWEMs!$X$5:$X$29,0))","v":{"$error":"#N/A"}},"not bath","not kitchen",{"$error":"#VALUE!"},{"$f":"VLOOKUP(Observations!R411,EWEMs!$B$5:$D$29,3,FALSE)","v":{"$error":"#VALUE!"}},false,false,"",{"$f":"IF(B411=\"\",\"\",INDEX('Units and Spaces'!C:C,MATCH(Observations!B411,'Units and Spaces'!B:B,0)))","v":""}]
[null,null,"",null,null,"",null,null,"",null,null,"","",false,{"$f":"INDEX(EWEMs!$F$5:$F$29,MATCH(D412,EWEMs!$X$5:$X$29,0))","v":{"$error":"#N/A"}},"not bath","not kitchen",{"$error":"#VALUE!"},{"$f":"VLOOKUP(Observations!R412,EWEMs!$B$5:$D$29,3,FALSE)","v":{"$error":"#VALUE!"}},false,false,"",{"$f":"IF(B412=\"\",\"\",INDEX('Units and Spaces'!C:C,MATCH(Observations!B412,'Units and Spaces'!B:B,0)))","v":""}]
[null,null,"",null,null,"",null,null,"",null,null,"","",false,{"$f":"INDEX(EWEMs!$F$5:$F$29,MATCH(D413,EWEMs!$X$5:$X$29,0))","v":{"$error":"#N/A"}},"not bath","not kitchen",{"$error":"#VALUE!"},{"$f":"VLOOKUP(Observations!R413,EWEMs!$B$5:$D$29,3,FALSE)","v":{"$error":"#VALUE!"}},false,false,"",{"$f":"IF(B413=\"\",\"\",INDEX('Units and Spaces'!C:C,MATCH(Observations!B413,'Units and Spaces'!B:B,0)))","v":""}]
[null,null,"",null,null,"",null,null,"",null,null,"","",false,{"$f":"INDEX(EWEMs!$F$5:$F$29,MATCH(D414,EWEMs!$X$5:$X$29,0))","v":{"$error":"#N/A"}},"not bath","not kitchen",{"$error":"#VALUE!"},{"$f":"VLOOKUP(Observations!R414,EWEMs!$B$5:$D$29,3,FALSE)","v":{"$error":"#VALUE!"}},false,false,"",{"$f":"IF(B414=\"\",\"\",INDEX('Units and Spaces'!C:C,MATCH(Observations!B414,'Units and Spaces'!B:B,0)))","v":""}]
[null,null,"",null,null,"",null,null,"",null,null,"","",false,{"$f":"INDEX(EWEMs!$F$5:$F$29,MATCH(D415,EWEMs!$X$5:$X$29,0))","v":{"$error":"#N/A"}},"not bath","not kitchen",{"$error":"#VALUE!"},{"$f":"VLOOKUP(Observations!R415,EWEMs!$B$5:$D$29,3,FALSE)","v":{"$error":"#VALUE!"}},false,false,"",{"$f":"IF(B415=\"\",\"\",INDEX('Units and Spaces'!C:C,MATCH(Observations!B415,'Units and Spaces'!B:B,0)))","v":""}]
[null,null,"",null,null,"",null,null,"",null,null,"","",false,{"$f":"INDEX(EWEMs!$F$5:$F$29,MATCH(D416,EWEMs!$X$5:$X$29,0))","v":{"$error":"#N/A"}},"not bath","not kitchen",{"$error":"#VALUE!"},{"$f":"VLOOKUP(Observations!R416,EWEMs!$B$5:$D$29,3,FALSE)","v":{"$error":"#VALUE!"}},false,false,"",{"$f":"IF(B416=\"\",\"\",INDEX('Units and Spaces'!C:C,MATCH(Observations!B416,'Units and Spaces'!B:B,0)))","v":""}]
[null,null,"",null,null,"",null,null,"",null,null,"","",false,{"$f":"INDEX(EWEMs!$F$5:$F$29,MATCH(D417,EWEMs!$X$5:$X$29,0))","v":{"$error":"#N/A"}},"not bath","not kitchen",{"$error":"#VALUE!"},{"$f":"VLOOKUP(Observations!R417,EWEMs!$B$5:$D$29,3,FALSE)","v":{"$error":"#VALUE!"}},false,false,"",{"$f":"IF(B417=\"\",\"\",INDEX('Units and Spaces'!C:C,MATCH(Observations!B417,'Units and Spaces'!B:B,0)))","v":""}]
[null,null,"",null,null,"",null,null,"",null,null,"","",false,{"$f":"INDEX(EWEMs!$F$5:$F$29,MATCH(D418,EWEMs!$X$5:$X$29,0))","v":{"$error":"#N/A"}},"not bath","not kitchen",{"$error":"#VALUE!"},{"$f":"VLOOKUP(Observations!R418,EWEMs!$B$5:$D$29,3,FALSE)","v":{"$error":"#VALUE!"}},false,false,"",{"$f":"IF(B418=\"\",\"\",INDEX('Units and Spaces'!C:C,MATCH(Observations!B418,'Units and Spaces'!B:B,0)))","v":""}]
[null,null,"",null,null,"",null,null,"",null,null,"","",false,{"$f":"INDEX(EWEMs!$F$5:$F$29,MATCH(D419,EWEMs!$X$5:$X$29,0))","v":{"$error":"#N/A"}},"not bath","not kitchen",{"$error":"#VALUE!"},{"$f":"VLOOKUP(Observations!R419,EWEMs!$B$5:$D$29,3,FALSE)","v":{"$error":"#VALUE!"}},false,false,"",{"$f":"IF(B419=\"\",\"\",INDEX('Units and Spaces'!C:C,MATCH(Observations!B419,'Units and Spaces'!B:B,0)))","v":""}]
[null,null,"",null,null,"",null,null,"",null,null,"","",false,{"$f":"INDEX(EWEMs!$F$5:$F$29,MATCH(D420,EWEMs!$X$5:$X$29,0))","v":{"$error":"#N/A"}},"not bath","not kitchen",{"$error":"#VALUE!"},{"$f":"VLOOKUP(Observations!R420,EWEMs!$B$5:$D$29,3,FALSE)","v":{"$error":"#VALUE!"}},false,false,"",{"$f":"IF(B420=\"\",\"\",INDEX('Units and Spaces'!C:C,MATCH(Observations!B420,'Units and Spaces'!B:B,0)))","v":""}]
[null,null,"",null,null,"",null,null,"",null,null,"","",false,{"$f":"INDEX(EWEMs!$F$5:$F$29,MATCH(D421,EWEMs!$X$5:$X$29,0))","v":{"$error":"#N/A"}},"not bath","not kitchen",{"$error":"#VALUE!"},{"$f":"VLOOKUP(Observations!R421,EWEMs!$B$5:$D$29,3,FALSE)","v":{"$error":"#VALUE!"}},false,false,"",{"$f":"IF(B421=\"\",\"\",INDEX('Units and Spaces'!C:C,MATCH(Observations!B421,'Units and Spaces'!B:B,0)))","v":""}]
[null,null,"",null,null,"",null,null,"",null,null,{"$f":"IF(OR(F422=\"compliant\",F422=\"noncompliant\"),D422&F422,D422&G422)","v":""},"",false,{"$f":"INDEX(EWEMs!$F$5:$F$29,MATCH(D422,EWEMs!$X$5:$X$29,0))","v":{"$error":"#N/A"}},"not bath","not kitchen",{"$error":"#VALUE!"},{"$f":"VLOOKUP(Observations!R422,EWEMs!$B$5:$D$29,3,FALSE)","v":{"$error":"#VALUE!"}},false,false,"",{"$f":"IF(B422=\"\",\"\",INDEX('Units and Spaces'!C:C,MATCH(Observations!B422,'Units and Spaces'!B:B,0)))","v":""}]
[null,null,"",null,null,"",null,null,"",null,null,{"$f":"IF(OR(F423=\"compliant\",F423=\"noncompliant\"),D423&F423,D423&G423)","v":""},"",false,{"$f":"INDEX(EWEMs!$F$5:$F$29,MATCH(D423,EWEMs!$X$5:$X$29,0))","v":{"$error":"#N/A"}},"not bath","not kitchen",{"$error":"#VALUE!"},{"$f":"VLOOKUP(Observations!R423,EWEMs!$B$5:$D$29,3,FALSE)","v":{"$error":"#VALUE!"}},false,false,"",{"$f":"IF(B423=\"\",\"\",INDEX('Units and Spaces'!C:C,MATCH(Observations!B423,'Units and Spaces'!B:B,0)))","v":""}]
[null,null,"",null,null,"",null,null,"",null,null,"","",false,{"$f":"INDEX(EWEMs!$F$5:$F$29,MATCH(D424,EWEMs!$X$5:$X$29,0))","v":{"$error":"#N/A"}},"not bath","not kitchen",{"$error":"#VALUE!"},{"$f":"VLOOKUP(Observations!R424,EWEMs!$B$5:$D$29,3,FALSE)","v":{"$error":"#VALUE!"}},false,false,"",{"$f":"IF(B424=\"\",\"\",INDEX('Units and Spaces'!C:C,MATCH(Observations!B424,'Units and Spaces'!B:B,0)))","v":""}]
[null,null,"",null,null,"",null,null,"",null,null,"","",false,{"$f":"INDEX(EWEMs!$F$5:$F$29,MATCH(D425,EWEMs!$X$5:$X$29,0))","v":{"$error":"#N/A"}},"not bath","not kitchen",{"$error":"#VALUE!"},{"$f":"VLOOKUP(Observations!R425,EWEMs!$B$5:$D$29,3,FALSE)","v":{"$error":"#VALUE!"}},false,false,"",{"$f":"IF(B425=\"\",\"\",INDEX('Units and Spaces'!C:C,MATCH(Observations!B425,'Units and Spaces'!B:B,0)))","v":""}]
[null,null,"",null,null,"",null,null,"",null,null,"","",false,{"$f":"INDEX(EWEMs!$F$5:$F$29,MATCH(D426,EWEMs!$X$5:$X$29,0))","v":{"$error":"#N/A"}},"not bath","not kitchen",{"$error":"#VALUE!"},{"$f":"VLOOKUP(Observations!R426,EWEMs!$B$5:$D$29,3,FALSE)","v":{"$error":"#VALUE!"}},false,false,"",{"$f":"IF(B426=\"\",\"\",INDEX('Units and Spaces'!C:C,MATCH(Observations!B426,'Units and Spaces'!B:B,0)))","v":""}]
[null,null,"",null,null,"",null,null,"",null,null,"","",false,{"$f":"INDEX(EWEMs!$F$5:$F$29,MATCH(D427,EWEMs!$X$5:$X$29,0))","v":{"$error":"#N/A"}},"not bath","not kitchen",{"$error":"#VALUE!"},{"$f":"VLOOKUP(Observations!R427,EWEMs!$B$5:$D$29,3,FALSE)","v":{"$error":"#VALUE!"}},false,false,"",{"$f":"IF(B427=\"\",\"\",INDEX('Units and Spaces'!C:C,MATCH(Observations!B427,'Units and Spaces'!B:B,0)))","v":""}]
[null,null,"",null,null,"",null,null,"",null,null,"","",false,{"$f":"INDEX(EWEMs!$F$5:$F$29,MATCH(D428,EWEMs!$X$5:$X$29,0))","v":{"$error":"#N/A"}},"not bath","not kitchen",{"$error":"#VALUE!"},{"$f":"VLOOKUP(Observations!R428,EWEMs!$B$5:$D$29,3,FALSE)","v":{"$error":"#VALUE!"}},false,false,"",{"$f":"IF(B428=\"\",\"\",INDEX('Units and Spaces'!C:C,MATCH(Observations!B428,'Units and Spaces'!B:B,0)))","v":""}]
[null,null,"",null,null,"",null,null,"",null,null,"","",false,{"$f":"INDEX(EWEMs!$F$5:$F$29,MATCH(D429,EWEMs!$X$5:$X$29,0))","v":{"$error":"#N/A"}},"not bath","not kitchen",{"$error":"#VALUE!"},{"$f":"VLOOKUP(Observations!R429,EWEMs!$B$5:$D$29,3,FALSE)","v":{"$error":"#VALUE!"}},false,false,"",{"$f":"IF(B429=\"\",\"\",INDEX('Units and Spaces'!C:C,MATCH(Observations!B429,'Units and Spaces'!B:B,0)))","v":""}]
[null,null,"",null,null,"",null,null,"",null,null,"","",false,{"$f":"INDEX(EWEMs!$F$5:$F$29,MATCH(D430,EWEMs!$X$5:$X$29,0))","v":{"$error":"#N/A"}},"not bath","not kitchen",{"$error":"#VALUE!"},{"$f":"VLOOKUP(Observations!R430,EWEMs!$B$5:$D$29,3,FALSE)","v":{"$error":"#VALUE!"}},false,false,"",{"$f":"IF(B430=\"\",\"\",INDEX('Units and Spaces'!C:C,MATCH(Observations!B430,'Units and Spaces'!B:B,0)))","v":""}]
[null,null,"",null,null,"",null,null,"",null,null,"","",false,{"$f":"INDEX(EWEMs!$F$5:$F$29,MATCH(D431,EWEMs!$X$5:$X$29,0))","v":{"$error":"#N/A"}},"not bath","not kitchen",{"$error":"#VALUE!"},{"$f":"VLOOKUP(Observations!R431,EWEMs!$B$5:$D$29,3,FALSE)","v":{"$error":"#VALUE!"}},false,false,"",{"$f":"IF(B431=\"\",\"\",INDEX('Units and Spaces'!C:C,MATCH(Observations!B431,'Units and Spaces'!B:B,0)))","v":""}]
[null,null,"",null,null,"",null,null,"",null,null,"","",false,{"$f":"INDEX(EWEMs!$F$5:$F$29,MATCH(D432,EWEMs!$X$5:$X$29,0))","v":{"$error":"#N/A"}},"not bath","not kitchen",{"$error":"#VALUE!"},{"$f":"VLOOKUP(Observations!R432,EWEMs!$B$5:$D$29,3,FALSE)","v":{"$error":"#VALUE!"}},false,false,"",{"$f":"IF(B432=\"\",\"\",INDEX('Units and Spaces'!C:C,MATCH(Observations!B432,'Units and Spaces'!B:B,0)))","v":""}]
[null,null,"",null,null,"",null,null,"",null,null,"","",false,{"$f":"INDEX(EWEMs!$F$5:$F$29,MATCH(D433,EWEMs!$X$5:$X$29,0))","v":{"$error":"#N/A"}},"not bath","not kitchen",{"$error":"#VALUE!"},{"$f":"VLOOKUP(Observations!R433,EWEMs!$B$5:$D$29,3,FALSE)","v":{"$error":"#VALUE!"}},false,false,"",{"$f":"IF(B433=\"\",\"\",INDEX('Units and Spaces'!C:C,MATCH(Observations!B433,'Units and Spaces'!B:B,0)))","v":""}]
[null,null,"",null,null,"",null,null,"",null,null,"","",false,{"$f":"INDEX(EWEMs!$F$5:$F$29,MATCH(D434,EWEMs!$X$5:$X$29,0))","v":{"$error":"#N/A"}},"not bath","not kitchen",{"$error":"#VALUE!"},{"$f":"VLOOKUP(Observations!R434,EWEMs!$B$5:$D$29,3,FALSE)","v":{"$error":"#VALUE!"}},false,false,"",{"$f":"IF(B434=\"\",\"\",INDEX('Units and Spaces'!C:C,MATCH(Observations!B434,'Units and Spaces'!B:B,0)))","v":""}]
[null,null,"",null,null,"",null,null,"",null,null,"","",false,{"$f":"INDEX(EWEMs!$F$5:$F$29,MATCH(D435,EWEMs!$X$5:$X$29,0))","v":{"$error":"#N/A"}},"not bath","not kitchen",{"$error":"#VALUE!"},{"$f":"VLOOKUP(Observations!R435,EWEMs!$B$5:$D$29,3,FALSE)","v":{"$error":"#VALUE!"}},false,false,"",{"$f":"IF(B435=\"\",\"\",INDEX('Units and Spaces'!C:C,MATCH(Observations!B435,'Units and Spaces'!B:B,0)))","v":""}]
[null,null,"",null,null,"",null,null,"",null,null,"","",false,{"$f":"INDEX(EWEMs!$F$5:$F$29,MATCH(D436,EWEMs!$X$5:$X$29,0))","v":{"$error":"#N/A"}},"not bath","not kitchen",{"$error":"#VALUE!"},{"$f":"VLOOKUP(Observations!R436,EWEMs!$B$5:$D$29,3,FALSE)","v":{"$error":"#VALUE!"}},false,false,"",{"$f":"IF(B436=\"\",\"\",INDEX('Units and Spaces'!C:C,MATCH(Observations!B436,'Units and Spaces'!B:B,0)))","v":""}]
[null,null,"",null,null,"",null,null,"",null,null,"","",false,{"$f":"INDEX(EWEMs!$F$5:$F$29,MATCH(D437,EWEMs!$X$5:$X$29,0))","v":{"$error":"#N/A"}},"not bath","not kitchen",{"$error":"#VALUE!"},{"$f":"VLOOKUP(Observations!R437,EWEMs!$B$5:$D$29,3,FALSE)","v":{"$error":"#VALUE!"}},false,false,"",{"$f":"IF(B437=\"\",\"\",INDEX('Units and Spaces'!C:C,MATCH(Observations!B437,'Units and Spaces'!B:B,0)))","v":""}]
[null,null,"",null,null,"",null,null,"",null,null,"","",false,{"$f":"INDEX(EWEMs!$F$5:$F$29,MATCH(D438,EWEMs!$X$5:$X$29,0))","v":{"$error":"#N/A"}},"not bath","not kitchen",{"$error":"#VALUE!"},{"$f":"VLOOKUP(Observations!R438,EWEMs!$B$5:$D$29,3,FALSE)","v":{"$error":"#VALUE!"}},false,false,"",{"$f":"IF(B438=\"\",\"\",INDEX('Units and Spaces'!C:C,MATCH(Observations!B438,'Units and Spaces'!B:B,0)))","v":""}]
[null,null,"",null,null,"",null,null,"",null,null,"","",false,{"$f":"INDEX(EWEMs!$F$5:$F$29,MATCH(D439,EWEMs!$X$5:$X$29,0))","v":{"$error":"#N/A"}},"not bath","not kitchen",{"$error":"#VALUE!"},{"$f":"VLOOKUP(Observations!R439,EWEMs!$B$5:$D$29,3,FALSE)","v":{"$error":"#VALUE!"}},false,false,"",{"$f":"IF(B439=\"\",\"\",INDEX('Units and Spaces'!C:C,MATCH(Observations!B439,'Units and Spaces'!B:B,0)))","v":""}]
[null,null,"",null,null,"",null,null,"",null,null,"","",false,{"$f":"INDEX(EWEMs!$F$5:$F$29,MATCH(D440,EWEMs!$X$5:$X$29,0))","v":{"$error":"#N/A"}},"not bath","not kitchen",{"$error":"#VALUE!"},{"$f":"VLOOKUP(Observations!R440,EWEMs!$B$5:$D$29,3,FALSE)","v":{"$error":"#VALUE!"}},false,false,"",{"$f":"IF(B440=\"\",\"\",INDEX('Units and Spaces'!C:C,MATCH(Observations!B440,'Units and Spaces'!B:B,0)))","v":""}]
[null,null,"",null,null,"",null,null,"",null,null,"","",false,{"$f":"INDEX(EWEMs!$F$5:$F$29,MATCH(D441,EWEMs!$X$5:$X$29,0))","v":{"$error":"#N/A"}},"not bath","not kitchen",{"$error":"#VALUE!"},{"$f":"VLOOKUP(Observations!R441,EWEMs!$B$5:$D$29,3,FALSE)","v":{"$error":"#VALUE!"}},false,false,"",{"$f":"IF(B441=\"\",\"\",INDEX('Units and Spaces'!C:C,MATCH(Observations!B441,'Units and Spaces'!B:B,0)))","v":""}]
[null,null,"",null,null,"",null,null,"",null,null,"","",false,{"$f":"INDEX(EWEMs!$F$5:$F$29,MATCH(D442,EWEMs!$X$5:$X$29,0))","v":{"$error":"#N/A"}},"not bath","not kitchen",{"$error":"#VALUE!"},{"$f":"VLOOKUP(Observations!R442,EWEMs!$B$5:$D$29,3,FALSE)","v":{"$error":"#VALUE!"}},false,false,"",{"$f":"IF(B442=\"\",\"\",INDEX('Units and Spaces'!C:C,MATCH(Observations!B442,'Units and Spaces'!B:B,0)))","v":""}]
[null,null,"",null,null,"",null,null,"",null,null,"","",false,{"$f":"INDEX(EWEMs!$F$5:$F$29,MATCH(D443,EWEMs!$X$5:$X$29,0))","v":{"$error":"#N/A"}},"not bath","not kitchen",{"$error":"#VALUE!"},{"$f":"VLOOKUP(Observations!R443,EWEMs!$B$5:$D$29,3,FALSE)","v":{"$error":"#VALUE!"}},false,false,"",{"$f":"IF(B443=\"\",\"\",INDEX('Units and Spaces'!C:C,MATCH(Observations!B443,'Units and Spaces'!B:B,0)))","v":""}]
[null,null,"",null,null,"",null,null,"",null,null,"","",false,{"$f":"INDEX(EWEMs!$F$5:$F$29,MATCH(D444,EWEMs!$X$5:$X$29,0))","v":{"$error":"#N/A"}},"not bath","not kitchen",{"$error":"#VALUE!"},{"$f":"VLOOKUP(Observations!R444,EWEMs!$B$5:$D$29,3,FALSE)","v":{"$error":"#VALUE!"}},false,false,"",{"$f":"IF(B444=\"\",\"\",INDEX('Units and Spaces'!C:C,MATCH(Observations!B444,'Units and Spaces'!B:B,0)))","v":""}]
[null,null,"",null,null,"",null,null,"",null,null,"","",false,{"$f":"INDEX(EWEMs!$F$5:$F$29,MATCH(D445,EWEMs!$X$5:$X$29,0))","v":{"$error":"#N/A"}},"not bath","not kitchen",{"$error":"#VALUE!"},{"$f":"VLOOKUP(Observations!R445,EWEMs!$B$5:$D$29,3,FALSE)","v":{"$error":"#VALUE!"}},false,false,"",{"$f":"IF(B445=\"\",\"\",INDEX('Units and Spaces'!C:C,MATCH(Observations!B445,'Units and Spaces'!B:B,0)))","v":""}]
[null,null,"",null,null,"",null,null,"",null,null,"","",false,{"$f":"INDEX(EWEMs!$F$5:$F$29,MATCH(D446,EWEMs!$X$5:$X$29,0))","v":{"$error":"#N/A"}},"not bath","not kitchen",{"$error":"#VALUE!"},{"$f":"VLOOKUP(Observations!R446,EWEMs!$B$5:$D$29,3,FALSE)","v":{"$error":"#VALUE!"}},false,false,"",{"$f":"IF(B446=\"\",\"\",INDEX('Units and Spaces'!C:C,MATCH(Observations!B446,'Units and Spaces'!B:B,0)))","v":""}]
[null,null,"",null,null,"",null,null,"",null,null,"","",false,{"$f":"INDEX(EWEMs!$F$5:$F$29,MATCH(D447,EWEMs!$X$5:$X$29,0))","v":{"$error":"#N/A"}},"not bath","not kitchen",{"$error":"#VALUE!"},{"$f":"VLOOKUP(Observations!R447,EWEMs!$B$5:$D$29,3,FALSE)","v":{"$error":"#VALUE!"}},false,false,"",{"$f":"IF(B447=\"\",\"\",INDEX('Units and Spaces'!C:C,MATCH(Observations!B447,'Units and Spaces'!B:B,0)))","v":""}]
[null,null,"",null,null,"",null,null,"",null,null,"","",false,{"$f":"INDEX(EWEMs!$F$5:$F$29,MATCH(D448,EWEMs!$X$5:$X$29,0))","v":{"$error":"#N/A"}},"not bath","not kitchen",{"$error":"#VALUE!"},{"$f":"VLOOKUP(Observations!R448,EWEMs!$B$5:$D$29,3,FALSE)","v":{"$error":"#VALUE!"}},false,false,"",{"$f":"IF(B448=\"\",\"\",INDEX('Units and Spaces'!C:C,MATCH(Observations!B448,'Units and Spaces'!B:B,0)))","v":""}]
[null,null,"",null,null,"",null,null,"",null,null,"","",false,{"$f":"INDEX(EWEMs!$F$5:$F$29,MATCH(D449,EWEMs!$X$5:$X$29,0))","v":{"$error":"#N/A"}},"not bath","not kitchen",{"$error":"#VALUE!"},{"$f":"VLOOKUP(Observations!R449,EWEMs!$B$5:$D$29,3,FALSE)","v":{"$error":"#VALUE!"}},false,false,"",{"$f":"IF(B449=\"\",\"\",INDEX('Units and Spaces'!C:C,MATCH(Observations!B449,'Units and Spaces'!B:B,0)))","v":""}]
[null,null,"",null,null,"",null,null,"",null,null,"","",false,{"$f":"INDEX(EWEMs!$F$5:$F$29,MATCH(D450,EWEMs!$X$5:$X$29,0))","v":{"$error":"#N/A"}},"not bath","not kitchen",{"$error":"#VALUE!"},{"$f":"VLOOKUP(Observations!R450,EWEMs!$B$5:$D$29,3,FALSE)","v":{"$error":"#VALUE!"}},false,false,"",{"$f":"IF(B450=\"\",\"\",INDEX('Units and Spaces'!C:C,MATCH(Observations!B450,'Units and Spaces'!B:B,0)))","v":""}]
[null,null,"",null,null,"",null,null,"",null,null,"","",false,{"$f":"INDEX(EWEMs!$F$5:$F$29,MATCH(D451,EWEMs!$X$5:$X$29,0))","v":{"$error":"#N/A"}},"not bath","not kitchen",{"$error":"#VALUE!"},{"$f":"VLOOKUP(Observations!R451,EWEMs!$B$5:$D$29,3,FALSE)","v":{"$error":"#VALUE!"}},false,false,"",{"$f":"IF(B451=\"\",\"\",INDEX('Units and Spaces'!C:C,MATCH(Observations!B451,'Units and Spaces'!B:B,0)))","v":""}]
[null,null,"",null,null,"",null,null,"",null,null,"","",false,{"$f":"INDEX(EWEMs!$F$5:$F$29,MATCH(D452,EWEMs!$X$5:$X$29,0))","v":{"$error":"#N/A"}},"not bath","not kitchen",{"$error":"#VALUE!"},{"$f":"VLOOKUP(Observations!R452,EWEMs!$B$5:$D$29,3,FALSE)","v":{"$error":"#VALUE!"}},false,false,"",{"$f":"IF(B452=\"\",\"\",INDEX('Units and Spaces'!C:C,MATCH(Observations!B452,'Units and Spaces'!B:B,0)))","v":""}]
[null,null,"",null,null,"",null,null,"",null,null,"","",false,{"$f":"INDEX(EWEMs!$F$5:$F$29,MATCH(D453,EWEMs!$X$5:$X$29,0))","v":{"$error":"#N/A"}},"not bath","not kitchen",{"$error":"#VALUE!"},{"$f":"VLOOKUP(Observations!R453,EWEMs!$B$5:$D$29,3,FALSE)","v":{"$error":"#VALUE!"}},false,false,"",{"$f":"IF(B453=\"\",\"\",INDEX('Units and Spaces'!C:C,MATCH(Observations!B453,'Units and Spaces'!B:B,0)))","v":""}]
[null,null,"",null,null,"",null,null,"",null,null,"","",false,{"$f":"INDEX(EWEMs!$F$5:$F$29,MATCH(D454,EWEMs!$X$5:$X$29,0))","v":{"$error":"#N/A"}},"not bath","not kitchen",{"$error":"#VALUE!"},{"$f":"VLOOKUP(Observations!R454,EWEMs!$B$5:$D$29,3,FALSE)","v":{"$error":"#VALUE!"}},false,false,"",{"$f":"IF(B454=\"\",\"\",INDEX('Units and Spaces'!C:C,MATCH(Observations!B454,'Units and Spaces'!B:B,0)))","v":""}]
[null,null,"",null,null,"",null,null,"",null,null,"","",false,{"$f":"INDEX(EWEMs!$F$5:$F$29,MATCH(D455,EWEMs!$X$5:$X$29,0))","v":{"$error":"#N/A"}},"not bath","not kitchen",{"$error":"#VALUE!"},{"$f":"VLOOKUP(Observations!R455,EWEMs!$B$5:$D$29,3,FALSE)","v":{"$error":"#VALUE!"}},false,false,"",{"$f":"IF(B455=\"\",\"\",INDEX('Units and Spaces'!C:C,MATCH(Observations!B455,'Units and Spaces'!B:B,0)))","v":""}]
[null,null,{"$f":"IF(B456=\"\", \"\", IF(AND(B456<>\"\",D456=\"\"),W456,IF(ISNUMBER(SEARCH(W456,D456)),W456,\"SPACE MISMATACH\")))","v":""},null,null,{"$f":"IF(AND(N456=TRUE,E456<>\"\"), IF(ISNUMBER(SEARCH(\"compliant\", P456)),P456,IF(ISNUMBER(SEARCH(\"compliant\",Q456)),Q456,IF(E456<=O456,\"compliant\",\"noncompliant\"))),\"\")","v":""},null,null,{"$f":"IF(AND(D456=\"\",D457<>\"\"), \"No Blanks Please!\", \"\")","v":""},null,null,"",{"$f":"IF(C456=\"Apartment\",IF(B456=0,\"\",B456),\"\")","v":""},{"$f":"IF(OR(ISNUMBER(FIND(\"low-flow\",D456,1)), ISNUMBER(FIND(\"low-flush\",D456,1))),TRUE,FALSE)","v":false},{"$f":"INDEX(EWEMs!$F$5:$F$29,MATCH(D456,EWEMs!$X$5:$X$29,0))","v":{"$error":"#N/A"}},{"$f":"IF(OR(ISNUMBER(SEARCH(\"bath faucets\", D456)), AND( ISNUMBER(SEARCH(\"fixture\", D456)),ISNUMBER(SEARCH(\"bath\", S456)) )), IF(O456<=1, IF(AND(E456>=O456, E456<=1), \"compliant\", \"noncompliant\"), IF(AND(E456>=1, E456<=O456),\"compliant\",\"noncompliant\")), \"not bath\"\n)","v":"not bath"},{"$f":"IF(OR(ISNUMBER(SEARCH(\"kitchen faucets\",D456)),AND(ISNUMBER(SEARCH(\"fixtures\",D456)),ISNUMBER(SEARCH(\"kitchen\",S456)))),IF(O456<=1.5,IF(AND(E456>=1, E456<=1.5),\"compliant\",\"noncompliant\"),IF(AND(E456>=1.5,E456<=O456),\"compliant\",\"noncompliant\")),\"not kitchen\"\n)","v":"not kitchen"},{"$f":"LEFT(D456,(FIND(\" \",D456,1)-1))*1","v":{"$error":"#VALUE!"}},{"$f":"VLOOKUP(Observations!R456,EWEMs!$B$5:$D$29,3,FALSE)","v":{"$error":"#VALUE!"}},{"$f":"IF(ISNUMBER(E456),AND(OR(E456<0.5,E456>5),E456<>\"\"),FALSE)","v":false},{"$f":"IF(OR(B456<>\"\",D456<>\"\", E456<>\"\",G456<>\"\",H456<>\"\"), IF(N456=TRUE, IF(OR(B456=\"\", D456=\"\", E456=\"\", H456=\"\"), TRUE, FALSE), IF(OR(B456=\"\", D456=\"\", G456=\"\", H456=\"\"), TRUE, FALSE)), FALSE)","v":false},{"$f":"IF(OR(F456=\"noncompliant\", G456=\"noncompliant\"), IFERROR(LEFT(D456, LEN(_xlfn.TEXTBEFORE(D456,\"-\",-1)))&\" (Space: \"&B456&\")\", \"\"), \"\")","v":""},{"$f":"IF(B456=\"\",\"\",INDEX('Units and Spaces'!C:C,MATCH(Observations!B456,'Units and Spaces'!B:B,0)))","v":""}]
[null,null,"",null,null,"",null,null,"",null,null,"","",false,{"$f":"INDEX(EWEMs!$F$5:$F$29,MATCH(D457,EWEMs!$X$5:$X$29,0))","v":{"$error":"#N/A"}},"not bath","not kitchen",{"$error":"#VALUE!"},{"$f":"VLOOKUP(Observations!R457,EWEMs!$B$5:$D$29,3,FALSE)","v":{"$error":"#VALUE!"}},false,false,"",{"$f":"IF(B457=\"\",\"\",INDEX('Units and Spaces'!C:C,MATCH(Observations!B457,'Units and Spaces'!B:B,0)))","v":""}]
[null,null,"",null,null,"",null,null,"",null,null,"","",false,{"$f":"INDEX(EWEMs!$F$5:$F$29,MATCH(D458,EWEMs!$X$5:$X$29,0))","v":{"$error":"#N/A"}},"not bath","not kitchen",{"$error":"#VALUE!"},{"$f":"VLOOKUP(Observations!R458,EWEMs!$B$5:$D$29,3,FALSE)","v":{"$error":"#VALUE!"}},false,false,"",{"$f":"IF(B458=\"\",\"\",INDEX('Units and Spaces'!C:C,MATCH(Observations!B458,'Units and Spaces'!B:B,0)))","v":""}]
[null,null,"",null,null,"",null,null,"",null,null,"","",false,{"$f":"INDEX(EWEMs!$F$5:$F$29,MATCH(D459,EWEMs!$X$5:$X$29,0))","v":{"$error":"#N/A"}},"not bath","not kitchen",{"$error":"#VALUE!"},{"$f":"VLOOKUP(Observations!R459,EWEMs!$B$5:$D$29,3,FALSE)","v":{"$error":"#VALUE!"}},false,false,"",{"$f":"IF(B459=\"\",\"\",INDEX('Units and Spaces'!C:C,MATCH(Observations!B459,'Units and Spaces'!B:B,0)))","v":""}]
[null,null,"",null,null,"",null,null,"",null,null,"","",false,{"$f":"INDEX(EWEMs!$F$5:$F$29,MATCH(D460,EWEMs!$X$5:$X$29,0))","v":{"$error":"#N/A"}},"not bath","not kitchen",{"$error":"#VALUE!"},{"$f":"VLOOKUP(Observations!R460,EWEMs!$B$5:$D$29,3,FALSE)","v":{"$error":"#VALUE!"}},false,false,"",{"$f":"IF(B460=\"\",\"\",INDEX('Units and Spaces'!C:C,MATCH(Observations!B460,'Units and Spaces'!B:B,0)))","v":""}]
[null,null,"",null,null,"",null,null,"",null,null,"","",false,{"$f":"INDEX(EWEMs!$F$5:$F$29,MATCH(D461,EWEMs!$X$5:$X$29,0))","v":{"$error":"#N/A"}},"not bath","not kitchen",{"$error":"#VALUE!"},{"$f":"VLOOKUP(Observations!R461,EWEMs!$B$5:$D$29,3,FALSE)","v":{"$error":"#VALUE!"}},false,false,"",{"$f":"IF(B461=\"\",\"\",INDEX('Units and Spaces'!C:C,MATCH(Observations!B461,'Units and Spaces'!B:B,0)))","v":""}]
[null,null,"",null,null,"",null,null,"",null,null,"","",false,{"$f":"INDEX(EWEMs!$F$5:$F$29,MATCH(D462,EWEMs!$X$5:$X$29,0))","v":{"$error":"#N/A"}},"not bath","not kitchen",{"$error":"#VALUE!"},{"$f":"VLOOKUP(Observations!R462,EWEMs!$B$5:$D$29,3,FALSE)","v":{"$error":"#VALUE!"}},false,false,"",{"$f":"IF(B462=\"\",\"\",INDEX('Units and Spaces'!C:C,MATCH(Observations!B462,'Units and Spaces'!B:B,0)))","v":""}]
[null,null,"",null,null,"",null,null,"",null,null,"","",false,{"$f":"INDEX(EWEMs!$F$5:$F$29,MATCH(D463,EWEMs!$X$5:$X$29,0))","v":{"$error":"#N/A"}},"not bath","not kitchen",{"$error":"#VALUE!"},{"$f":"VLOOKUP(Observations!R463,EWEMs!$B$5:$D$29,3,FALSE)","v":{"$error":"#VALUE!"}},false,false,"",{"$f":"IF(B463=\"\",\"\",INDEX('Units and Spaces'!C:C,MATCH(Observations!B463,'Units and Spaces'!B:B,0)))","v":""}]
[null,null,"",null,null,"",null,null,"",null,null,"","",false,{"$f":"INDEX(EWEMs!$F$5:$F$29,MATCH(D464,EWEMs!$X$5:$X$29,0))","v":{"$error":"#N/A"}},"not bath","not kitchen",{"$error":"#VALUE!"},{"$f":"VLOOKUP(Observations!R464,EWEMs!$B$5:$D$29,3,FALSE)","v":{"$error":"#VALUE!"}},false,false,"",{"$f":"IF(B464=\"\",\"\",INDEX('Units and Spaces'!C:C,MATCH(Observations!B464,'Units and Spaces'!B:B,0)))","v":""}]
[null,null,"",null,null,"",null,null,"",null,null,"","",false,{"$f":"INDEX(EWEMs!$F$5:$F$29,MATCH(D465,EWEMs!$X$5:$X$29,0))","v":{"$error":"#N/A"}},"not bath","not kitchen",{"$error":"#VALUE!"},{"$f":"VLOOKUP(Observations!R465,EWEMs!$B$5:$D$29,3,FALSE)","v":{"$error":"#VALUE!"}},false,false,"",{"$f":"IF(B465=\"\",\"\",INDEX('Units and Spaces'!C:C,MATCH(Observations!B465,'Units and Spaces'!B:B,0)))","v":""}]
[null,null,"",null,null,"",null,null,"",null,null,"","",false,{"$f":"INDEX(EWEMs!$F$5:$F$29,MATCH(D466,EWEMs!$X$5:$X$29,0))","v":{"$error":"#N/A"}},"not bath","not kitchen",{"$error":"#VALUE!"},{"$f":"VLOOKUP(Observations!R466,EWEMs!$B$5:$D$29,3,FALSE)","v":{"$error":"#VALUE!"}},false,false,"",{"$f":"IF(B466=\"\",\"\",INDEX('Units and Spaces'!C:C,MATCH(Observations!B466,'Units and Spaces'!B:B,0)))","v":""}]
[null,null,"",null,null,"",null,null,"",null,null,"","",false,{"$f":"INDEX(EWEMs!$F$5:$F$29,MATCH(D467,EWEMs!$X$5:$X$29,0))","v":{"$error":"#N/A"}},"not bath","not kitchen",{"$error":"#VALUE!"},{"$f":"VLOOKUP(Observations!R467,EWEMs!$B$5:$D$29,3,FALSE)","v":{"$error":"#VALUE!"}},false,false,"",{"$f":"IF(B467=\"\",\"\",INDEX('Units and Spaces'!C:C,MATCH(Observations!B467,'Units and Spaces'!B:B,0)))","v":""}]
[null,null,"",null,null,"",null,null,"",null,null,"","",false,{"$f":"INDEX(EWEMs!$F$5:$F$29,MATCH(D468,EWEMs!$X$5:$X$29,0))","v":{"$error":"#N/A"}},"not bath","not kitchen",{"$error":"#VALUE!"},{"$f":"VLOOKUP(Observations!R468,EWEMs!$B$5:$D$29,3,FALSE)","v":{"$error":"#VALUE!"}},false,false,"",{"$f":"IF(B468=\"\",\"\",INDEX('Units and Spaces'!C:C,MATCH(Observations!B468,'Units and Spaces'!B:B,0)))","v":""}]
[null,null,"",null,null,"",null,null,"",null,null,"","",false,{"$f":"INDEX(EWEMs!$F$5:$F$29,MATCH(D469,EWEMs!$X$5:$X$29,0))","v":{"$error":"#N/A"}},"not bath","not kitchen",{"$error":"#VALUE!"},{"$f":"VLOOKUP(Observations!R469,EWEMs!$B$5:$D$29,3,FALSE)","v":{"$error":"#VALUE!"}},false,false,"",{"$f":"IF(B469=\"\",\"\",INDEX('Units and Spaces'!C:C,MATCH(Observations!B469,'Units and Spaces'!B:B,0)))","v":""}]
[null,null,"",null,null,"",null,null,"",null,null,"","",false,{"$f":"INDEX(EWEMs!$F$5:$F$29,MATCH(D470,EWEMs!$X$5:$X$29,0))","v":{"$error":"#N/A"}},"not bath","not kitchen",{"$error":"#VALUE!"},{"$f":"VLOOKUP(Observations!R470,EWEMs!$B$5:$D$29,3,FALSE)","v":{"$error":"#VALUE!"}},false,false,"",{"$f":"IF(B470=\"\",\"\",INDEX('Units and Spaces'!C:C,MATCH(Observations!B470,'Units and Spaces'!B:B,0)))","v":""}]
[null,null,"",null,null,"",null,null,"",null,null,"","",false,{"$f":"INDEX(EWEMs!$F$5:$F$29,MATCH(D471,EWEMs!$X$5:$X$29,0))","v":{"$error":"#N/A"}},"not bath","not kitchen",{"$error":"#VALUE!"},{"$f":"VLOOKUP(Observations!R471,EWEMs!$B$5:$D$29,3,FALSE)","v":{"$error":"#VALUE!"}},false,false,"",{"$f":"IF(B471=\"\",\"\",INDEX('Units and Spaces'!C:C,MATCH(Observations!B471,'Units and Spaces'!B:B,0)))","v":""}]
[null,null,"",null,null,"",null,null,"",null,null,"","",false,{"$f":"INDEX(EWEMs!$F$5:$F$29,MATCH(D472,EWEMs!$X$5:$X$29,0))","v":{"$error":"#N/A"}},"not bath","not kitchen",{"$error":"#VALUE!"},{"$f":"VLOOKUP(Observations!R472,EWEMs!$B$5:$D$29,3,FALSE)","v":{"$error":"#VALUE!"}},false,false,"",{"$f":"IF(B472=\"\",\"\",INDEX('Units and Spaces'!C:C,MATCH(Observations!B472,'Units and Spaces'!B:B,0)))","v":""}]
[null,null,"",null,null,"",null,null,"",null,null,"","",false,{"$f":"INDEX(EWEMs!$F$5:$F$29,MATCH(D473,EWEMs!$X$5:$X$29,0))","v":{"$error":"#N/A"}},"not bath","not kitchen",{"$error":"#VALUE!"},{"$f":"VLOOKUP(Observations!R473,EWEMs!$B$5:$D$29,3,FALSE)","v":{"$error":"#VALUE!"}},false,false,"",{"$f":"IF(B473=\"\",\"\",INDEX('Units and Spaces'!C:C,MATCH(Observations!B473,'Units and Spaces'!B:B,0)))","v":""}]
[null,null,"",null,null,"",null,null,"",null,null,"","",false,{"$f":"INDEX(EWEMs!$F$5:$F$29,MATCH(D474,EWEMs!$X$5:$X$29,0))","v":{"$error":"#N/A"}},"not bath","not kitchen",{"$error":"#VALUE!"},{"$f":"VLOOKUP(Observations!R474,EWEMs!$B$5:$D$29,3,FALSE)","v":{"$error":"#VALUE!"}},false,false,"",{"$f":"IF(B474=\"\",\"\",INDEX('Units and Spaces'!C:C,MATCH(Observations!B474,'Units and Spaces'!B:B,0)))","v":""}]
[null,null,"",null,null,"",null,null,"",null,null,"","",false,{"$f":"INDEX(EWEMs!$F$5:$F$29,MATCH(D475,EWEMs!$X$5:$X$29,0))","v":{"$error":"#N/A"}},"not bath","not kitchen",{"$error":"#VALUE!"},{"$f":"VLOOKUP(Observations!R475,EWEMs!$B$5:$D$29,3,FALSE)","v":{"$error":"#VALUE!"}},false,false,"",{"$f":"IF(B475=\"\",\"\",INDEX('Units and Spaces'!C:C,MATCH(Observations!B475,'Units and Spaces'!B:B,0)))","v":""}]
[null,null,"",null,null,"",null,null,"",null,null,"","",false,{"$f":"INDEX(EWEMs!$F$5:$F$29,MATCH(D476,EWEMs!$X$5:$X$29,0))","v":{"$error":"#N/A"}},"not bath","not kitchen",{"$error":"#VALUE!"},{"$f":"VLOOKUP(Observations!R476,EWEMs!$B$5:$D$29,3,FALSE)","v":{"$error":"#VALUE!"}},false,false,"",{"$f":"IF(B476=\"\",\"\",INDEX('Units and Spaces'!C:C,MATCH(Observations!B476,'Units and Spaces'!B:B,0)))","v":""}]
[null,null,"",null,null,"",null,null,"",null,null,"","",false,{"$f":"INDEX(EWEMs!$F$5:$F$29,MATCH(D477,EWEMs!$X$5:$X$29,0))","v":{"$error":"#N/A"}},"not bath","not kitchen",{"$error":"#VALUE!"},{"$f":"VLOOKUP(Observations!R477,EWEMs!$B$5:$D$29,3,FALSE)","v":{"$error":"#VALUE!"}},false,false,"",{"$f":"IF(B477=\"\",\"\",INDEX('Units and Spaces'!C:C,MATCH(Observations!B477,'Units and Spaces'!B:B,0)))","v":""}]
[null,null,"",null,null,"",null,null,"",null,null,"","",false,{"$f":"INDEX(EWEMs!$F$5:$F$29,MATCH(D478,EWEMs!$X$5:$X$29,0))","v":{"$error":"#N/A"}},"not bath","not kitchen",{"$error":"#VALUE!"},{"$f":"VLOOKUP(Observations!R478,EWEMs!$B$5:$D$29,3,FALSE)","v":{"$error":"#VALUE!"}},false,false,"",{"$f":"IF(B478=\"\",\"\",INDEX('Units and Spaces'!C:C,MATCH(Observations!B478,'Units and Spaces'!B:B,0)))","v":""}]
[null,null,"",null,null,"",null,null,"",null,null,"","",false,{"$f":"INDEX(EWEMs!$F$5:$F$29,MATCH(D479,EWEMs!$X$5:$X$29,0))","v":{"$error":"#N/A"}},"not bath","not kitchen",{"$error":"#VALUE!"},{"$f":"VLOOKUP(Observations!R479,EWEMs!$B$5:$D$29,3,FALSE)","v":{"$error":"#VALUE!"}},false,false,"",{"$f":"IF(B479=\"\",\"\",INDEX('Units and Spaces'!C:C,MATCH(Observations!B479,'Units and Spaces'!B:B,0)))","v":""}]
[null,null,"",null,null,"",null,null,"",null,null,"","",false,{"$f":"INDEX(EWEMs!$F$5:$F$29,MATCH(D480,EWEMs!$X$5:$X$29,0))","v":{"$error":"#N/A"}},"not bath","not kitchen",{"$error":"#VALUE!"},{"$f":"VLOOKUP(Observations!R480,EWEMs!$B$5:$D$29,3,FALSE)","v":{"$error":"#VALUE!"}},false,false,"",{"$f":"IF(B480=\"\",\"\",INDEX('Units and Spaces'!C:C,MATCH(Observations!B480,'Units and Spaces'!B:B,0)))","v":""}]
[null,null,"",null,null,"",null,null,"",null,null,"","",false,{"$f":"INDEX(EWEMs!$F$5:$F$29,MATCH(D481,EWEMs!$X$5:$X$29,0))","v":{"$error":"#N/A"}},"not bath","not kitchen",{"$error":"#VALUE!"},{"$f":"VLOOKUP(Observations!R481,EWEMs!$B$5:$D$29,3,FALSE)","v":{"$error":"#VALUE!"}},false,false,"",{"$f":"IF(B481=\"\",\"\",INDEX('Units and Spaces'!C:C,MATCH(Observations!B481,'Units and Spaces'!B:B,0)))","v":""}]
[null,null,"",null,null,"",null,null,"",null,null,"","",false,{"$f":"INDEX(EWEMs!$F$5:$F$29,MATCH(D482,EWEMs!$X$5:$X$29,0))","v":{"$error":"#N/A"}},"not bath","not kitchen",{"$error":"#VALUE!"},{"$f":"VLOOKUP(Observations!R482,EWEMs!$B$5:$D$29,3,FALSE)","v":{"$error":"#VALUE!"}},false,false,"",{"$f":"IF(B482=\"\",\"\",INDEX('Units and Spaces'!C:C,MATCH(Observations!B482,'Units and Spaces'!B:B,0)))","v":""}]
[null,null,"",null,null,"",null,null,"",null,null,"","",false,{"$f":"INDEX(EWEMs!$F$5:$F$29,MATCH(D483,EWEMs!$X$5:$X$29,0))","v":{"$error":"#N/A"}},"not bath","not kitchen",{"$error":"#VALUE!"},{"$f":"VLOOKUP(Observations!R483,EWEMs!$B$5:$D$29,3,FALSE)","v":{"$error":"#VALUE!"}},false,false,"",{"$f":"IF(B483=\"\",\"\",INDEX('Units and Spaces'!C:C,MATCH(Observations!B483,'Units and Spaces'!B:B,0)))","v":""}]
[null,null,"",null,null,"",null,null,"",null,null,"","",false,{"$f":"INDEX(EWEMs!$F$5:$F$29,MATCH(D484,EWEMs!$X$5:$X$29,0))","v":{"$error":"#N/A"}},"not bath","not kitchen",{"$error":"#VALUE!"},{"$f":"VLOOKUP(Observations!R484,EWEMs!$B$5:$D$29,3,FALSE)","v":{"$error":"#VALUE!"}},false,false,"",{"$f":"IF(B484=\"\",\"\",INDEX('Units and Spaces'!C:C,MATCH(Observations!B484,'Units and Spaces'!B:B,0)))","v":""}]
[null,null,"",null,null,"",null,null,"",null,null,"","",false,{"$f":"INDEX(EWEMs!$F$5:$F$29,MATCH(D485,EWEMs!$X$5:$X$29,0))","v":{"$error":"#N/A"}},"not bath","not kitchen",{"$error":"#VALUE!"},{"$f":"VLOOKUP(Observations!R485,EWEMs!$B$5:$D$29,3,FALSE)","v":{"$error":"#VALUE!"}},false,false,"",{"$f":"IF(B485=\"\",\"\",INDEX('Units and Spaces'!C:C,MATCH(Observations!B485,'Units and Spaces'!B:B,0)))","v":""}]
[null,null,"",null,null,"",null,null,"",null,null,"","",false,{"$f":"INDEX(EWEMs!$F$5:$F$29,MATCH(D486,EWEMs!$X$5:$X$29,0))","v":{"$error":"#N/A"}},"not bath","not kitchen",{"$error":"#VALUE!"},{"$f":"VLOOKUP(Observations!R486,EWEMs!$B$5:$D$29,3,FALSE)","v":{"$error":"#VALUE!"}},false,false,"",{"$f":"IF(B486=\"\",\"\",INDEX('Units and Spaces'!C:C,MATCH(Observations!B486,'Units and Spaces'!B:B,0)))","v":""}]
[null,null,"",null,null,"",null,null,"",null,null,{"$f":"IF(OR(F487=\"compliant\",F487=\"noncompliant\"),D487&F487,D487&G487)","v":""},"",false,{"$f":"INDEX(EWEMs!$F$5:$F$29,MATCH(D487,EWEMs!$X$5:$X$29,0))","v":{"$error":"#N/A"}},"not bath","not kitchen",{"$error":"#VALUE!"},{"$f":"VLOOKUP(Observations!R487,EWEMs!$B$5:$D$29,3,FALSE)","v":{"$error":"#VALUE!"}},false,false,"",{"$f":"IF(B487=\"\",\"\",INDEX('Units and Spaces'!C:C,MATCH(Observations!B487,'Units and Spaces'!B:B,0)))","v":""}]
[null,null,"",null,null,"",null,null,"",null,null,"","",false,{"$f":"INDEX(EWEMs!$F$5:$F$29,MATCH(D488,EWEMs!$X$5:$X$29,0))","v":{"$error":"#N/A"}},"not bath","not kitchen",{"$error":"#VALUE!"},{"$f":"VLOOKUP(Observations!R488,EWEMs!$B$5:$D$29,3,FALSE)","v":{"$error":"#VALUE!"}},false,false,"",{"$f":"IF(B488=\"\",\"\",INDEX('Units and Spaces'!C:C,MATCH(Observations!B488,'Units and Spaces'!B:B,0)))","v":""}]
[null,null,"",null,null,"",null,null,"",null,null,"","",false,{"$f":"INDEX(EWEMs!$F$5:$F$29,MATCH(D489,EWEMs!$X$5:$X$29,0))","v":{"$error":"#N/A"}},"not bath","not kitchen",{"$error":"#VALUE!"},{"$f":"VLOOKUP(Observations!R489,EWEMs!$B$5:$D$29,3,FALSE)","v":{"$error":"#VALUE!"}},false,false,"",{"$f":"IF(B489=\"\",\"\",INDEX('Units and Spaces'!C:C,MATCH(Observations!B489,'Units and Spaces'!B:B,0)))","v":""}]
[null,null,"",null,null,"",null,null,"",null,null,"","",false,{"$f":"INDEX(EWEMs!$F$5:$F$29,MATCH(D490,EWEMs!$X$5:$X$29,0))","v":{"$error":"#N/A"}},"not bath","not kitchen",{"$error":"#VALUE!"},{"$f":"VLOOKUP(Observations!R490,EWEMs!$B$5:$D$29,3,FALSE)","v":{"$error":"#VALUE!"}},false,false,"",{"$f":"IF(B490=\"\",\"\",INDEX('Units and Spaces'!C:C,MATCH(Observations!B490,'Units and Spaces'!B:B,0)))","v":""}]
[null,null,"",null,null,"",null,null,"",null,null,"","",false,{"$f":"INDEX(EWEMs!$F$5:$F$29,MATCH(D491,EWEMs!$X$5:$X$29,0))","v":{"$error":"#N/A"}},"not bath","not kitchen",{"$error":"#VALUE!"},{"$f":"VLOOKUP(Observations!R491,EWEMs!$B$5:$D$29,3,FALSE)","v":{"$error":"#VALUE!"}},false,false,"",{"$f":"IF(B491=\"\",\"\",INDEX('Units and Spaces'!C:C,MATCH(Observations!B491,'Units and Spaces'!B:B,0)))","v":""}]
[null,null,"",null,null,"",null,null,"",null,null,"","",false,{"$f":"INDEX(EWEMs!$F$5:$F$29,MATCH(D492,EWEMs!$X$5:$X$29,0))","v":{"$error":"#N/A"}},"not bath","not kitchen",{"$error":"#VALUE!"},{"$f":"VLOOKUP(Observations!R492,EWEMs!$B$5:$D$29,3,FALSE)","v":{"$error":"#VALUE!"}},false,false,"",{"$f":"IF(B492=\"\",\"\",INDEX('Units and Spaces'!C:C,MATCH(Observations!B492,'Units and Spaces'!B:B,0)))","v":""}]
[null,null,"",null,null,"",null,null,"",null,null,"","",false,{"$f":"INDEX(EWEMs!$F$5:$F$29,MATCH(D493,EWEMs!$X$5:$X$29,0))","v":{"$error":"#N/A"}},"not bath","not kitchen",{"$error":"#VALUE!"},{"$f":"VLOOKUP(Observations!R493,EWEMs!$B$5:$D$29,3,FALSE)","v":{"$error":"#VALUE!"}},false,false,"",{"$f":"IF(B493=\"\",\"\",INDEX('Units and Spaces'!C:C,MATCH(Observations!B493,'Units and Spaces'!B:B,0)))","v":""}]
[null,null,"",null,null,"",null,null,"",null,null,"","",false,{"$f":"INDEX(EWEMs!$F$5:$F$29,MATCH(D494,EWEMs!$X$5:$X$29,0))","v":{"$error":"#N/A"}},"not bath","not kitchen",{"$error":"#VALUE!"},{"$f":"VLOOKUP(Observations!R494,EWEMs!$B$5:$D$29,3,FALSE)","v":{"$error":"#VALUE!"}},false,false,"",{"$f":"IF(B494=\"\",\"\",INDEX('Units and Spaces'!C:C,MATCH(Observations!B494,'Units and Spaces'!B:B,0)))","v":""}]
[null,null,"",null,null,"",null,null,"",null,null,"","",false,{"$f":"INDEX(EWEMs!$F$5:$F$29,MATCH(D495,EWEMs!$X$5:$X$29,0))","v":{"$error":"#N/A"}},"not bath","not kitchen",{"$error":"#VALUE!"},{"$f":"VLOOKUP(Observations!R495,EWEMs!$B$5:$D$29,3,FALSE)","v":{"$error":"#VALUE!"}},false,false,"",{"$f":"IF(B495=\"\",\"\",INDEX('Units and Spaces'!C:C,MATCH(Observations!B495,'Units and Spaces'!B:B,0)))","v":""}]
[null,null,"",null,null,"",null,null,"",null,null,"","",false,{"$f":"INDEX(EWEMs!$F$5:$F$29,MATCH(D496,EWEMs!$X$5:$X$29,0))","v":{"$error":"#N/A"}},"not bath","not kitchen",{"$error":"#VALUE!"},{"$f":"VLOOKUP(Observations!R496,EWEMs!$B$5:$D$29,3,FALSE)","v":{"$error":"#VALUE!"}},false,false,"",{"$f":"IF(B496=\"\",\"\",INDEX('Units and Spaces'!C:C,MATCH(Observations!B496,'Units and Spaces'!B:B,0)))","v":""}]
[null,null,"",null,null,"",null,null,"",null,null,"","",false,{"$f":"INDEX(EWEMs!$F$5:$F$29,MATCH(D497,EWEMs!$X$5:$X$29,0))","v":{"$error":"#N/A"}},"not bath","not kitchen",{"$error":"#VALUE!"},{"$f":"VLOOKUP(Observations!R497,EWEMs!$B$5:$D$29,3,FALSE)","v":{"$error":"#VALUE!"}},false,false,"",{"$f":"IF(B497=\"\",\"\",INDEX('Units and Spaces'!C:C,MATCH(Observations!B497,'Units and Spaces'!B:B,0)))","v":""}]
[null,null,"",null,null,"",null,null,"",null,null,"","",false,{"$f":"INDEX(EWEMs!$F$5:$F$29,MATCH(D498,EWEMs!$X$5:$X$29,0))","v":{"$error":"#N/A"}},"not bath","not kitchen",{"$error":"#VALUE!"},{"$f":"VLOOKUP(Observations!R498,EWEMs!$B$5:$D$29,3,FALSE)","v":{"$error":"#VALUE!"}},false,false,"",{"$f":"IF(B498=\"\",\"\",INDEX('Units and Spaces'!C:C,MATCH(Observations!B498,'Units and Spaces'!B:B,0)))","v":""}]
[null,null,"",null,null,"",null,null,"",null,null,"","",false,{"$f":"INDEX(EWEMs!$F$5:$F$29,MATCH(D499,EWEMs!$X$5:$X$29,0))","v":{"$error":"#N/A"}},"not bath","not kitchen",{"$error":"#VALUE!"},{"$f":"VLOOKUP(Observations!R499,EWEMs!$B$5:$D$29,3,FALSE)","v":{"$error":"#VALUE!"}},false,false,"",{"$f":"IF(B499=\"\",\"\",INDEX('Units and Spaces'!C:C,MATCH(Observations!B499,'Units and Spaces'!B:B,0)))","v":""}]
[null,null,"",null,null,"",null,null,"",null,null,"","",false,{"$f":"INDEX(EWEMs!$F$5:$F$29,MATCH(D500,EWEMs!$X$5:$X$29,0))","v":{"$error":"#N/A"}},"not bath","not kitchen",{"$error":"#VALUE!"},{"$f":"VLOOKUP(Observations!R500,EWEMs!$B$5:$D$29,3,FALSE)","v":{"$error":"#VALUE!"}},false,false,"",{"$f":"IF(B500=\"\",\"\",INDEX('Units and Spaces'!C:C,MATCH(Observations!B500,'Units and Spaces'!B:B,0)))","v":""}]
[null,null,"",null,null,"",null,null,"",null,null,"","",false,{"$f":"INDEX(EWEMs!$F$5:$F$29,MATCH(D501,EWEMs!$X$5:$X$29,0))","v":{"$error":"#N/A"}},"not bath","not kitchen",{"$error":"#VALUE!"},{"$f":"VLOOKUP(Observations!R501,EWEMs!$B$5:$D$29,3,FALSE)","v":{"$error":"#VALUE!"}},false,false,"",{"$f":"IF(B501=\"\",\"\",INDEX('Units and Spaces'!C:C,MATCH(Observations!B501,'Units and Spaces'!B:B,0)))","v":""}]
[null,null,"",null,null,"",null,null,"",null,null,"","",false,{"$f":"INDEX(EWEMs!$F$5:$F$29,MATCH(D502,EWEMs!$X$5:$X$29,0))","v":{"$error":"#N/A"}},"not bath","not kitchen",{"$error":"#VALUE!"},{"$f":"VLOOKUP(Observations!R502,EWEMs!$B$5:$D$29,3,FALSE)","v":{"$error":"#VALUE!"}},false,false,"",{"$f":"IF(B502=\"\",\"\",INDEX('Units and Spaces'!C:C,MATCH(Observations!B502,'Units and Spaces'!B:B,0)))","v":""}]
[null,null,"",null,null,"",null,null,"",null,null,"","",false,{"$f":"INDEX(EWEMs!$F$5:$F$29,MATCH(D503,EWEMs!$X$5:$X$29,0))","v":{"$error":"#N/A"}},"not bath","not kitchen",{"$error":"#VALUE!"},{"$f":"VLOOKUP(Observations!R503,EWEMs!$B$5:$D$29,3,FALSE)","v":{"$error":"#VALUE!"}},false,false,"",{"$f":"IF(B503=\"\",\"\",INDEX('Units and Spaces'!C:C,MATCH(Observations!B503,'Units and Spaces'!B:B,0)))","v":""}]
[null,null,"",null,null,"",null,null,"",null,null,"","",false,{"$f":"INDEX(EWEMs!$F$5:$F$29,MATCH(D504,EWEMs!$X$5:$X$29,0))","v":{"$error":"#N/A"}},"not bath","not kitchen",{"$error":"#VALUE!"},{"$f":"VLOOKUP(Observations!R504,EWEMs!$B$5:$D$29,3,FALSE)","v":{"$error":"#VALUE!"}},false,false,"",{"$f":"IF(B504=\"\",\"\",INDEX('Units and Spaces'!C:C,MATCH(Observations!B504,'Units and Spaces'!B:B,0)))","v":""}]
[null,null,"",null,null,"",null,null,"",null,null,"","",false,{"$f":"INDEX(EWEMs!$F$5:$F$29,MATCH(D505,EWEMs!$X$5:$X$29,0))","v":{"$error":"#N/A"}},"not bath","not kitchen",{"$error":"#VALUE!"},{"$f":"VLOOKUP(Observations!R505,EWEMs!$B$5:$D$29,3,FALSE)","v":{"$error":"#VALUE!"}},false,false,"",{"$f":"IF(B505=\"\",\"\",INDEX('Units and Spaces'!C:C,MATCH(Observations!B505,'Units and Spaces'!B:B,0)))","v":""}]
[null,null,"",null,null,"",null,null,"",null,null,"","",false,{"$f":"INDEX(EWEMs!$F$5:$F$29,MATCH(D506,EWEMs!$X$5:$X$29,0))","v":{"$error":"#N/A"}},"not bath","not kitchen",{"$error":"#VALUE!"},{"$f":"VLOOKUP(Observations!R506,EWEMs!$B$5:$D$29,3,FALSE)","v":{"$error":"#VALUE!"}},false,false,"",{"$f":"IF(B506=\"\",\"\",INDEX('Units and Spaces'!C:C,MATCH(Observations!B506,'Units and Spaces'!B:B,0)))","v":""}]

{"sheet":"Photos","index":7,"n_rows":95,"n_cols":10,"rows_kept":95,"cut":false,"hidden":false,"merged":[[0,2,0,3]]}
[null,null,"USE THE \"INSERT INTO CELL\" FUNTION TO INSERT PHOTO\nCompliant photos for EWEMs: Photo of each type of equipment/part observed for that EWEM. Ask to see spare parts in a stockroom for a photo of the label/package. ",null,"YOU MUST COMPLETE ALL OF OBSERVATIONS FIRST.\nIF ANY NONCOMPLIANCE CHANGES, IT WILL CHANGE THE PHOTOS LIST ON LEFT, MISALIGNING YOUR PHOTOS"]
[null,null,"EWEM and/or Location","PHOTO OF PART FROM STOCKROOM/BACKSTOCK","Photo 1","Photo 2 (optional)","Photo 3 (optional)","Photo 4 (optional)","Photo 5 (optional)","Photo 6 (optional)"]
[{"$f":"IF(AND(C3<>\"Add photos from Noncompliant Observations below\", C3<>\"NONE\", NOT(ISBLANK(C3)), ISBLANK(E3)), 1, 0)","v":{"$error":"#VALUE!"}},{"$f":"IF(AND(ISNUMBER(SEARCH(\"Backstock\", C3)), ISBLANK(D3)), 1, 0)","v":0},{"$f":"_xlfn.VSTACK(_xlfn._xlws.FILTER(EWEMs!$AE$5:'EWEMs'!$AE$29, EWEMs!$AF$5:'EWEMs'!$AF$29), \"Add photos from Noncompliant Observations below\", IF(Observations!V6>0, _xlfn._xlws.FILTER(Observations!$V$7:'Observations'!$V$506, IF(Observations!$V$7:'Observations'!$V$506=\"\", FALSE, TRUE)), \"NONE\") )","v":{"$error":"#VALUE!"}}]
[{"$f":"IF(AND(C4<>\"Add photos from Noncompliant Observations below\", C4<>\"NONE\", NOT(ISBLANK(C4)), ISBLANK(E4)), 1, 0)","v":0},0]
[0,0]
[0,0]
[0,0]
[0,0]
[0,0]
[0,0]
[0,0]
[0,0]
[0,0]
[0,0]
[0,0]
[0,0]
[0,0]
[0,0]
[0,0]
[0,0]
[0,0]
[0,0]
[0,0]
[0,0]
[0,0]
[0,0]
[0,0]
[0,0]
[0,0]
[0,0]
[0,0]
[0,0]
[0,0]
[0,0]
[0,{"$f":"IF(AND(ISNUMBER(SEARCH(\"Backstock\", C35)), ISBLANK(D35)), 1, 0)","v":0}]
[0,0]
[0,0]
[0,0]
[0,0]
[0,0]
[0,0]
[0,0]
[0,0]
[0,0]
[0,0]
[0,0]
[0,0]
[0,0]
[0,0]
[0,0]
[0,0]
[0,0]
[0,0]
[0,0]
[0,0]
[0,0]
[0,0]
[0,0]
[0,0]
[0,0]
[0,0]
[0,0]
[0,0]
[0,0]
[0,0]
[0,0]
[0,{"$f":"IF(AND(ISNUMBER(SEARCH(\"Backstock\", C67)), ISBLANK(D67)), 1, 0)","v":0}]
[{"$f":"IF(AND(C68<>\"Add photos from Noncompliant Observations below\", C68<>\"NONE\", NOT(ISBLANK(C68)), ISBLANK(E68)), 1, 0)","v":0},0]
[0,0]
[0,0]
[0,0]
[0,0]
[0,0]
[0,0]
[0,0]
[0,0]
[0,0]
[0,0]
[0,0]
[0,0]
[0,0]
[0,0]
[0,0]
[0,0]
[0,0]
[0,0]
[0,0]
[0,0]
[0,0]
[0,0]
[0,0]
[0,0]
[0,0]
[0,0]
[0,0]

{"sheet":"RemediationConversion","index":8,"n_rows":2,"n_cols":2,"rows_kept":2,"cut":false,"hidden":false,"merged":[]}
[null,"Convert this inspection form to a post-verification REMEDIATION form"]
[null,"Click the button below to convert this form from a Verification form to a Remediation form. Do this only after a verification has been completed, submitted, reviewed, and accepted, and a Property requires a follow-up remediation inspection. \n\nAfter clicking this button, all of the original Verification worksheets will be locked, and the Remediation worksheets will be added."]

{"sheet":"RemediationInfo","index":9,"n_rows":48,"n_cols":9,"rows_kept":48,"cut":false,"hidden":true,"merged":[[20,2,20,6],[47,2,47,6],[32,2,32,6],[33,2,33,6],[37,2,37,6],[38,2,38,6],[39,2,39,6],[10,4,10,6],[40,2,40,6],[41,2,41,6],[42,2,42,6],[46,2,46,6],[27,2,27,6],[28,2,28,6],[29,2,29,6],[30,2,30,6],[31,2,31,6],[21,2,21,6],[22,2,22,6],[23,2,23,6],[17,2,17,6],[18,2,18,6],[19,2,19,6]]}
["Remediation Inspection Info",{"$f":"\"Date of Verification Inspection: \"&TEXT('Property Info'!C22, \"m/dd/yyyy\")","v":"Date of Verification Inspection: 1/00/1900"},"Reference the Verification Inspection Worksheets for Property details and details on the original inspection"]
[]
[]
["Name of Inspector",null,"Verification Total EWEMs",{"$f":"'Property Info'!F20","v":0}]
["Inspection Company",null,"Verification Noncompliant EWEMs",{"$f":"'Property Info'!F21","v":0}]
["Date of Remediation Inspection",null,"Remediation Noncompliant EWEMs",{"$f":"COUNTIF(RemediationEWEMs!M4:M29, \"No\")","v":0}]
["Site Visit Contact Name"]
["Contact Phone Number",null,"Minimum Number of Units to Inspect",{"$f":"'Property Info'!F23","v":30}]
["Contact Email",null,"Number of Remediation Units Inspected",{"$f":"COUNTIFS(RemediationUnits!C6:C48, \"Apartment\", RemediationUnits!D6:D48, \">0\")","v":0}]
[]
["General Remediation Comments",null,"All Units and Common Spaces\n inspected in Verification",{"$f":"_xlfn.TEXTJOIN(\", \", TRUE, ObservedUnits)","v":""},"Unit Selection Instructions: \n1/3 of selected units must be the same as those from the Verification\n& 2/3 should be new units."]
[null,null,"All Units and Common Spaces \ninspected in Remediation",{"$f":"_xlfn.TEXTJOIN(\", \", TRUE, RemediationUnitsList)","v":""}]
[]
[]
[]
["COMPLETENESS WARNINGS FOR REMEDIATION INSPECTION"]
["Error or Warning","Status","INSPECTOR: Comment if the Status shows a warning, and explain why this is OK. ",null,null,null,null,"isWarning","unexplained"]
["RemediationInfo: all required fields are completed",{"$f":"IF(H18=1,\"WARNING. Review fields above for yellow blanks.\", \"ok\")","v":"WARNING. Review fields above for yellow blanks."},null,null,null,null,null,{"$f":"IF(OR(B4=\"\", B5=\"\", B6=\"\", B7=\"\",B8=\"\", B9=\"\", B11=\"\"), 1, 0)","v":1},{"$f":"IF(AND(H18=1, C18=\"\"), 1, 0)","v":1}]
["Date of Remediation Inspection is in a correct date format",{"$f":"IF(H19=1,\"WARNING. Review field C22 above. Date format (mm/dd/yyyy)\", \"ok\")","v":"WARNING. Review field C22 above. Date format (mm/dd/yyyy)"},null,null,null,null,null,{"$f":"IF(OR(ISERROR(DATE(MONTH(B6),DAY(B6),YEAR(B6))), B6=\"\"),1,0)","v":1},{"$f":"IF(AND(H19=1, C19=\"\"), 1, 0)","v":1}]
["All apartment EWEMs meet the minimum sample size for observed units.",{"$f":"IF(H20=1,\"WARNING. Review 'EWEMs' worksheet (Column M)\", \"ok\")","v":"ok"},null,null,null,null,null,{"$f":"IF(SUM(RemediationEWEMs!S4:S29)>0, 1, 0)","v":0},{"$f":"IF(AND(H20=1, C20=\"\"), 1, 0)","v":0}]
["All Apartment units have at least as many observations as the number of Apartment EWEMs. ",{"$f":"IF(H21=1,\"WARNING. Review 'Units and Spaces' worksheet (Column F)\", \"ok\")","v":"ok"},null,null,null,null,null,{"$f":"IF(43-COUNTIF(RemediationUnits!G6:G48, \"\")>0, 1, 0)","v":0},{"$f":"IF(AND(H21=1, C21=\"\"), 1, 0)","v":0}]
["All EWEMs have at least one observation. ",{"$f":"IF(H22=1,\"WARNING. Review 'EWEMs' worksheet (Column M).\", \"ok\")","v":"ok"},null,null,null,null,null,{"$f":"IF(COUNTIF(RemediationEWEMs!J4:J29, 0)>0, 1, 0)","v":0},0]
["All EWEM Inspection Descriptions have been entered. ",{"$f":"IF(H23=1,\"WARNING. Review 'EWEMs' worksheet (Column L) for completeness.\", \"ok\")","v":"ok"},null,null,null,null,null,{"$f":"IF(COUNTIF(RemediationEWEMs!A4:A29,\"\")=COUNTIF(RemediationEWEMs!I4:I29,\"\"),0,1)","v":0},0]
["Observations: all required fields are completed",{"$f":"IF(H24=1,\"WARNING. Review 'Observations' worksheet for yellow blank cells\", \"ok\")","v":"ok"},null,null,null,null,null,{"$f":"IF(RemediationObservations!Q4>0, 1, 0)","v":0},0]
[]
["PHOTOS CONFIRMATION CHECKLIST"]
["Status to confirm","Confirmation","Comment (If needed)"]
["Photos are clear and not blurry"]
["Photos have readable labels and nameplates"]
["Photos support observation and compliance determinations"]
["If an EWEM has a numerical specification, a photo has been included of the specification/label on the part."]
["Photos of stock/inventory items are provided"]
["Every noncompliant observation has an included photo"]
["For each EWEM, a photo of each type of part/equipment observed has been uploaded. "]
[]
["COMPLIANCE CONFIRMATION CHECKLIST"]
["Status to confirm","Confirmation","Comment (If needed)"]
["Compliance determinations take into account all specifications, such as settings, certifications or numerical specs, from the Description"]
["If an EWEM is a partial measure, DO NOT write in observations that are empty, or 'no observation made'. Only Enter actual observations made."]
["Compliance determination is reached by checking all reasonable parts of the installation"]
["EnergyStar EWEMs have been verified by a label or by checking the EnergyStar database online."]
["All numerical ratings from EWEM Descriptions have been accounted for."]
["All certifications referenced in EWEM Descriptions have been accounted for. "]
[]
["WRITTEN DESCRIPTIONS  CONFIRMATION CHECKLIST"]
["Status to confirm","Confirmation","Comment (If needed)"]
["EWEM Verification Descriptions fully describe the overall observed EWEM, and include any context needed for a reviewer to understand what was found and its corresponding compliance determination"]
["Observation Descriptions fully describe what was observed."]

{"sheet":"RemediationEWEMs","index":10,"n_rows":29,"n_cols":22,"rows_kept":29,"cut":false,"hidden":true,"merged":[[0,3,0,7]]}
[null,"INPUT: Remediation EWEMs ",null,"A Remediation inspection only inspects noncompliant EWEMs from the Verification inspection. Gray fields are automatically filled or calculated. Inspection Results Description is required for each EWEM."]
[null,null,null,null,null,null,null,null,null,null,null,null,null,null,null,null,null,{"$f":"COUNTIF(R4:R29, TRUE)","v":0}]
["Number","Name","Description","Units observed as noncompliant in the Verification Inspection","Nameplate Specification","Space Category","Estimated Quantity Installed","Number of Units in which to Install","Remediation Results Description","Total Remediation Observations","Noncompliant Remediation Observations","Remediation Noncompliance Percentage","Remediation compliant per S6? *preliminary",null,null,"maybe partial","EWEM\nList\nNames","Apartment EWEM","Not Meets Sample Size","this is a water EWEM","EWEM Backstock Required","Show Photo Row 100%\nNon-comp."]
[{"$f":"IFERROR(INDEX(EWEMs!$B$5:$B$29,SMALL(IF(EWEMs!$Q$5:$Q$29=\"No\",ROW(EWEMs!$Q$5:$Q$29)-4,\"\"),ROW()-3)),\"\")","v":""},{"$f":"IFERROR(INDEX(selectedEWEMs,SMALL(IF(EWEMs!$Q$5:$Q$29=\"No\",ROW(EWEMs!$Q$5:$Q$29)-4,\"\"),ROW()-3)),\"\")","v":""},{"$f":"IFERROR(INDEX(EWEMs!$D$5:$D$29,SMALL(IF(EWEMs!$Q$5:$Q$29=\"No\",ROW(EWEMs!$Q$5:$Q$29)-4,\"\"),ROW()-3)),\"\")","v":""},{"$f":"_xlfn.TEXTJOIN(\", \", TRUE, IF(Observations!$L$7:$L$506 = $A4&\" - \"&$B4&\" - \"&$F4&\"noncompliant\", Observations!$B$7:$B$506, \"\"))","v":""},{"$f":"IF(IFERROR(VLOOKUP($A4,EWEMs!$B$5:$F$29,5,FALSE),\"\")=0,\"\", IFERROR(VLOOKUP($A4,EWEMs!$B$5:$F$29,5,FALSE),\"\"))","v":""},{"$f":"IFERROR(INDEX(EWEMs!$J$5:$J$29,SMALL(IF(EWEMs!$Q$5:$Q$29=\"No\",ROW(EWEMs!$Q$5:$Q$29)-4,\"\"),ROW()-3)),\"\")","v":""},{"$f":"IFERROR(INDEX(EWEMs!$K$5:$K$29,SMALL(IF(EWEMs!$Q$5:$Q$29=\"No\",ROW(EWEMs!$Q$5:$Q$29)-4,\"\"),ROW()-3)),\"\")","v":""},{"$f":"IFERROR(INDEX(EWEMs!$L$5:$L$29,SMALL(IF(EWEMs!$Q$5:$Q$29=\"No\",ROW(EWEMs!$Q$5:$Q$29)-4,\"\"),ROW()-3)),\"\")","v":""},null,{"$f":"IF(B4=\"\", \"\", COUNTIF(RemediationObservations!$D$6:$D$500, RemediationEWEMs!Q4))","v":""},{"$f":"IF(A4=\"\", \"\", COUNTIF(RemediationObservations!$K$6:$K$500, RemediationEWEMs!Q4&\"noncompliant\"))","v":""},{"$f":"IF(A4<>\"\", K4/J4, \"\")","v":""},{"$f":"IF(C4<>\"\",IF(ISNUMBER(FIND(\"low-flow\",C4,1)), IF(L4<=0.5,\"Yes\",\"No\"),\nIF(C4=\"Upgrade in-unit lighting\",IF(L4<0.255,\"Yes\",\"No\"),\nIF(OR(ISNUMBER(FIND(\"low-flush\",C4,1)), C4=\"Upgrade exterior lighting\", C4=\"Upgrade common area lighting\", C4=\"Upgrade whole building lighting\",C4=\"Replace wall/window AC\", C4=\"Add window films\", C4=\"Install or replace solar screens\"), IF(L4<0.105,\"Yes\", \"No\"),\nIF(L4=0,\"Yes\",\"No\")))),\"\")","v":""},null,null,{"$f":"IF(A4=\"\",\"\",IF(AND(OR(F4=\"Apartments and Common Areas\",F4=\"Apartments\"),H4<0.95*'Property Info'!$D$16),\"maybe partial\",\"\"))","v":""},{"$f":"IF(A4=\"\", \"\", A4&\" - \"&B4&\" - \"&F4)","v":""},{"$f":"IF(F4=\"Apartments\", TRUE, FALSE)","v":false},{"$f":"IF(AND(ISNUMBER(SEARCH(\"apartment\",F4)), J4<'Property Info'!$F$23), 1, 0)","v":0},{"$f":"IF(OR(ISNUMBER(FIND(\"low-flow\",B4,1)), ISNUMBER(FIND(\"low-flush\",B4,1))),TRUE,FALSE)","v":false},{"$f":"B4&\" - \"&F4&\" \"&IF(VLOOKUP(B4,Data!A$7:C$105,3, FALSE)=1, \"\n(Backstock photo required)\", \"\")","v":{"$error":"#N/A"}},{"$f":"IF(OR(A4=\"\", J4=K4), FALSE, TRUE)","v":false}]
[{"$f":"IFERROR(INDEX(EWEMs!$B$5:$B$29,SMALL(IF(EWEMs!$Q$5:$Q$29=\"No\",ROW(EWEMs!$Q$5:$Q$29)-4,\"\"),ROW()-3)),\"\")","v":""},{"$f":"IFERROR(INDEX(selectedEWEMs,SMALL(IF(EWEMs!$Q$5:$Q$29=\"No\",ROW(EWEMs!$Q$5:$Q$29)-4,\"\"),ROW()-3)),\"\")","v":""},{"$f":"IFERROR(INDEX(EWEMs!$D$5:$D$29,SMALL(IF(EWEMs!$Q$5:$Q$29=\"No\",ROW(EWEMs!$Q$5:$Q$29)-4,\"\"),ROW()-3)),\"\")","v":""},{"$f":"_xlfn.TEXTJOIN(\", \", TRUE, IF(Observations!$L$7:$L$506 = $A5&\" - \"&$B5&\" - \"&$F5&\"noncompliant\", Observations!$B$7:$B$506, \"\"))","v":""},{"$f":"IF(IFERROR(VLOOKUP($A5,EWEMs!$B$5:$F$29,5,FALSE),\"\")=0,\"\", IFERROR(VLOOKUP($A5,EWEMs!$B$5:$F$29,5,FALSE),\"\"))","v":""},{"$f":"IFERROR(INDEX(EWEMs!$J$5:$J$29,SMALL(IF(EWEMs!$Q$5:$Q$29=\"No\",ROW(EWEMs!$Q$5:$Q$29)-4,\"\"),ROW()-3)),\"\")","v":""},{"$f":"IFERROR(INDEX(EWEMs!$K$5:$K$29,SMALL(IF(EWEMs!$Q$5:$Q$29=\"No\",ROW(EWEMs!$Q$5:$Q$29)-4,\"\"),ROW()-3)),\"\")","v":""},{"$f":"IFERROR(INDEX(EWEMs!$L$5:$L$29,SMALL(IF(EWEMs!$Q$5:$Q$29=\"No\",ROW(EWEMs!$Q$5:$Q$29)-4,\"\"),ROW()-3)),\"\")","v":""},null,{"$f":"IF(B5=\"\", \"\", COUNTIF(RemediationObservations!$D$6:$D$500, RemediationEWEMs!Q5))","v":""},{"$f":"IF(A5=\"\", \"\", COUNTIF(RemediationObservations!$K$6:$K$500, RemediationEWEMs!Q5&\"noncompliant\"))","v":""},{"$f":"IF(A5<>\"\", K5/J5, \"\")","v":""},{"$f":"IF(C5<>\"\",IF(ISNUMBER(FIND(\"low-flow\",C5,1)), IF(L5<=0.5,\"Yes\",\"No\"),\nIF(C5=\"Upgrade in-unit lighting\",IF(L5<0.255,\"Yes\",\"No\"),\nIF(OR(ISNUMBER(FIND(\"low-flush\",C5,1)), C5=\"Upgrade exterior lighting\", C5=\"Upgrade common area lighting\", C5=\"Upgrade whole building lighting\",C5=\"Replace wall/window AC\", C5=\"Add window films\", C5=\"Install or replace solar screens\"), IF(L5<0.105,\"Yes\", \"No\"),\nIF(L5=0,\"Yes\",\"No\")))),\"\")","v":""},null,null,{"$f":"IF(A5=\"\",\"\",IF(AND(OR(F5=\"Apartments and Common Areas\",F5=\"Apartments\"),H5<0.95*'Property Info'!$D$16),\"maybe partial\",\"\"))","v":""},{"$f":"IF(A5=\"\", \"\", A5&\" - \"&B5&\" - \"&F5)","v":""},{"$f":"IF(F5=\"Apartments\", TRUE, FALSE)","v":false},{"$f":"IF(AND(ISNUMBER(SEARCH(\"apartment\",F5)), J5<'Property Info'!$F$23), 1, 0)","v":0},{"$f":"IF(OR(ISNUMBER(FIND(\"low-flow\",B5,1)), ISNUMBER(FIND(\"low-flush\",B5,1))),TRUE,FALSE)","v":false},{"$f":"B5&\" - \"&F5&\" \"&IF(VLOOKUP(B5,Data!A$7:C$105,3, FALSE)=1, \"\n(Backstock photo required)\", \"\")","v":{"$error":"#N/A"}},{"$f":"IF(OR(A5=\"\", J5=K5), FALSE, TRUE)","v":false}]
[{"$f":"IFERROR(INDEX(EWEMs!$B$5:$B$29,SMALL(IF(EWEMs!$Q$5:$Q$29=\"No\",ROW(EWEMs!$Q$5:$Q$29)-4,\"\"),ROW()-3)),\"\")","v":""},{"$f":"IFERROR(INDEX(selectedEWEMs,SMALL(IF(EWEMs!$Q$5:$Q$29=\"No\",ROW(EWEMs!$Q$5:$Q$29)-4,\"\"),ROW()-3)),\"\")","v":""},{"$f":"IFERROR(INDEX(EWEMs!$D$5:$D$29,SMALL(IF(EWEMs!$Q$5:$Q$29=\"No\",ROW(EWEMs!$Q$5:$Q$29)-4,\"\"),ROW()-3)),\"\")","v":""},{"$f":"_xlfn.TEXTJOIN(\", \", TRUE, IF(Observations!$L$7:$L$506 = $A6&\" - \"&$B6&\" - \"&$F6&\"noncompliant\", Observations!$B$7:$B$506, \"\"))","v":""},{"$f":"IF(IFERROR(VLOOKUP($A6,EWEMs!$B$5:$F$29,5,FALSE),\"\")=0,\"\", IFERROR(VLOOKUP($A6,EWEMs!$B$5:$F$29,5,FALSE),\"\"))","v":""},{"$f":"IFERROR(INDEX(EWEMs!$J$5:$J$29,SMALL(IF(EWEMs!$Q$5:$Q$29=\"No\",ROW(EWEMs!$Q$5:$Q$29)-4,\"\"),ROW()-3)),\"\")","v":""},{"$f":"IFERROR(INDEX(EWEMs!$K$5:$K$29,SMALL(IF(EWEMs!$Q$5:$Q$29=\"No\",ROW(EWEMs!$Q$5:$Q$29)-4,\"\"),ROW()-3)),\"\")","v":""},{"$f":"IFERROR(INDEX(EWEMs!$L$5:$L$29,SMALL(IF(EWEMs!$Q$5:$Q$29=\"No\",ROW(EWEMs!$Q$5:$Q$29)-4,\"\"),ROW()-3)),\"\")","v":""},null,{"$f":"IF(B6=\"\", \"\", COUNTIF(RemediationObservations!$D$6:$D$500, RemediationEWEMs!Q6))","v":""},{"$f":"IF(A6=\"\", \"\", COUNTIF(RemediationObservations!$K$6:$K$500, RemediationEWEMs!Q6&\"noncompliant\"))","v":""},"","",null,null,{"$f":"IF(A6=\"\",\"\",IF(AND(OR(F6=\"Apartments and Common Areas\",F6=\"Apartments\"),H6<0.95*'Property Info'!$D$16),\"maybe partial\",\"\"))","v":""},"",false,{"$f":"IF(AND(ISNUMBER(SEARCH(\"apartment\",F6)), J6<'Property Info'!$F$23), 1, 0)","v":0},false,{"$f":"B6&\" - \"&F6&\" \"&IF(VLOOKUP(B6,Data!A$7:C$105,3, FALSE)=1, \"\n(Backstock photo required)\", \"\")","v":{"$error":"#N/A"}},false]
[{"$f":"IFERROR(INDEX(EWEMs!$B$5:$B$29,SMALL(IF(EWEMs!$Q$5:$Q$29=\"No\",ROW(EWEMs!$Q$5:$Q$29)-4,\"\"),ROW()-3)),\"\")","v":""},{"$f":"IFERROR(INDEX(selectedEWEMs,SMALL(IF(EWEMs!$Q$5:$Q$29=\"No\",ROW(EWEMs!$Q$5:$Q$29)-4,\"\"),ROW()-3)),\"\")","v":""},{"$f":"IFERROR(INDEX(EWEMs!$D$5:$D$29,SMALL(IF(EWEMs!$Q$5:$Q$29=\"No\",ROW(EWEMs!$Q$5:$Q$29)-4,\"\"),ROW()-3)),\"\")","v":""},{"$f":"_xlfn.TEXTJOIN(\", \", TRUE, IF(Observations!$L$7:$L$506 = $A7&\" - \"&$B7&\" - \"&$F7&\"noncompliant\", Observations!$B$7:$B$506, \"\"))","v":""},{"$f":"IF(IFERROR(VLOOKUP($A7,EWEMs!$B$5:$F$29,5,FALSE),\"\")=0,\"\", IFERROR(VLOOKUP($A7,EWEMs!$B$5:$F$29,5,FALSE),\"\"))","v":""},{"$f":"IFERROR(INDEX(EWEMs!$J$5:$J$29,SMALL(IF(EWEMs!$Q$5:$Q$29=\"No\",ROW(EWEMs!$Q$5:$Q$29)-4,\"\"),ROW()-3)),\"\")","v":""},{"$f":"IFERROR(INDEX(EWEMs!$K$5:$K$29,SMALL(IF(EWEMs!$Q$5:$Q$29=\"No\",ROW(EWEMs!$Q$5:$Q$29)-4,\"\"),ROW()-3)),\"\")","v":""},{"$f":"IFERROR(INDEX(EWEMs!$L$5:$L$29,SMALL(IF(EWEMs!$Q$5:$Q$29=\"No\",ROW(EWEMs!$Q$5:$Q$29)-4,\"\"),ROW()-3)),\"\")","v":""},null,{"$f":"IF(B7=\"\", \"\", COUNTIF(RemediationObservations!$D$6:$D$500, RemediationEWEMs!Q7))","v":""},{"$f":"IF(A7=\"\", \"\", COUNTIF(RemediationObservations!$K$6:$K$500, RemediationEWEMs!Q7&\"noncompliant\"))","v":""},{"$f":"IF(A7<>\"\", K7/J7, \"\")","v":""},{"$f":"IF(C7<>\"\",IF(ISNUMBER(FIND(\"low-flow\",C7,1)), IF(L7<=0.5,\"Yes\",\"No\"),\nIF(C7=\"Upgrade in-unit lighting\",IF(L7<0.255,\"Yes\",\"No\"),\nIF(OR(ISNUMBER(FIND(\"low-flush\",C7,1)), C7=\"Upgrade exterior lighting\", C7=\"Upgrade common area lighting\", C7=\"Upgrade whole building lighting\",C7=\"Replace wall/window AC\", C7=\"Add window films\", C7=\"Install or replace solar screens\"), IF(L7<0.105,\"Yes\", \"No\"),\nIF(L7=0,\"Yes\",\"No\")))),\"\")","v":""},null,null,{"$f":"IF(A7=\"\",\"\",IF(AND(OR(F7=\"Apartments and Common Areas\",F7=\"Apartments\"),H7<0.95*'Property Info'!$D$16),\"maybe partial\",\"\"))","v":""},"",false,{"$f":"IF(AND(ISNUMBER(SEARCH(\"apartment\",F7)), J7<'Property Info'!$F$23), 1, 0)","v":0},false,{"$f":"B7&\" - \"&F7&\" \"&IF(VLOOKUP(B7,Data!A$7:C$105,3, FALSE)=1, \"\n(Backstock photo required)\", \"\")","v":{"$error":"#N/A"}},false]
[{"$f":"IFERROR(INDEX(EWEMs!$B$5:$B$29,SMALL(IF(EWEMs!$Q$5:$Q$29=\"No\",ROW(EWEMs!$Q$5:$Q$29)-4,\"\"),ROW()-3)),\"\")","v":""},{"$f":"IFERROR(INDEX(selectedEWEMs,SMALL(IF(EWEMs!$Q$5:$Q$29=\"No\",ROW(EWEMs!$Q$5:$Q$29)-4,\"\"),ROW()-3)),\"\")","v":""},{"$f":"IFERROR(INDEX(EWEMs!$D$5:$D$29,SMALL(IF(EWEMs!$Q$5:$Q$29=\"No\",ROW(EWEMs!$Q$5:$Q$29)-4,\"\"),ROW()-3)),\"\")","v":""},{"$f":"_xlfn.TEXTJOIN(\", \", TRUE, IF(Observations!$L$7:$L$506 = $A8&\" - \"&$B8&\" - \"&$F8&\"noncompliant\", Observations!$B$7:$B$506, \"\"))","v":""},{"$f":"IF(IFERROR(VLOOKUP($A8,EWEMs!$B$5:$F$29,5,FALSE),\"\")=0,\"\", IFERROR(VLOOKUP($A8,EWEMs!$B$5:$F$29,5,FALSE),\"\"))","v":""},{"$f":"IFERROR(INDEX(EWEMs!$J$5:$J$29,SMALL(IF(EWEMs!$Q$5:$Q$29=\"No\",ROW(EWEMs!$Q$5:$Q$29)-4,\"\"),ROW()-3)),\"\")","v":""},{"$f":"IFERROR(INDEX(EWEMs!$K$5:$K$29,SMALL(IF(EWEMs!$Q$5:$Q$29=\"No\",ROW(EWEMs!$Q$5:$Q$29)-4,\"\"),ROW()-3)),\"\")","v":""},{"$f":"IFERROR(INDEX(EWEMs!$L$5:$L$29,SMALL(IF(EWEMs!$Q$5:$Q$29=\"No\",ROW(EWEMs!$Q$5:$Q$29)-4,\"\"),ROW()-3)),\"\")","v":""},null,{"$f":"IF(B8=\"\", \"\", COUNTIF(RemediationObservations!$D$6:$D$500, RemediationEWEMs!Q8))","v":""},{"$f":"IF(A8=\"\", \"\", COUNTIF(RemediationObservations!$K$6:$K$500, RemediationEWEMs!Q8&\"noncompliant\"))","v":""},"","",null,null,{"$f":"IF(A8=\"\",\"\",IF(AND(OR(F8=\"Apartments and Common Areas\",F8=\"Apartments\"),H8<0.95*'Property Info'!$D$16),\"maybe partial\",\"\"))","v":""},"",false,{"$f":"IF(AND(ISNUMBER(SEARCH(\"apartment\",F8)), J8<'Property Info'!$F$23), 1, 0)","v":0},false,{"$f":"B8&\" - \"&F8&\" \"&IF(VLOOKUP(B8,Data!A$7:C$105,3, FALSE)=1, \"\n(Backstock photo required)\", \"\")","v":{"$error":"#N/A"}},false]
[{"$f":"IFERROR(INDEX(EWEMs!$B$5:$B$29,SMALL(IF(EWEMs!$Q$5:$Q$29=\"No\",ROW(EWEMs!$Q$5:$Q$29)-4,\"\"),ROW()-3)),\"\")","v":""},{"$f":"IFERROR(INDEX(selectedEWEMs,SMALL(IF(EWEMs!$Q$5:$Q$29=\"No\",ROW(EWEMs!$Q$5:$Q$29)-4,\"\"),ROW()-3)),\"\")","v":""},{"$f":"IFERROR(INDEX(EWEMs!$D$5:$D$29,SMALL(IF(EWEMs!$Q$5:$Q$29=\"No\",ROW(EWEMs!$Q$5:$Q$29)-4,\"\"),ROW()-3)),\"\")","v":""},{"$f":"_xlfn.TEXTJOIN(\", \", TRUE, IF(Observations!$L$7:$L$506 = $A9&\" - \"&$B9&\" - \"&$F9&\"noncompliant\", Observations!$B$7:$B$506, \"\"))","v":""},{"$f":"IF(IFERROR(VLOOKUP($A9,EWEMs!$B$5:$F$29,5,FALSE),\"\")=0,\"\", IFERROR(VLOOKUP($A9,EWEMs!$B$5:$F$29,5,FALSE),\"\"))","v":""},{"$f":"IFERROR(INDEX(EWEMs!$J$5:$J$29,SMALL(IF(EWEMs!$Q$5:$Q$29=\"No\",ROW(EWEMs!$Q$5:$Q$29)-4,\"\"),ROW()-3)),\"\")","v":""},{"$f":"IFERROR(INDEX(EWEMs!$K$5:$K$29,SMALL(IF(EWEMs!$Q$5:$Q$29=\"No\",ROW(EWEMs!$Q$5:$Q$29)-4,\"\"),ROW()-3)),\"\")","v":""},{"$f":"IFERROR(INDEX(EWEMs!$L$5:$L$29,SMALL(IF(EWEMs!$Q$5:$Q$29=\"No\",ROW(EWEMs!$Q$5:$Q$29)-4,\"\"),ROW()-3)),\"\")","v":""},null,{"$f":"IF(B9=\"\", \"\", COUNTIF(RemediationObservations!$D$6:$D$500, RemediationEWEMs!Q9))","v":""},{"$f":"IF(A9=\"\", \"\", COUNTIF(RemediationObservations!$K$6:$K$500, RemediationEWEMs!Q9&\"noncompliant\"))","v":""},"","",null,null,{"$f":"IF(A9=\"\",\"\",IF(AND(OR(F9=\"Apartments and Common Areas\",F9=\"Apartments\"),H9<0.95*'Property Info'!$D$16),\"maybe partial\",\"\"))","v":""},"",false,{"$f":"IF(AND(ISNUMBER(SEARCH(\"apartment\",F9)), J9<'Property Info'!$F$23), 1, 0)","v":0},false,{"$f":"B9&\" - \"&F9&\" \"&IF(VLOOKUP(B9,Data!A$7:C$105,3, FALSE)=1, \"\n(Backstock photo required)\", \"\")","v":{"$error":"#N/A"}},false]
[{"$f":"IFERROR(INDEX(EWEMs!$B$5:$B$29,SMALL(IF(EWEMs!$Q$5:$Q$29=\"No\",ROW(EWEMs!$Q$5:$Q$29)-4,\"\"),ROW()-3)),\"\")","v":""},{"$f":"IFERROR(INDEX(selectedEWEMs,SMALL(IF(EWEMs!$Q$5:$Q$29=\"No\",ROW(EWEMs!$Q$5:$Q$29)-4,\"\"),ROW()-3)),\"\")","v":""},{"$f":"IFERROR(INDEX(EWEMs!$D$5:$D$29,SMALL(IF(EWEMs!$Q$5:$Q$29=\"No\",ROW(EWEMs!$Q$5:$Q$29)-4,\"\"),ROW()-3)),\"\")","v":""},{"$f":"_xlfn.TEXTJOIN(\", \", TRUE, IF(Observations!$L$7:$L$506 = $A10&\" - \"&$B10&\" - \"&$F10&\"noncompliant\", Observations!$B$7:$B$506, \"\"))","v":""},{"$f":"IF(IFERROR(VLOOKUP($A10,EWEMs!$B$5:$F$29,5,FALSE),\"\")=0,\"\", IFERROR(VLOOKUP($A10,EWEMs!$B$5:$F$29,5,FALSE),\"\"))","v":""},{"$f":"IFERROR(INDEX(EWEMs!$J$5:$J$29,SMALL(IF(EWEMs!$Q$5:$Q$29=\"No\",ROW(EWEMs!$Q$5:$Q$29)-4,\"\"),ROW()-3)),\"\")","v":""},{"$f":"IFERROR(INDEX(EWEMs!$K$5:$K$29,SMALL(IF(EWEMs!$Q$5:$Q$29=\"No\",ROW(EWEMs!$Q$5:$Q$29)-4,\"\"),ROW()-3)),\"\")","v":""},{"$f":"IFERROR(INDEX(EWEMs!$L$5:$L$29,SMALL(IF(EWEMs!$Q$5:$Q$29=\"No\",ROW(EWEMs!$Q$5:$Q$29)-4,\"\"),ROW()-3)),\"\")","v":""},null,{"$f":"IF(B10=\"\", \"\", COUNTIF(RemediationObservations!$D$6:$D$500, RemediationEWEMs!Q10))","v":""},{"$f":"IF(A10=\"\", \"\", COUNTIF(RemediationObservations!$K$6:$K$500, RemediationEWEMs!Q10&\"noncompliant\"))","v":""},"","",null,null,{"$f":"IF(A10=\"\",\"\",IF(AND(OR(F10=\"Apartments and Common Areas\",F10=\"Apartments\"),H10<0.95*'Property Info'!$D$16),\"maybe partial\",\"\"))","v":""},"",false,{"$f":"IF(AND(ISNUMBER(SEARCH(\"apartment\",F10)), J10<'Property Info'!$F$23), 1, 0)","v":0},false,{"$f":"B10&\" - \"&F10&\" \"&IF(VLOOKUP(B10,Data!A$7:C$105,3, FALSE)=1, \"\n(Backstock photo required)\", \"\")","v":{"$error":"#N/A"}},false]
[{"$f":"IFERROR(INDEX(EWEMs!$B$5:$B$29,SMALL(IF(EWEMs!$Q$5:$Q$29=\"No\",ROW(EWEMs!$Q$5:$Q$29)-4,\"\"),ROW()-3)),\"\")","v":""},{"$f":"IFERROR(INDEX(selectedEWEMs,SMALL(IF(EWEMs!$Q$5:$Q$29=\"No\",ROW(EWEMs!$Q$5:$Q$29)-4,\"\"),ROW()-3)),\"\")","v":""},{"$f":"IFERROR(INDEX(EWEMs!$D$5:$D$29,SMALL(IF(EWEMs!$Q$5:$Q$29=\"No\",ROW(EWEMs!$Q$5:$Q$29)-4,\"\"),ROW()-3)),\"\")","v":""},{"$f":"_xlfn.TEXTJOIN(\", \", TRUE, IF(Observations!$L$7:$L$506 = $A11&\" - \"&$B11&\" - \"&$F11&\"noncompliant\", Observations!$B$7:$B$506, \"\"))","v":""},{"$f":"IF(IFERROR(VLOOKUP($A11,EWEMs!$B$5:$F$29,5,FALSE),\"\")=0,\"\", IFERROR(VLOOKUP($A11,EWEMs!$B$5:$F$29,5,FALSE),\"\"))","v":""},{"$f":"IFERROR(INDEX(EWEMs!$J$5:$J$29,SMALL(IF(EWEMs!$Q$5:$Q$29=\"No\",ROW(EWEMs!$Q$5:$Q$29)-4,\"\"),ROW()-3)),\"\")","v":""},{"$f":"IFERROR(INDEX(EWEMs!$K$5:$K$29,SMALL(IF(EWEMs!$Q$5:$Q$29=\"No\",ROW(EWEMs!$Q$5:$Q$29)-4,\"\"),ROW()-3)),\"\")","v":""},{"$f":"IFERROR(INDEX(EWEMs!$L$5:$L$29,SMALL(IF(EWEMs!$Q$5:$Q$29=\"No\",ROW(EWEMs!$Q$5:$Q$29)-4,\"\"),ROW()-3)),\"\")","v":""},null,{"$f":"IF(B11=\"\", \"\", COUNTIF(RemediationObservations!$D$6:$D$500, RemediationEWEMs!Q11))","v":""},{"$f":"IF(A11=\"\", \"\", COUNTIF(RemediationObservations!$K$6:$K$500, RemediationEWEMs!Q11&\"noncompliant\"))","v":""},"","",null,null,{"$f":"IF(A11=\"\",\"\",IF(AND(OR(F11=\"Apartments and Common Areas\",F11=\"Apartments\"),H11<0.95*'Property Info'!$D$16),\"maybe partial\",\"\"))","v":""},"",false,{"$f":"IF(AND(ISNUMBER(SEARCH(\"apartment\",F11)), J11<'Property Info'!$F$23), 1, 0)","v":0},false,{"$f":"B11&\" - \"&F11&\" \"&IF(VLOOKUP(B11,Data!A$7:C$105,3, FALSE)=1, \"\n(Backstock photo required)\", \"\")","v":{"$error":"#N/A"}},false]
[{"$f":"IFERROR(INDEX(EWEMs!$B$5:$B$29,SMALL(IF(EWEMs!$Q$5:$Q$29=\"No\",ROW(EWEMs!$Q$5:$Q$29)-4,\"\"),ROW()-3)),\"\")","v":""},{"$f":"IFERROR(INDEX(selectedEWEMs,SMALL(IF(EWEMs!$Q$5:$Q$29=\"No\",ROW(EWEMs!$Q$5:$Q$29)-4,\"\"),ROW()-3)),\"\")","v":""},{"$f":"IFERROR(INDEX(EWEMs!$D$5:$D$29,SMALL(IF(EWEMs!$Q$5:$Q$29=\"No\",ROW(EWEMs!$Q$5:$Q$29)-4,\"\"),ROW()-3)),\"\")","v":""},{"$f":"_xlfn.TEXTJOIN(\", \", TRUE, IF(Observations!$L$7:$L$506 = $A12&\" - \"&$B12&\" - \"&$F12&\"noncompliant\", Observations!$B$7:$B$506, \"\"))","v":""},{"$f":"IF(IFERROR(VLOOKUP($A12,EWEMs!$B$5:$F$29,5,FALSE),\"\")=0,\"\", IFERROR(VLOOKUP($A12,EWEMs!$B$5:$F$29,5,FALSE),\"\"))","v":""},{"$f":"IFERROR(INDEX(EWEMs!$J$5:$J$29,SMALL(IF(EWEMs!$Q$5:$Q$29=\"No\",ROW(EWEMs!$Q$5:$Q$29)-4,\"\"),ROW()-3)),\"\")","v":""},{"$f":"IFERROR(INDEX(EWEMs!$K$5:$K$29,SMALL(IF(EWEMs!$Q$5:$Q$29=\"No\",ROW(EWEMs!$Q$5:$Q$29)-4,\"\"),ROW()-3)),\"\")","v":""},{"$f":"IFERROR(INDEX(EWEMs!$L$5:$L$29,SMALL(IF(EWEMs!$Q$5:$Q$29=\"No\",ROW(EWEMs!$Q$5:$Q$29)-4,\"\"),ROW()-3)),\"\")","v":""},null,{"$f":"IF(B12=\"\", \"\", COUNTIF(RemediationObservations!$D$6:$D$500, RemediationEWEMs!Q12))","v":""},{"$f":"IF(A12=\"\", \"\", COUNTIF(RemediationObservations!$K$6:$K$500, RemediationEWEMs!Q12&\"noncompliant\"))","v":""},"","",null,null,{"$f":"IF(A12=\"\",\"\",IF(AND(OR(F12=\"Apartments and Common Areas\",F12=\"Apartments\"),H12<0.95*'Property Info'!$D$16),\"maybe partial\",\"\"))","v":""},"",false,{"$f":"IF(AND(ISNUMBER(SEARCH(\"apartment\",F12)), J12<'Property Info'!$F$23), 1, 0)","v":0},false,{"$f":"B12&\" - \"&F12&\" \"&IF(VLOOKUP(B12,Data!A$7:C$105,3, FALSE)=1, \"\n(Backstock photo required)\", \"\")","v":{"$error":"#N/A"}},false]
[{"$f":"IFERROR(INDEX(EWEMs!$B$5:$B$29,SMALL(IF(EWEMs!$Q$5:$Q$29=\"No\",ROW(EWEMs!$Q$5:$Q$29)-4,\"\"),ROW()-3)),\"\")","v":""},{"$f":"IFERROR(INDEX(selectedEWEMs,SMALL(IF(EWEMs!$Q$5:$Q$29=\"No\",ROW(EWEMs!$Q$5:$Q$29)-4,\"\"),ROW()-3)),\"\")","v":""},{"$f":"IFERROR(INDEX(EWEMs!$D$5:$D$29,SMALL(IF(EWEMs!$Q$5:$Q$29=\"No\",ROW(EWEMs!$Q$5:$Q$29)-4,\"\"),ROW()-3)),\"\")","v":""},{"$f":"_xlfn.TEXTJOIN(\", \", TRUE, IF(Observations!$L$7:$L$506 = $A13&\" - \"&$B13&\" - \"&$F13&\"noncompliant\", Observations!$B$7:$B$506, \"\"))","v":""},{"$f":"IF(IFERROR(VLOOKUP($A13,EWEMs!$B$5:$F$29,5,FALSE),\"\")=0,\"\", IFERROR(VLOOKUP($A13,EWEMs!$B$5:$F$29,5,FALSE),\"\"))","v":""},{"$f":"IFERROR(INDEX(EWEMs!$J$5:$J$29,SMALL(IF(EWEMs!$Q$5:$Q$29=\"No\",ROW(EWEMs!$Q$5:$Q$29)-4,\"\"),ROW()-3)),\"\")","v":""},{"$f":"IFERROR(INDEX(EWEMs!$K$5:$K$29,SMALL(IF(EWEMs!$Q$5:$Q$29=\"No\",ROW(EWEMs!$Q$5:$Q$29)-4,\"\"),ROW()-3)),\"\")","v":""},{"$f":"IFERROR(INDEX(EWEMs!$L$5:$L$29,SMALL(IF(EWEMs!$Q$5:$Q$29=\"No\",ROW(EWEMs!$Q$5:$Q$29)-4,\"\"),ROW()-3)),\"\")","v":""},null,{"$f":"IF(B13=\"\", \"\", COUNTIF(RemediationObservations!$D$6:$D$500, RemediationEWEMs!Q13))","v":""},{"$f":"IF(A13=\"\", \"\", COUNTIF(RemediationObservations!$K$6:$K$500, RemediationEWEMs!Q13&\"noncompliant\"))","v":""},"","",null,null,{"$f":"IF(A13=\"\",\"\",IF(AND(OR(F13=\"Apartments and Common Areas\",F13=\"Apartments\"),H13<0.95*'Property Info'!$D$16),\"maybe partial\",\"\"))","v":""},"",false,{"$f":"IF(AND(ISNUMBER(SEARCH(\"apartment\",F13)), J13<'Property Info'!$F$23), 1, 0)","v":0},false,{"$f":"B13&\" - \"&F13&\" \"&IF(VLOOKUP(B13,Data!A$7:C$105,3, FALSE)=1, \"\n(Backstock photo required)\", \"\")","v":{"$error":"#N/A"}},false]
[{"$f":"IFERROR(INDEX(EWEMs!$B$5:$B$29,SMALL(IF(EWEMs!$Q$5:$Q$29=\"No\",ROW(EWEMs!$Q$5:$Q$29)-4,\"\"),ROW()-3)),\"\")","v":""},{"$f":"IFERROR(INDEX(selectedEWEMs,SMALL(IF(EWEMs!$Q$5:$Q$29=\"No\",ROW(EWEMs!$Q$5:$Q$29)-4,\"\"),ROW()-3)),\"\")","v":""},{"$f":"IFERROR(INDEX(EWEMs!$D$5:$D$29,SMALL(IF(EWEMs!$Q$5:$Q$29=\"No\",ROW(EWEMs!$Q$5:$Q$29)-4,\"\"),ROW()-3)),\"\")","v":""},{"$f":"_xlfn.TEXTJOIN(\", \", TRUE, IF(Observations!$L$7:$L$506 = $A14&\" - \"&$B14&\" - \"&$F14&\"noncompliant\", Observations!$B$7:$B$506, \"\"))","v":""},{"$f":"IF(IFERROR(VLOOKUP($A14,EWEMs!$B$5:$F$29,5,FALSE),\"\")=0,\"\", IFERROR(VLOOKUP($A14,EWEMs!$B$5:$F$29,5,FALSE),\"\"))","v":""},{"$f":"IFERROR(INDEX(EWEMs!$J$5:$J$29,SMALL(IF(EWEMs!$Q$5:$Q$29=\"No\",ROW(EWEMs!$Q$5:$Q$29)-4,\"\"),ROW()-3)),\"\")","v":""},{"$f":"IFERROR(INDEX(EWEMs!$K$5:$K$29,SMALL(IF(EWEMs!$Q$5:$Q$29=\"No\",ROW(EWEMs!$Q$5:$Q$29)-4,\"\"),ROW()-3)),\"\")","v":""},{"$f":"IFERROR(INDEX(EWEMs!$L$5:$L$29,SMALL(IF(EWEMs!$Q$5:$Q$29=\"No\",ROW(EWEMs!$Q$5:$Q$29)-4,\"\"),ROW()-3)),\"\")","v":""},null,{"$f":"IF(B14=\"\", \"\", COUNTIF(RemediationObservations!$D$6:$D$500, RemediationEWEMs!Q14))","v":""},{"$f":"IF(A14=\"\", \"\", COUNTIF(RemediationObservations!$K$6:$K$500, RemediationEWEMs!Q14&\"noncompliant\"))","v":""},"","",null,null,{"$f":"IF(A14=\"\",\"\",IF(AND(OR(F14=\"Apartments and Common Areas\",F14=\"Apartments\"),H14<0.95*'Property Info'!$D$16),\"maybe partial\",\"\"))","v":""},"",false,{"$f":"IF(AND(ISNUMBER(SEARCH(\"apartment\",F14)), J14<'Property Info'!$F$23), 1, 0)","v":0},false,{"$f":"B14&\" - \"&F14&\" \"&IF(VLOOKUP(B14,Data!A$7:C$105,3, FALSE)=1, \"\n(Backstock photo required)\", \"\")","v":{"$error":"#N/A"}},false]
[{"$f":"IFERROR(INDEX(EWEMs!$B$5:$B$29,SMALL(IF(EWEMs!$Q$5:$Q$29=\"No\",ROW(EWEMs!$Q$5:$Q$29)-4,\"\"),ROW()-3)),\"\")","v":""},{"$f":"IFERROR(INDEX(selectedEWEMs,SMALL(IF(EWEMs!$Q$5:$Q$29=\"No\",ROW(EWEMs!$Q$5:$Q$29)-4,\"\"),ROW()-3)),\"\")","v":""},{"$f":"IFERROR(INDEX(EWEMs!$D$5:$D$29,SMALL(IF(EWEMs!$Q$5:$Q$29=\"No\",ROW(EWEMs!$Q$5:$Q$29)-4,\"\"),ROW()-3)),\"\")","v":""},{"$f":"_xlfn.TEXTJOIN(\", \", TRUE, IF(Observations!$L$7:$L$506 = $A15&\" - \"&$B15&\" - \"&$F15&\"noncompliant\", Observations!$B$7:$B$506, \"\"))","v":""},{"$f":"IF(IFERROR(VLOOKUP($A15,EWEMs!$B$5:$F$29,5,FALSE),\"\")=0,\"\", IFERROR(VLOOKUP($A15,EWEMs!$B$5:$F$29,5,FALSE),\"\"))","v":""},{"$f":"IFERROR(INDEX(EWEMs!$J$5:$J$29,SMALL(IF(EWEMs!$Q$5:$Q$29=\"No\",ROW(EWEMs!$Q$5:$Q$29)-4,\"\"),ROW()-3)),\"\")","v":""},{"$f":"IFERROR(INDEX(EWEMs!$K$5:$K$29,SMALL(IF(EWEMs!$Q$5:$Q$29=\"No\",ROW(EWEMs!$Q$5:$Q$29)-4,\"\"),ROW()-3)),\"\")","v":""},{"$f":"IFERROR(INDEX(EWEMs!$L$5:$L$29,SMALL(IF(EWEMs!$Q$5:$Q$29=\"No\",ROW(EWEMs!$Q$5:$Q$29)-4,\"\"),ROW()-3)),\"\")","v":""},null,{"$f":"IF(B15=\"\", \"\", COUNTIF(RemediationObservations!$D$6:$D$500, RemediationEWEMs!Q15))","v":""},{"$f":"IF(A15=\"\", \"\", COUNTIF(RemediationObservations!$K$6:$K$500, RemediationEWEMs!Q15&\"noncompliant\"))","v":""},"","",null,null,{"$f":"IF(A15=\"\",\"\",IF(AND(OR(F15=\"Apartments and Common Areas\",F15=\"Apartments\"),H15<0.95*'Property Info'!$D$16),\"maybe partial\",\"\"))","v":""},"",false,{"$f":"IF(AND(ISNUMBER(SEARCH(\"apartment\",F15)), J15<'Property Info'!$F$23), 1, 0)","v":0},false,{"$f":"B15&\" - \"&F15&\" \"&IF(VLOOKUP(B15,Data!A$7:C$105,3, FALSE)=1, \"\n(Backstock photo required)\", \"\")","v":{"$error":"#N/A"}},false]
[{"$f":"IFERROR(INDEX(EWEMs!$B$5:$B$29,SMALL(IF(EWEMs!$Q$5:$Q$29=\"No\",ROW(EWEMs!$Q$5:$Q$29)-4,\"\"),ROW()-3)),\"\")","v":""},{"$f":"IFERROR(INDEX(selectedEWEMs,SMALL(IF(EWEMs!$Q$5:$Q$29=\"No\",ROW(EWEMs!$Q$5:$Q$29)-4,\"\"),ROW()-3)),\"\")","v":""},{"$f":"IFERROR(INDEX(EWEMs!$D$5:$D$29,SMALL(IF(EWEMs!$Q$5:$Q$29=\"No\",ROW(EWEMs!$Q$5:$Q$29)-4,\"\"),ROW()-3)),\"\")","v":""},{"$f":"_xlfn.TEXTJOIN(\", \", TRUE, IF(Observations!$L$7:$L$506 = $A16&\" - \"&$B16&\" - \"&$F16&\"noncompliant\", Observations!$B$7:$B$506, \"\"))","v":""},{"$f":"IF(IFERROR(VLOOKUP($A16,EWEMs!$B$5:$F$29,5,FALSE),\"\")=0,\"\", IFERROR(VLOOKUP($A16,EWEMs!$B$5:$F$29,5,FALSE),\"\"))","v":""},{"$f":"IFERROR(INDEX(EWEMs!$J$5:$J$29,SMALL(IF(EWEMs!$Q$5:$Q$29=\"No\",ROW(EWEMs!$Q$5:$Q$29)-4,\"\"),ROW()-3)),\"\")","v":""},{"$f":"IFERROR(INDEX(EWEMs!$K$5:$K$29,SMALL(IF(EWEMs!$Q$5:$Q$29=\"No\",ROW(EWEMs!$Q$5:$Q$29)-4,\"\"),ROW()-3)),\"\")","v":""},{"$f":"IFERROR(INDEX(EWEMs!$L$5:$L$29,SMALL(IF(EWEMs!$Q$5:$Q$29=\"No\",ROW(EWEMs!$Q$5:$Q$29)-4,\"\"),ROW()-3)),\"\")","v":""},null,{"$f":"IF(B16=\"\", \"\", COUNTIF(RemediationObservations!$D$6:$D$500, RemediationEWEMs!Q16))","v":""},{"$f":"IF(A16=\"\", \"\", COUNTIF(RemediationObservations!$K$6:$K$500, RemediationEWEMs!Q16&\"noncompliant\"))","v":""},"","",null,null,{"$f":"IF(A16=\"\",\"\",IF(AND(OR(F16=\"Apartments and Common Areas\",F16=\"Apartments\"),H16<0.95*'Property Info'!$D$16),\"maybe partial\",\"\"))","v":""},"",false,{"$f":"IF(AND(ISNUMBER(SEARCH(\"apartment\",F16)), J16<'Property Info'!$F$23), 1, 0)","v":0},false,{"$f":"B16&\" - \"&F16&\" \"&IF(VLOOKUP(B16,Data!A$7:C$105,3, FALSE)=1, \"\n(Backstock photo required)\", \"\")","v":{"$error":"#N/A"}},false]
[{"$f":"IFERROR(INDEX(EWEMs!$B$5:$B$29,SMALL(IF(EWEMs!$Q$5:$Q$29=\"No\",ROW(EWEMs!$Q$5:$Q$29)-4,\"\"),ROW()-3)),\"\")","v":""},{"$f":"IFERROR(INDEX(selectedEWEMs,SMALL(IF(EWEMs!$Q$5:$Q$29=\"No\",ROW(EWEMs!$Q$5:$Q$29)-4,\"\"),ROW()-3)),\"\")","v":""},{"$f":"IFERROR(INDEX(EWEMs!$D$5:$D$29,SMALL(IF(EWEMs!$Q$5:$Q$29=\"No\",ROW(EWEMs!$Q$5:$Q$29)-4,\"\"),ROW()-3)),\"\")","v":""},{"$f":"_xlfn.TEXTJOIN(\", \", TRUE, IF(Observations!$L$7:$L$506 = $A17&\" - \"&$B17&\" - \"&$F17&\"noncompliant\", Observations!$B$7:$B$506, \"\"))","v":""},{"$f":"IF(IFERROR(VLOOKUP($A17,EWEMs!$B$5:$F$29,5,FALSE),\"\")=0,\"\", IFERROR(VLOOKUP($A17,EWEMs!$B$5:$F$29,5,FALSE),\"\"))","v":""},{"$f":"IFERROR(INDEX(EWEMs!$J$5:$J$29,SMALL(IF(EWEMs!$Q$5:$Q$29=\"No\",ROW(EWEMs!$Q$5:$Q$29)-4,\"\"),ROW()-3)),\"\")","v":""},{"$f":"IFERROR(INDEX(EWEMs!$K$5:$K$29,SMALL(IF(EWEMs!$Q$5:$Q$29=\"No\",ROW(EWEMs!$Q$5:$Q$29)-4,\"\"),ROW()-3)),\"\")","v":""},{"$f":"IFERROR(INDEX(EWEMs!$L$5:$L$29,SMALL(IF(EWEMs!$Q$5:$Q$29=\"No\",ROW(EWEMs!$Q$5:$Q$29)-4,\"\"),ROW()-3)),\"\")","v":""},null,{"$f":"IF(B17=\"\", \"\", COUNTIF(RemediationObservations!$D$6:$D$500, RemediationEWEMs!Q17))","v":""},{"$f":"IF(A17=\"\", \"\", COUNTIF(RemediationObservations!$K$6:$K$500, RemediationEWEMs!Q17&\"noncompliant\"))","v":""},"","",null,null,{"$f":"IF(A17=\"\",\"\",IF(AND(OR(F17=\"Apartments and Common Areas\",F17=\"Apartments\"),H17<0.95*'Property Info'!$D$16),\"maybe partial\",\"\"))","v":""},"",false,{"$f":"IF(AND(ISNUMBER(SEARCH(\"apartment\",F17)), J17<'Property Info'!$F$23), 1, 0)","v":0},false,{"$f":"B17&\" - \"&F17&\" \"&IF(VLOOKUP(B17,Data!A$7:C$105,3, FALSE)=1, \"\n(Backstock photo required)\", \"\")","v":{"$error":"#N/A"}},false]
[{"$f":"IFERROR(INDEX(EWEMs!$B$5:$B$29,SMALL(IF(EWEMs!$Q$5:$Q$29=\"No\",ROW(EWEMs!$Q$5:$Q$29)-4,\"\"),ROW()-3)),\"\")","v":""},{"$f":"IFERROR(INDEX(selectedEWEMs,SMALL(IF(EWEMs!$Q$5:$Q$29=\"No\",ROW(EWEMs!$Q$5:$Q$29)-4,\"\"),ROW()-3)),\"\")","v":""},{"$f":"IFERROR(INDEX(EWEMs!$D$5:$D$29,SMALL(IF(EWEMs!$Q$5:$Q$29=\"No\",ROW(EWEMs!$Q$5:$Q$29)-4,\"\"),ROW()-3)),\"\")","v":""},{"$f":"_xlfn.TEXTJOIN(\", \", TRUE, IF(Observations!$L$7:$L$506 = $A18&\" - \"&$B18&\" - \"&$F18&\"noncompliant\", Observations!$B$7:$B$506, \"\"))","v":""},{"$f":"IF(IFERROR(VLOOKUP($A18,EWEMs!$B$5:$F$29,5,FALSE),\"\")=0,\"\", IFERROR(VLOOKUP($A18,EWEMs!$B$5:$F$29,5,FALSE),\"\"))","v":""},{"$f":"IFERROR(INDEX(EWEMs!$J$5:$J$29,SMALL(IF(EWEMs!$Q$5:$Q$29=\"No\",ROW(EWEMs!$Q$5:$Q$29)-4,\"\"),ROW()-3)),\"\")","v":""},{"$f":"IFERROR(INDEX(EWEMs!$K$5:$K$29,SMALL(IF(EWEMs!$Q$5:$Q$29=\"No\",ROW(EWEMs!$Q$5:$Q$29)-4,\"\"),ROW()-3)),\"\")","v":""},{"$f":"IFERROR(INDEX(EWEMs!$L$5:$L$29,SMALL(IF(EWEMs!$Q$5:$Q$29=\"No\",ROW(EWEMs!$Q$5:$Q$29)-4,\"\"),ROW()-3)),\"\")","v":""},null,{"$f":"IF(B18=\"\", \"\", COUNTIF(RemediationObservations!$D$6:$D$500, RemediationEWEMs!Q18))","v":""},{"$f":"IF(A18=\"\", \"\", COUNTIF(RemediationObservations!$K$6:$K$500, RemediationEWEMs!Q18&\"noncompliant\"))","v":""},"","",null,null,{"$f":"IF(A18=\"\",\"\",IF(AND(OR(F18=\"Apartments and Common Areas\",F18=\"Apartments\"),H18<0.95*'Property Info'!$D$16),\"maybe partial\",\"\"))","v":""},"",false,{"$f":"IF(AND(ISNUMBER(SEARCH(\"apartment\",F18)), J18<'Property Info'!$F$23), 1, 0)","v":0},false,{"$f":"B18&\" - \"&F18&\" \"&IF(VLOOKUP(B18,Data!A$7:C$105,3, FALSE)=1, \"\n(Backstock photo required)\", \"\")","v":{"$error":"#N/A"}},false]
[{"$f":"IFERROR(INDEX(EWEMs!$B$5:$B$29,SMALL(IF(EWEMs!$Q$5:$Q$29=\"No\",ROW(EWEMs!$Q$5:$Q$29)-4,\"\"),ROW()-3)),\"\")","v":""},{"$f":"IFERROR(INDEX(selectedEWEMs,SMALL(IF(EWEMs!$Q$5:$Q$29=\"No\",ROW(EWEMs!$Q$5:$Q$29)-4,\"\"),ROW()-3)),\"\")","v":""},{"$f":"IFERROR(INDEX(EWEMs!$D$5:$D$29,SMALL(IF(EWEMs!$Q$5:$Q$29=\"No\",ROW(EWEMs!$Q$5:$Q$29)-4,\"\"),ROW()-3)),\"\")","v":""},{"$f":"_xlfn.TEXTJOIN(\", \", TRUE, IF(Observations!$L$7:$L$506 = $A19&\" - \"&$B19&\" - \"&$F19&\"noncompliant\", Observations!$B$7:$B$506, \"\"))","v":""},{"$f":"IF(IFERROR(VLOOKUP($A19,EWEMs!$B$5:$F$29,5,FALSE),\"\")=0,\"\", IFERROR(VLOOKUP($A19,EWEMs!$B$5:$F$29,5,FALSE),\"\"))","v":""},{"$f":"IFERROR(INDEX(EWEMs!$J$5:$J$29,SMALL(IF(EWEMs!$Q$5:$Q$29=\"No\",ROW(EWEMs!$Q$5:$Q$29)-4,\"\"),ROW()-3)),\"\")","v":""},{"$f":"IFERROR(INDEX(EWEMs!$K$5:$K$29,SMALL(IF(EWEMs!$Q$5:$Q$29=\"No\",ROW(EWEMs!$Q$5:$Q$29)-4,\"\"),ROW()-3)),\"\")","v":""},{"$f":"IFERROR(INDEX(EWEMs!$L$5:$L$29,SMALL(IF(EWEMs!$Q$5:$Q$29=\"No\",ROW(EWEMs!$Q$5:$Q$29)-4,\"\"),ROW()-3)),\"\")","v":""},null,{"$f":"IF(B19=\"\", \"\", COUNTIF(RemediationObservations!$D$6:$D$500, RemediationEWEMs!Q19))","v":""},{"$f":"IF(A19=\"\", \"\", COUNTIF(RemediationObservations!$K$6:$K$500, RemediationEWEMs!Q19&\"noncompliant\"))","v":""},"","",null,null,{"$f":"IF(A19=\"\",\"\",IF(AND(OR(F19=\"Apartments and Common Areas\",F19=\"Apartments\"),H19<0.95*'Property Info'!$D$16),\"maybe partial\",\"\"))","v":""},"",false,{"$f":"IF(AND(ISNUMBER(SEARCH(\"apartment\",F19)), J19<'Property Info'!$F$23), 1, 0)","v":0},false,{"$f":"B19&\" - \"&F19&\" \"&IF(VLOOKUP(B19,Data!A$7:C$105,3, FALSE)=1, \"\n(Backstock photo required)\", \"\")","v":{"$error":"#N/A"}},false]
[{"$f":"IFERROR(INDEX(EWEMs!$B$5:$B$29,SMALL(IF(EWEMs!$Q$5:$Q$29=\"No\",ROW(EWEMs!$Q$5:$Q$29)-4,\"\"),ROW()-3)),\"\")","v":""},{"$f":"IFERROR(INDEX(selectedEWEMs,SMALL(IF(EWEMs!$Q$5:$Q$29=\"No\",ROW(EWEMs!$Q$5:$Q$29)-4,\"\"),ROW()-3)),\"\")","v":""},{"$f":"IFERROR(INDEX(EWEMs!$D$5:$D$29,SMALL(IF(EWEMs!$Q$5:$Q$29=\"No\",ROW(EWEMs!$Q$5:$Q$29)-4,\"\"),ROW()-3)),\"\")","v":""},{"$f":"_xlfn.TEXTJOIN(\", \", TRUE, IF(Observations!$L$7:$L$506 = $A20&\" - \"&$B20&\" - \"&$F20&\"noncompliant\", Observations!$B$7:$B$506, \"\"))","v":""},{"$f":"IF(IFERROR(VLOOKUP($A20,EWEMs!$B$5:$F$29,5,FALSE),\"\")=0,\"\", IFERROR(VLOOKUP($A20,EWEMs!$B$5:$F$29,5,FALSE),\"\"))","v":""},{"$f":"IFERROR(INDEX(EWEMs!$J$5:$J$29,SMALL(IF(EWEMs!$Q$5:$Q$29=\"No\",ROW(EWEMs!$Q$5:$Q$29)-4,\"\"),ROW()-3)),\"\")","v":""},{"$f":"IFERROR(INDEX(EWEMs!$K$5:$K$29,SMALL(IF(EWEMs!$Q$5:$Q$29=\"No\",ROW(EWEMs!$Q$5:$Q$29)-4,\"\"),ROW()-3)),\"\")","v":""},{"$f":"IFERROR(INDEX(EWEMs!$L$5:$L$29,SMALL(IF(EWEMs!$Q$5:$Q$29=\"No\",ROW(EWEMs!$Q$5:$Q$29)-4,\"\"),ROW()-3)),\"\")","v":""},null,{"$f":"IF(B20=\"\", \"\", COUNTIF(RemediationObservations!$D$6:$D$500, RemediationEWEMs!Q20))","v":""},{"$f":"IF(A20=\"\", \"\", COUNTIF(RemediationObservations!$K$6:$K$500, RemediationEWEMs!Q20&\"noncompliant\"))","v":""},"","",null,null,{"$f":"IF(A20=\"\",\"\",IF(AND(OR(F20=\"Apartments and Common Areas\",F20=\"Apartments\"),H20<0.95*'Property Info'!$D$16),\"maybe partial\",\"\"))","v":""},"",false,{"$f":"IF(AND(ISNUMBER(SEARCH(\"apartment\",F20)), J20<'Property Info'!$F$23), 1, 0)","v":0},false,{"$f":"B20&\" - \"&F20&\" \"&IF(VLOOKUP(B20,Data!A$7:C$105,3, FALSE)=1, \"\n(Backstock photo required)\", \"\")","v":{"$error":"#N/A"}},false]
[{"$f":"IFERROR(INDEX(EWEMs!$B$5:$B$29,SMALL(IF(EWEMs!$Q$5:$Q$29=\"No\",ROW(EWEMs!$Q$5:$Q$29)-4,\"\"),ROW()-3)),\"\")","v":""},{"$f":"IFERROR(INDEX(selectedEWEMs,SMALL(IF(EWEMs!$Q$5:$Q$29=\"No\",ROW(EWEMs!$Q$5:$Q$29)-4,\"\"),ROW()-3)),\"\")","v":""},{"$f":"IFERROR(INDEX(EWEMs!$D$5:$D$29,SMALL(IF(EWEMs!$Q$5:$Q$29=\"No\",ROW(EWEMs!$Q$5:$Q$29)-4,\"\"),ROW()-3)),\"\")","v":""},{"$f":"_xlfn.TEXTJOIN(\", \", TRUE, IF(Observations!$L$7:$L$506 = $A21&\" - \"&$B21&\" - \"&$F21&\"noncompliant\", Observations!$B$7:$B$506, \"\"))","v":""},{"$f":"IF(IFERROR(VLOOKUP($A21,EWEMs!$B$5:$F$29,5,FALSE),\"\")=0,\"\", IFERROR(VLOOKUP($A21,EWEMs!$B$5:$F$29,5,FALSE),\"\"))","v":""},{"$f":"IFERROR(INDEX(EWEMs!$J$5:$J$29,SMALL(IF(EWEMs!$Q$5:$Q$29=\"No\",ROW(EWEMs!$Q$5:$Q$29)-4,\"\"),ROW()-3)),\"\")","v":""},{"$f":"IFERROR(INDEX(EWEMs!$K$5:$K$29,SMALL(IF(EWEMs!$Q$5:$Q$29=\"No\",ROW(EWEMs!$Q$5:$Q$29)-4,\"\"),ROW()-3)),\"\")","v":""},{"$f":"IFERROR(INDEX(EWEMs!$L$5:$L$29,SMALL(IF(EWEMs!$Q$5:$Q$29=\"No\",ROW(EWEMs!$Q$5:$Q$29)-4,\"\"),ROW()-3)),\"\")","v":""},null,{"$f":"IF(B21=\"\", \"\", COUNTIF(RemediationObservations!$D$6:$D$500, RemediationEWEMs!Q21))","v":""},{"$f":"IF(A21=\"\", \"\", COUNTIF(RemediationObservations!$K$6:$K$500, RemediationEWEMs!Q21&\"noncompliant\"))","v":""},"","",null,null,{"$f":"IF(A21=\"\",\"\",IF(AND(OR(F21=\"Apartments and Common Areas\",F21=\"Apartments\"),H21<0.95*'Property Info'!$D$16),\"maybe partial\",\"\"))","v":""},"",false,{"$f":"IF(AND(ISNUMBER(SEARCH(\"apartment\",F21)), J21<'Property Info'!$F$23), 1, 0)","v":0},false,{"$f":"B21&\" - \"&F21&\" \"&IF(VLOOKUP(B21,Data!A$7:C$105,3, FALSE)=1, \"\n(Backstock photo required)\", \"\")","v":{"$error":"#N/A"}},false]
[{"$f":"IFERROR(INDEX(EWEMs!$B$5:$B$29,SMALL(IF(EWEMs!$Q$5:$Q$29=\"No\",ROW(EWEMs!$Q$5:$Q$29)-4,\"\"),ROW()-3)),\"\")","v":""},{"$f":"IFERROR(INDEX(selectedEWEMs,SMALL(IF(EWEMs!$Q$5:$Q$29=\"No\",ROW(EWEMs!$Q$5:$Q$29)-4,\"\"),ROW()-3)),\"\")","v":""},{"$f":"IFERROR(INDEX(EWEMs!$D$5:$D$29,SMALL(IF(EWEMs!$Q$5:$Q$29=\"No\",ROW(EWEMs!$Q$5:$Q$29)-4,\"\"),ROW()-3)),\"\")","v":""},{"$f":"_xlfn.TEXTJOIN(\", \", TRUE, IF(Observations!$L$7:$L$506 = $A22&\" - \"&$B22&\" - \"&$F22&\"noncompliant\", Observations!$B$7:$B$506, \"\"))","v":""},{"$f":"IF(IFERROR(VLOOKUP($A22,EWEMs!$B$5:$F$29,5,FALSE),\"\")=0,\"\", IFERROR(VLOOKUP($A22,EWEMs!$B$5:$F$29,5,FALSE),\"\"))","v":""},{"$f":"IFERROR(INDEX(EWEMs!$J$5:$J$29,SMALL(IF(EWEMs!$Q$5:$Q$29=\"No\",ROW(EWEMs!$Q$5:$Q$29)-4,\"\"),ROW()-3)),\"\")","v":""},{"$f":"IFERROR(INDEX(EWEMs!$K$5:$K$29,SMALL(IF(EWEMs!$Q$5:$Q$29=\"No\",ROW(EWEMs!$Q$5:$Q$29)-4,\"\"),ROW()-3)),\"\")","v":""},{"$f":"IFERROR(INDEX(EWEMs!$L$5:$L$29,SMALL(IF(EWEMs!$Q$5:$Q$29=\"No\",ROW(EWEMs!$Q$5:$Q$29)-4,\"\"),ROW()-3)),\"\")","v":""},null,{"$f":"IF(B22=\"\", \"\", COUNTIF(RemediationObservations!$D$6:$D$500, RemediationEWEMs!Q22))","v":""},{"$f":"IF(A22=\"\", \"\", COUNTIF(RemediationObservations!$K$6:$K$500, RemediationEWEMs!Q22&\"noncompliant\"))","v":""},"","",null,null,{"$f":"IF(A22=\"\",\"\",IF(AND(OR(F22=\"Apartments and Common Areas\",F22=\"Apartments\"),H22<0.95*'Property Info'!$D$16),\"maybe partial\",\"\"))","v":""},"",false,{"$f":"IF(AND(ISNUMBER(SEARCH(\"apartment\",F22)), J22<'Property Info'!$F$23), 1, 0)","v":0},false,{"$f":"B22&\" - \"&F22&\" \"&IF(VLOOKUP(B22,Data!A$7:C$105,3, FALSE)=1, \"\n(Backstock photo required)\", \"\")","v":{"$error":"#N/A"}},false]
[{"$f":"IFERROR(INDEX(EWEMs!$B$5:$B$29,SMALL(IF(EWEMs!$Q$5:$Q$29=\"No\",ROW(EWEMs!$Q$5:$Q$29)-4,\"\"),ROW()-3)),\"\")","v":""},{"$f":"IFERROR(INDEX(selectedEWEMs,SMALL(IF(EWEMs!$Q$5:$Q$29=\"No\",ROW(EWEMs!$Q$5:$Q$29)-4,\"\"),ROW()-3)),\"\")","v":""},{"$f":"IFERROR(INDEX(EWEMs!$D$5:$D$29,SMALL(IF(EWEMs!$Q$5:$Q$29=\"No\",ROW(EWEMs!$Q$5:$Q$29)-4,\"\"),ROW()-3)),\"\")","v":""},{"$f":"_xlfn.TEXTJOIN(\", \", TRUE, IF(Observations!$L$7:$L$506 = $A23&\" - \"&$B23&\" - \"&$F23&\"noncompliant\", Observations!$B$7:$B$506, \"\"))","v":""},{"$f":"IF(IFERROR(VLOOKUP($A23,EWEMs!$B$5:$F$29,5,FALSE),\"\")=0,\"\", IFERROR(VLOOKUP($A23,EWEMs!$B$5:$F$29,5,FALSE),\"\"))","v":""},{"$f":"IFERROR(INDEX(EWEMs!$J$5:$J$29,SMALL(IF(EWEMs!$Q$5:$Q$29=\"No\",ROW(EWEMs!$Q$5:$Q$29)-4,\"\"),ROW()-3)),\"\")","v":""},{"$f":"IFERROR(INDEX(EWEMs!$K$5:$K$29,SMALL(IF(EWEMs!$Q$5:$Q$29=\"No\",ROW(EWEMs!$Q$5:$Q$29)-4,\"\"),ROW()-3)),\"\")","v":""},{"$f":"IFERROR(INDEX(EWEMs!$L$5:$L$29,SMALL(IF(EWEMs!$Q$5:$Q$29=\"No\",ROW(EWEMs!$Q$5:$Q$29)-4,\"\"),ROW()-3)),\"\")","v":""},null,{"$f":"IF(B23=\"\", \"\", COUNTIF(RemediationObservations!$D$6:$D$500, RemediationEWEMs!Q23))","v":""},{"$f":"IF(A23=\"\", \"\", COUNTIF(RemediationObservations!$K$6:$K$500, RemediationEWEMs!Q23&\"noncompliant\"))","v":""},"","",null,null,{"$f":"IF(A23=\"\",\"\",IF(AND(OR(F23=\"Apartments and Common Areas\",F23=\"Apartments\"),H23<0.95*'Property Info'!$D$16),\"maybe partial\",\"\"))","v":""},"",false,{"$f":"IF(AND(ISNUMBER(SEARCH(\"apartment\",F23)), J23<'Property Info'!$F$23), 1, 0)","v":0},false,{"$f":"B23&\" - \"&F23&\" \"&IF(VLOOKUP(B23,Data!A$7:C$105,3, FALSE)=1, \"\n(Backstock photo required)\", \"\")","v":{"$error":"#N/A"}},false]
[{"$f":"IFERROR(INDEX(EWEMs!$B$5:$B$29,SMALL(IF(EWEMs!$Q$5:$Q$29=\"No\",ROW(EWEMs!$Q$5:$Q$29)-4,\"\"),ROW()-3)),\"\")","v":""},{"$f":"IFERROR(INDEX(selectedEWEMs,SMALL(IF(EWEMs!$Q$5:$Q$29=\"No\",ROW(EWEMs!$Q$5:$Q$29)-4,\"\"),ROW()-3)),\"\")","v":""},{"$f":"IFERROR(INDEX(EWEMs!$D$5:$D$29,SMALL(IF(EWEMs!$Q$5:$Q$29=\"No\",ROW(EWEMs!$Q$5:$Q$29)-4,\"\"),ROW()-3)),\"\")","v":""},{"$f":"_xlfn.TEXTJOIN(\", \", TRUE, IF(Observations!$L$7:$L$506 = $A24&\" - \"&$B24&\" - \"&$F24&\"noncompliant\", Observations!$B$7:$B$506, \"\"))","v":""},{"$f":"IF(IFERROR(VLOOKUP($A24,EWEMs!$B$5:$F$29,5,FALSE),\"\")=0,\"\", IFERROR(VLOOKUP($A24,EWEMs!$B$5:$F$29,5,FALSE),\"\"))","v":""},{"$f":"IFERROR(INDEX(EWEMs!$J$5:$J$29,SMALL(IF(EWEMs!$Q$5:$Q$29=\"No\",ROW(EWEMs!$Q$5:$Q$29)-4,\"\"),ROW()-3)),\"\")","v":""},{"$f":"IFERROR(INDEX(EWEMs!$K$5:$K$29,SMALL(IF(EWEMs!$Q$5:$Q$29=\"No\",ROW(EWEMs!$Q$5:$Q$29)-4,\"\"),ROW()-3)),\"\")","v":""},{"$f":"IFERROR(INDEX(EWEMs!$L$5:$L$29,SMALL(IF(EWEMs!$Q$5:$Q$29=\"No\",ROW(EWEMs!$Q$5:$Q$29)-4,\"\"),ROW()-3)),\"\")","v":""},null,{"$f":"IF(B24=\"\", \"\", COUNTIF(RemediationObservations!$D$6:$D$500, RemediationEWEMs!Q24))","v":""},{"$f":"IF(A24=\"\", \"\", COUNTIF(RemediationObservations!$K$6:$K$500, RemediationEWEMs!Q24&\"noncompliant\"))","v":""},"","",null,null,{"$f":"IF(A24=\"\",\"\",IF(AND(OR(F24=\"Apartments and Common Areas\",F24=\"Apartments\"),H24<0.95*'Property Info'!$D$16),\"maybe partial\",\"\"))","v":""},"",false,{"$f":"IF(AND(ISNUMBER(SEARCH(\"apartment\",F24)), J24<'Property Info'!$F$23), 1, 0)","v":0},false,{"$f":"B24&\" - \"&F24&\" \"&IF(VLOOKUP(B24,Data!A$7:C$105,3, FALSE)=1, \"\n(Backstock photo required)\", \"\")","v":{"$error":"#N/A"}},false]
[{"$f":"IFERROR(INDEX(EWEMs!$B$5:$B$29,SMALL(IF(EWEMs!$Q$5:$Q$29=\"No\",ROW(EWEMs!$Q$5:$Q$29)-4,\"\"),ROW()-3)),\"\")","v":""},{"$f":"IFERROR(INDEX(selectedEWEMs,SMALL(IF(EWEMs!$Q$5:$Q$29=\"No\",ROW(EWEMs!$Q$5:$Q$29)-4,\"\"),ROW()-3)),\"\")","v":""},{"$f":"IFERROR(INDEX(EWEMs!$D$5:$D$29,SMALL(IF(EWEMs!$Q$5:$Q$29=\"No\",ROW(EWEMs!$Q$5:$Q$29)-4,\"\"),ROW()-3)),\"\")","v":""},{"$f":"_xlfn.TEXTJOIN(\", \", TRUE, IF(Observations!$L$7:$L$506 = $A25&\" - \"&$B25&\" - \"&$F25&\"noncompliant\", Observations!$B$7:$B$506, \"\"))","v":""},{"$f":"IF(IFERROR(VLOOKUP($A25,EWEMs!$B$5:$F$29,5,FALSE),\"\")=0,\"\", IFERROR(VLOOKUP($A25,EWEMs!$B$5:$F$29,5,FALSE),\"\"))","v":""},{"$f":"IFERROR(INDEX(EWEMs!$J$5:$J$29,SMALL(IF(EWEMs!$Q$5:$Q$29=\"No\",ROW(EWEMs!$Q$5:$Q$29)-4,\"\"),ROW()-3)),\"\")","v":""},{"$f":"IFERROR(INDEX(EWEMs!$K$5:$K$29,SMALL(IF(EWEMs!$Q$5:$Q$29=\"No\",ROW(EWEMs!$Q$5:$Q$29)-4,\"\"),ROW()-3)),\"\")","v":""},{"$f":"IFERROR(INDEX(EWEMs!$L$5:$L$29,SMALL(IF(EWEMs!$Q$5:$Q$29=\"No\",ROW(EWEMs!$Q$5:$Q$29)-4,\"\"),ROW()-3)),\"\")","v":""},null,{"$f":"IF(B25=\"\", \"\", COUNTIF(RemediationObservations!$D$6:$D$500, RemediationEWEMs!Q25))","v":""},{"$f":"IF(A25=\"\", \"\", COUNTIF(RemediationObservations!$K$6:$K$500, RemediationEWEMs!Q25&\"noncompliant\"))","v":""},"","",null,null,{"$f":"IF(A25=\"\",\"\",IF(AND(OR(F25=\"Apartments and Common Areas\",F25=\"Apartments\"),H25<0.95*'Property Info'!$D$16),\"maybe partial\",\"\"))","v":""},"",false,{"$f":"IF(AND(ISNUMBER(SEARCH(\"apartment\",F25)), J25<'Property Info'!$F$23), 1, 0)","v":0},false,{"$f":"B25&\" - \"&F25&\" \"&IF(VLOOKUP(B25,Data!A$7:C$105,3, FALSE)=1, \"\n(Backstock photo required)\", \"\")","v":{"$error":"#N/A"}},false]
[{"$f":"IFERROR(INDEX(EWEMs!$B$5:$B$29,SMALL(IF(EWEMs!$Q$5:$Q$29=\"No\",ROW(EWEMs!$Q$5:$Q$29)-4,\"\"),ROW()-3)),\"\")","v":""},{"$f":"IFERROR(INDEX(selectedEWEMs,SMALL(IF(EWEMs!$Q$5:$Q$29=\"No\",ROW(EWEMs!$Q$5:$Q$29)-4,\"\"),ROW()-3)),\"\")","v":""},{"$f":"IFERROR(INDEX(EWEMs!$D$5:$D$29,SMALL(IF(EWEMs!$Q$5:$Q$29=\"No\",ROW(EWEMs!$Q$5:$Q$29)-4,\"\"),ROW()-3)),\"\")","v":""},{"$f":"_xlfn.TEXTJOIN(\", \", TRUE, IF(Observations!$L$7:$L$506 = $A26&\" - \"&$B26&\" - \"&$F26&\"noncompliant\", Observations!$B$7:$B$506, \"\"))","v":""},{"$f":"IF(IFERROR(VLOOKUP($A26,EWEMs!$B$5:$F$29,5,FALSE),\"\")=0,\"\", IFERROR(VLOOKUP($A26,EWEMs!$B$5:$F$29,5,FALSE),\"\"))","v":""},{"$f":"IFERROR(INDEX(EWEMs!$J$5:$J$29,SMALL(IF(EWEMs!$Q$5:$Q$29=\"No\",ROW(EWEMs!$Q$5:$Q$29)-4,\"\"),ROW()-3)),\"\")","v":""},{"$f":"IFERROR(INDEX(EWEMs!$K$5:$K$29,SMALL(IF(EWEMs!$Q$5:$Q$29=\"No\",ROW(EWEMs!$Q$5:$Q$29)-4,\"\"),ROW()-3)),\"\")","v":""},{"$f":"IFERROR(INDEX(EWEMs!$L$5:$L$29,SMALL(IF(EWEMs!$Q$5:$Q$29=\"No\",ROW(EWEMs!$Q$5:$Q$29)-4,\"\"),ROW()-3)),\"\")","v":""},null,{"$f":"IF(B26=\"\", \"\", COUNTIF(RemediationObservations!$D$6:$D$500, RemediationEWEMs!Q26))","v":""},{"$f":"IF(A26=\"\", \"\", COUNTIF(RemediationObservations!$K$6:$K$500, RemediationEWEMs!Q26&\"noncompliant\"))","v":""},"","",null,null,{"$f":"IF(A26=\"\",\"\",IF(AND(OR(F26=\"Apartments and Common Areas\",F26=\"Apartments\"),H26<0.95*'Property Info'!$D$16),\"maybe partial\",\"\"))","v":""},"",false,{"$f":"IF(AND(ISNUMBER(SEARCH(\"apartment\",F26)), J26<'Property Info'!$F$23), 1, 0)","v":0},false,{"$f":"B26&\" - \"&F26&\" \"&IF(VLOOKUP(B26,Data!A$7:C$105,3, FALSE)=1, \"\n(Backstock photo required)\", \"\")","v":{"$error":"#N/A"}},false]
[{"$f":"IFERROR(INDEX(EWEMs!$B$5:$B$29,SMALL(IF(EWEMs!$Q$5:$Q$29=\"No\",ROW(EWEMs!$Q$5:$Q$29)-4,\"\"),ROW()-3)),\"\")","v":""},{"$f":"IFERROR(INDEX(selectedEWEMs,SMALL(IF(EWEMs!$Q$5:$Q$29=\"No\",ROW(EWEMs!$Q$5:$Q$29)-4,\"\"),ROW()-3)),\"\")","v":""},{"$f":"IFERROR(INDEX(EWEMs!$D$5:$D$29,SMALL(IF(EWEMs!$Q$5:$Q$29=\"No\",ROW(EWEMs!$Q$5:$Q$29)-4,\"\"),ROW()-3)),\"\")","v":""},{"$f":"_xlfn.TEXTJOIN(\", \", TRUE, IF(Observations!$L$7:$L$506 = $A27&\" - \"&$B27&\" - \"&$F27&\"noncompliant\", Observations!$B$7:$B$506, \"\"))","v":""},{"$f":"IF(IFERROR(VLOOKUP($A27,EWEMs!$B$5:$F$29,5,FALSE),\"\")=0,\"\", IFERROR(VLOOKUP($A27,EWEMs!$B$5:$F$29,5,FALSE),\"\"))","v":""},{"$f":"IFERROR(INDEX(EWEMs!$J$5:$J$29,SMALL(IF(EWEMs!$Q$5:$Q$29=\"No\",ROW(EWEMs!$Q$5:$Q$29)-4,\"\"),ROW()-3)),\"\")","v":""},{"$f":"IFERROR(INDEX(EWEMs!$K$5:$K$29,SMALL(IF(EWEMs!$Q$5:$Q$29=\"No\",ROW(EWEMs!$Q$5:$Q$29)-4,\"\"),ROW()-3)),\"\")","v":""},{"$f":"IFERROR(INDEX(EWEMs!$L$5:$L$29,SMALL(IF(EWEMs!$Q$5:$Q$29=\"No\",ROW(EWEMs!$Q$5:$Q$29)-4,\"\"),ROW()-3)),\"\")","v":""},null,{"$f":"IF(B27=\"\", \"\", COUNTIF(RemediationObservations!$D$6:$D$500, RemediationEWEMs!Q27))","v":""},{"$f":"IF(A27=\"\", \"\", COUNTIF(RemediationObservations!$K$6:$K$500, RemediationEWEMs!Q27&\"noncompliant\"))","v":""},"","",null,null,{"$f":"IF(A27=\"\",\"\",IF(AND(OR(F27=\"Apartments and Common Areas\",F27=\"Apartments\"),H27<0.95*'Property Info'!$D$16),\"maybe partial\",\"\"))","v":""},"",false,{"$f":"IF(AND(ISNUMBER(SEARCH(\"apartment\",F27)), J27<'Property Info'!$F$23), 1, 0)","v":0},false,{"$f":"B27&\" - \"&F27&\" \"&IF(VLOOKUP(B27,Data!A$7:C$105,3, FALSE)=1, \"\n(Backstock photo required)\", \"\")","v":{"$error":"#N/A"}},false]
[{"$f":"IFERROR(INDEX(EWEMs!$B$5:$B$29,SMALL(IF(EWEMs!$Q$5:$Q$29=\"No\",ROW(EWEMs!$Q$5:$Q$29)-4,\"\"),ROW()-3)),\"\")","v":""},{"$f":"IFERROR(INDEX(selectedEWEMs,SMALL(IF(EWEMs!$Q$5:$Q$29=\"No\",ROW(EWEMs!$Q$5:$Q$29)-4,\"\"),ROW()-3)),\"\")","v":""},{"$f":"IFERROR(INDEX(EWEMs!$D$5:$D$29,SMALL(IF(EWEMs!$Q$5:$Q$29=\"No\",ROW(EWEMs!$Q$5:$Q$29)-4,\"\"),ROW()-3)),\"\")","v":""},{"$f":"_xlfn.TEXTJOIN(\", \", TRUE, IF(Observations!$L$7:$L$506 = $A28&\" - \"&$B28&\" - \"&$F28&\"noncompliant\", Observations!$B$7:$B$506, \"\"))","v":""},{"$f":"IF(IFERROR(VLOOKUP($A28,EWEMs!$B$5:$F$29,5,FALSE),\"\")=0,\"\", IFERROR(VLOOKUP($A28,EWEMs!$B$5:$F$29,5,FALSE),\"\"))","v":""},{"$f":"IFERROR(INDEX(EWEMs!$J$5:$J$29,SMALL(IF(EWEMs!$Q$5:$Q$29=\"No\",ROW(EWEMs!$Q$5:$Q$29)-4,\"\"),ROW()-3)),\"\")","v":""},{"$f":"IFERROR(INDEX(EWEMs!$K$5:$K$29,SMALL(IF(EWEMs!$Q$5:$Q$29=\"No\",ROW(EWEMs!$Q$5:$Q$29)-4,\"\"),ROW()-3)),\"\")","v":""},{"$f":"IFERROR(INDEX(EWEMs!$L$5:$L$29,SMALL(IF(EWEMs!$Q$5:$Q$29=\"No\",ROW(EWEMs!$Q$5:$Q$29)-4,\"\"),ROW()-3)),\"\")","v":""},null,{"$f":"IF(B28=\"\", \"\", COUNTIF(RemediationObservations!$D$6:$D$500, RemediationEWEMs!Q28))","v":""},{"$f":"IF(A28=\"\", \"\", COUNTIF(RemediationObservations!$K$6:$K$500, RemediationEWEMs!Q28&\"noncompliant\"))","v":""},"","",null,null,{"$f":"IF(A28=\"\",\"\",IF(AND(OR(F28=\"Apartments and Common Areas\",F28=\"Apartments\"),H28<0.95*'Property Info'!$D$16),\"maybe partial\",\"\"))","v":""},"",false,{"$f":"IF(AND(ISNUMBER(SEARCH(\"apartment\",F28)), J28<'Property Info'!$F$23), 1, 0)","v":0},false,{"$f":"B28&\" - \"&F28&\" \"&IF(VLOOKUP(B28,Data!A$7:C$105,3, FALSE)=1, \"\n(Backstock photo required)\", \"\")","v":{"$error":"#N/A"}},false]
[{"$f":"IFERROR(INDEX(EWEMs!$B$5:$B$29,SMALL(IF(EWEMs!$Q$5:$Q$29=\"No\",ROW(EWEMs!$Q$5:$Q$29)-4,\"\"),ROW()-3)),\"\")","v":""},{"$f":"IFERROR(INDEX(selectedEWEMs,SMALL(IF(EWEMs!$Q$5:$Q$29=\"No\",ROW(EWEMs!$Q$5:$Q$29)-4,\"\"),ROW()-3)),\"\")","v":""},{"$f":"IFERROR(INDEX(EWEMs!$D$5:$D$29,SMALL(IF(EWEMs!$Q$5:$Q$29=\"No\",ROW(EWEMs!$Q$5:$Q$29)-4,\"\"),ROW()-3)),\"\")","v":""},{"$f":"_xlfn.TEXTJOIN(\", \", TRUE, IF(Observations!$L$7:$L$506 = $A29&\" - \"&$B29&\" - \"&$F29&\"noncompliant\", Observations!$B$7:$B$506, \"\"))","v":""},{"$f":"IF(IFERROR(VLOOKUP($A29,EWEMs!$B$5:$F$29,5,FALSE),\"\")=0,\"\", IFERROR(VLOOKUP($A29,EWEMs!$B$5:$F$29,5,FALSE),\"\"))","v":""},{"$f":"IFERROR(INDEX(EWEMs!$J$5:$J$29,SMALL(IF(EWEMs!$Q$5:$Q$29=\"No\",ROW(EWEMs!$Q$5:$Q$29)-4,\"\"),ROW()-3)),\"\")","v":""},{"$f":"IFERROR(INDEX(EWEMs!$K$5:$K$29,SMALL(IF(EWEMs!$Q$5:$Q$29=\"No\",ROW(EWEMs!$Q$5:$Q$29)-4,\"\"),ROW()-3)),\"\")","v":""},{"$f":"IFERROR(INDEX(EWEMs!$L$5:$L$29,SMALL(IF(EWEMs!$Q$5:$Q$29=\"No\",ROW(EWEMs!$Q$5:$Q$29)-4,\"\"),ROW()-3)),\"\")","v":""},null,{"$f":"IF(B29=\"\", \"\", COUNTIF(RemediationObservations!$D$6:$D$500, RemediationEWEMs!Q29))","v":""},{"$f":"IF(A29=\"\", \"\", COUNTIF(RemediationObservations!$K$6:$K$500, RemediationEWEMs!Q29&\"noncompliant\"))","v":""},"","",null,null,{"$f":"IF(A29=\"\",\"\",IF(AND(OR(F29=\"Apartments and Common Areas\",F29=\"Apartments\"),H29<0.95*'Property Info'!$D$16),\"maybe partial\",\"\"))","v":""},"",false,{"$f":"IF(AND(ISNUMBER(SEARCH(\"apartment\",F29)), J29<'Property Info'!$F$23), 1, 0)","v":0},false,{"$f":"B29&\" - \"&F29&\" \"&IF(VLOOKUP(B29,Data!A$7:C$105,3, FALSE)=1, \"\n(Backstock photo required)\", \"\")","v":{"$error":"#N/A"}},false]

{"sheet":"RemediationUnits","index":11,"n_rows":48,"n_cols":9,"rows_kept":48,"cut":false,"hidden":true,"merged":[[0,4,0,5]]}
[null,"INPUT: Remediation Units and Spaces",null,null,"Unit Selection Instructions: \n1/3 of selected units must be the same as those from the Verification\n2/3 should be new units "]
[]
[null,"List all unique spaces below, including all apartments and common areas. Remove duplicates and do not leave any rows blank between entries.",null,null,null,null,null,"in original","not in original"]
[null,{"$f":"\"Number of new spaces: \"&COUNTIF(H6:H48, FALSE)","v":"Number of new spaces: 0"},{"$f":"\"Number of spaces from Verification: \"&COUNTIF(H6:H48, TRUE)","v":"Number of spaces from Verification: 0"},{"$f":"\"Percent of spaces from original Verification inspection: \"&ROUND(H4/(H4+I4)*100,0)&\"%\"","v":{"$error":"#DIV/0!"}},null,null,null,{"$f":"COUNTIF(H6:H48, TRUE)","v":0},{"$f":"COUNTIF(H6:H48, FALSE)","v":0}]
[null,"Unit # or Space Name","Space Type","Remediation Observations Recorded in this space","Original Verification Status","Notes (optional)",null,"in original verification","noncompliant verification 0bservations"]
[null,null,null,{"$f":"IF(C6=\"\",\"\",COUNTIF(RemediationObservations!$B$6:$B$500,B6))","v":""},{"$f":"IF(B6<>\"\", IF(H6, IF(I6>0, \"In Verification with \"&I6&\" NONCOMPLIANT observation(s)\", \"In Verification with all compliant observations\"), \"Not in Verification\"), \"\")","v":""},null,{"$f":"IF(AND(B6=\"\",B7<>\"\"),\"No blanks, please! They create errors\",IF(AND(C6=\"Apartment\", D6<RemediationEWEMs!$R$2),\"WARNING: There are \"&RemediationEWEMs!$R$2&\" Apartment EWEMs and only \"&D6&\" observations entered for this space.\", \"\"))","v":""},{"$f":"IF(COUNTIF('Units and Spaces'!$B$7:$B$108,RemediationUnits!B6)>0, TRUE, IF(B6<>\"\", FALSE, \"\"))","v":""},{"$f":"COUNTIFS(Observations!$L$7:$L$506,\"*noncompliant\", Observations!$B$7:$B$506, RemediationUnits!B6)","v":0}]
[null,null,null,{"$f":"IF(C7=\"\",\"\",COUNTIF(RemediationObservations!$B$6:$B$500,B7))","v":""},{"$f":"IF(B7<>\"\", IF(H7, IF(I7>0, \"In Verification with \"&I7&\" NONCOMPLIANT observation(s)\", \"In Verification with all compliant observations\"), \"Not in Verification\"), \"\")","v":""},null,{"$f":"IF(AND(B7=\"\",B8<>\"\"),\"No blanks, please! They create errors\",IF(AND(C7=\"Apartment\", D7<RemediationEWEMs!$R$2),\"WARNING: There are \"&RemediationEWEMs!$R$2&\" Apartment EWEMs and only \"&D7&\" observations entered for this space.\", \"\"))","v":""},{"$f":"IF(COUNTIF('Units and Spaces'!$B$7:$B$108,RemediationUnits!B7)>0, TRUE, IF(B7<>\"\", FALSE, \"\"))","v":""},{"$f":"COUNTIFS(Observations!$L$7:$L$506,\"*noncompliant\", Observations!$B$7:$B$506, RemediationUnits!B7)","v":0}]
[null,null,null,{"$f":"IF(C8=\"\",\"\",COUNTIF(RemediationObservations!$B$6:$B$500,B8))","v":""},"",null,{"$f":"IF(AND(B8=\"\",B9<>\"\"),\"No blanks, please! They create errors\",IF(AND(C8=\"Apartment\", D8<RemediationEWEMs!$R$2),\"WARNING: There are \"&RemediationEWEMs!$R$2&\" Apartment EWEMs and only \"&D8&\" observations entered for this space.\", \"\"))","v":""},{"$f":"IF(COUNTIF('Units and Spaces'!$B$7:$B$108,RemediationUnits!B8)>0, TRUE, IF(B8<>\"\", FALSE, \"\"))","v":""},{"$f":"COUNTIFS(Observations!$L$7:$L$506,\"*noncompliant\", Observations!$B$7:$B$506, RemediationUnits!B8)","v":0}]
[null,null,null,{"$f":"IF(C9=\"\",\"\",COUNTIF(RemediationObservations!$B$6:$B$500,B9))","v":""},"",null,{"$f":"IF(AND(B9=\"\",B10<>\"\"),\"No blanks, please! They create errors\",IF(AND(C9=\"Apartment\", D9<RemediationEWEMs!$R$2),\"WARNING: There are \"&RemediationEWEMs!$R$2&\" Apartment EWEMs and only \"&D9&\" observations entered for this space.\", \"\"))","v":""},{"$f":"IF(COUNTIF('Units and Spaces'!$B$7:$B$108,RemediationUnits!B9)>0, TRUE, IF(B9<>\"\", FALSE, \"\"))","v":""},{"$f":"COUNTIFS(Observations!$L$7:$L$506,\"*noncompliant\", Observations!$B$7:$B$506, RemediationUnits!B9)","v":0}]
[null,null,null,{"$f":"IF(C10=\"\",\"\",COUNTIF(RemediationObservations!$B$6:$B$500,B10))","v":""},"",null,{"$f":"IF(AND(B10=\"\",B11<>\"\"),\"No blanks, please! They create errors\",IF(AND(C10=\"Apartment\", D10<RemediationEWEMs!$R$2),\"WARNING: There are \"&RemediationEWEMs!$R$2&\" Apartment EWEMs and only \"&D10&\" observations entered for this space.\", \"\"))","v":""},{"$f":"IF(COUNTIF('Units and Spaces'!$B$7:$B$108,RemediationUnits!B10)>0, TRUE, IF(B10<>\"\", FALSE, \"\"))","v":""},{"$f":"COUNTIFS(Observations!$L$7:$L$506,\"*noncompliant\", Observations!$B$7:$B$506, RemediationUnits!B10)","v":0}]
[null,null,null,{"$f":"IF(C11=\"\",\"\",COUNTIF(RemediationObservations!$B$6:$B$500,B11))","v":""},"",null,{"$f":"IF(AND(B11=\"\",B12<>\"\"),\"No blanks, please! They create errors\",IF(AND(C11=\"Apartment\", D11<RemediationEWEMs!$R$2),\"WARNING: There are \"&RemediationEWEMs!$R$2&\" Apartment EWEMs and only \"&D11&\" observations entered for this space.\", \"\"))","v":""},{"$f":"IF(COUNTIF('Units and Spaces'!$B$7:$B$108,RemediationUnits!B11)>0, TRUE, IF(B11<>\"\", FALSE, \"\"))","v":""},{"$f":"COUNTIFS(Observations!$L$7:$L$506,\"*noncompliant\", Observations!$B$7:$B$506, RemediationUnits!B11)","v":0}]
[null,null,null,{"$f":"IF(C12=\"\",\"\",COUNTIF(RemediationObservations!$B$6:$B$500,B12))","v":""},"",null,{"$f":"IF(AND(B12=\"\",B13<>\"\"),\"No blanks, please! They create errors\",IF(AND(C12=\"Apartment\", D12<RemediationEWEMs!$R$2),\"WARNING: There are \"&RemediationEWEMs!$R$2&\" Apartment EWEMs and only \"&D12&\" observations entered for this space.\", \"\"))","v":""},{"$f":"IF(COUNTIF('Units and Spaces'!$B$7:$B$108,RemediationUnits!B12)>0, TRUE, IF(B12<>\"\", FALSE, \"\"))","v":""},{"$f":"COUNTIFS(Observations!$L$7:$L$506,\"*noncompliant\", Observations!$B$7:$B$506, RemediationUnits!B12)","v":0}]
[null,null,null,{"$f":"IF(C13=\"\",\"\",COUNTIF(RemediationObservations!$B$6:$B$500,B13))","v":""},"",null,{"$f":"IF(AND(B13=\"\",B14<>\"\"),\"No blanks, please! They create errors\",IF(AND(C13=\"Apartment\", D13<RemediationEWEMs!$R$2),\"WARNING: There are \"&RemediationEWEMs!$R$2&\" Apartment EWEMs and only \"&D13&\" observations entered for this space.\", \"\"))","v":""},{"$f":"IF(COUNTIF('Units and Spaces'!$B$7:$B$108,RemediationUnits!B13)>0, TRUE, IF(B13<>\"\", FALSE, \"\"))","v":""},{"$f":"COUNTIFS(Observations!$L$7:$L$506,\"*noncompliant\", Observations!$B$7:$B$506, RemediationUnits!B13)","v":0}]
[null,null,null,{"$f":"IF(C14=\"\",\"\",COUNTIF(RemediationObservations!$B$6:$B$500,B14))","v":""},"",null,{"$f":"IF(AND(B14=\"\",B15<>\"\"),\"No blanks, please! They create errors\",IF(AND(C14=\"Apartment\", D14<RemediationEWEMs!$R$2),\"WARNING: There are \"&RemediationEWEMs!$R$2&\" Apartment EWEMs and only \"&D14&\" observations entered for this space.\", \"\"))","v":""},{"$f":"IF(COUNTIF('Units and Spaces'!$B$7:$B$108,RemediationUnits!B14)>0, TRUE, IF(B14<>\"\", FALSE, \"\"))","v":""},{"$f":"COUNTIFS(Observations!$L$7:$L$506,\"*noncompliant\", Observations!$B$7:$B$506, RemediationUnits!B14)","v":0}]
[null,null,null,{"$f":"IF(C15=\"\",\"\",COUNTIF(RemediationObservations!$B$6:$B$500,B15))","v":""},"",null,{"$f":"IF(AND(B15=\"\",B16<>\"\"),\"No blanks, please! They create errors\",IF(AND(C15=\"Apartment\", D15<RemediationEWEMs!$R$2),\"WARNING: There are \"&RemediationEWEMs!$R$2&\" Apartment EWEMs and only \"&D15&\" observations entered for this space.\", \"\"))","v":""},{"$f":"IF(COUNTIF('Units and Spaces'!$B$7:$B$108,RemediationUnits!B15)>0, TRUE, IF(B15<>\"\", FALSE, \"\"))","v":""},{"$f":"COUNTIFS(Observations!$L$7:$L$506,\"*noncompliant\", Observations!$B$7:$B$506, RemediationUnits!B15)","v":0}]
[null,null,null,{"$f":"IF(C16=\"\",\"\",COUNTIF(RemediationObservations!$B$6:$B$500,B16))","v":""},"",null,{"$f":"IF(AND(B16=\"\",B17<>\"\"),\"No blanks, please! They create errors\",IF(AND(C16=\"Apartment\", D16<RemediationEWEMs!$R$2),\"WARNING: There are \"&RemediationEWEMs!$R$2&\" Apartment EWEMs and only \"&D16&\" observations entered for this space.\", \"\"))","v":""},{"$f":"IF(COUNTIF('Units and Spaces'!$B$7:$B$108,RemediationUnits!B16)>0, TRUE, IF(B16<>\"\", FALSE, \"\"))","v":""},{"$f":"COUNTIFS(Observations!$L$7:$L$506,\"*noncompliant\", Observations!$B$7:$B$506, RemediationUnits!B16)","v":0}]
[null,null,null,{"$f":"IF(C17=\"\",\"\",COUNTIF(RemediationObservations!$B$6:$B$500,B17))","v":""},"",null,{"$f":"IF(AND(B17=\"\",B18<>\"\"),\"No blanks, please! They create errors\",IF(AND(C17=\"Apartment\", D17<RemediationEWEMs!$R$2),\"WARNING: There are \"&RemediationEWEMs!$R$2&\" Apartment EWEMs and only \"&D17&\" observations entered for this space.\", \"\"))","v":""},{"$f":"IF(COUNTIF('Units and Spaces'!$B$7:$B$108,RemediationUnits!B17)>0, TRUE, IF(B17<>\"\", FALSE, \"\"))","v":""},{"$f":"COUNTIFS(Observations!$L$7:$L$506,\"*noncompliant\", Observations!$B$7:$B$506, RemediationUnits!B17)","v":0}]
[null,null,null,{"$f":"IF(C18=\"\",\"\",COUNTIF(RemediationObservations!$B$6:$B$500,B18))","v":""},"",null,{"$f":"IF(AND(B18=\"\",B19<>\"\"),\"No blanks, please! They create errors\",IF(AND(C18=\"Apartment\", D18<RemediationEWEMs!$R$2),\"WARNING: There are \"&RemediationEWEMs!$R$2&\" Apartment EWEMs and only \"&D18&\" observations entered for this space.\", \"\"))","v":""},{"$f":"IF(COUNTIF('Units and Spaces'!$B$7:$B$108,RemediationUnits!B18)>0, TRUE, IF(B18<>\"\", FALSE, \"\"))","v":""},{"$f":"COUNTIFS(Observations!$L$7:$L$506,\"*noncompliant\", Observations!$B$7:$B$506, RemediationUnits!B18)","v":0}]
[null,null,null,{"$f":"IF(C19=\"\",\"\",COUNTIF(RemediationObservations!$B$6:$B$500,B19))","v":""},"",null,{"$f":"IF(AND(B19=\"\",B20<>\"\"),\"No blanks, please! They create errors\",IF(AND(C19=\"Apartment\", D19<RemediationEWEMs!$R$2),\"WARNING: There are \"&RemediationEWEMs!$R$2&\" Apartment EWEMs and only \"&D19&\" observations entered for this space.\", \"\"))","v":""},{"$f":"IF(COUNTIF('Units and Spaces'!$B$7:$B$108,RemediationUnits!B19)>0, TRUE, IF(B19<>\"\", FALSE, \"\"))","v":""},{"$f":"COUNTIFS(Observations!$L$7:$L$506,\"*noncompliant\", Observations!$B$7:$B$506, RemediationUnits!B19)","v":0}]
[null,null,null,{"$f":"IF(C20=\"\",\"\",COUNTIF(RemediationObservations!$B$6:$B$500,B20))","v":""},"",null,{"$f":"IF(AND(B20=\"\",B21<>\"\"),\"No blanks, please! They create errors\",IF(AND(C20=\"Apartment\", D20<RemediationEWEMs!$R$2),\"WARNING: There are \"&RemediationEWEMs!$R$2&\" Apartment EWEMs and only \"&D20&\" observations entered for this space.\", \"\"))","v":""},{"$f":"IF(COUNTIF('Units and Spaces'!$B$7:$B$108,RemediationUnits!B20)>0, TRUE, IF(B20<>\"\", FALSE, \"\"))","v":""},{"$f":"COUNTIFS(Observations!$L$7:$L$506,\"*noncompliant\", Observations!$B$7:$B$506, RemediationUnits!B20)","v":0}]
[null,null,null,{"$f":"IF(C21=\"\",\"\",COUNTIF(RemediationObservations!$B$6:$B$500,B21))","v":""},"",null,{"$f":"IF(AND(B21=\"\",B22<>\"\"),\"No blanks, please! They create errors\",IF(AND(C21=\"Apartment\", D21<RemediationEWEMs!$R$2),\"WARNING: There are \"&RemediationEWEMs!$R$2&\" Apartment EWEMs and only \"&D21&\" observations entered for this space.\", \"\"))","v":""},{"$f":"IF(COUNTIF('Units and Spaces'!$B$7:$B$108,RemediationUnits!B21)>0, TRUE, IF(B21<>\"\", FALSE, \"\"))","v":""},{"$f":"COUNTIFS(Observations!$L$7:$L$506,\"*noncompliant\", Observations!$B$7:$B$506, RemediationUnits!B21)","v":0}]
[null,null,null,{"$f":"IF(C22=\"\",\"\",COUNTIF(RemediationObservations!$B$6:$B$500,B22))","v":""},"",null,{"$f":"IF(AND(B22=\"\",B23<>\"\"),\"No blanks, please! They create errors\",IF(AND(C22=\"Apartment\", D22<RemediationEWEMs!$R$2),\"WARNING: There are \"&RemediationEWEMs!$R$2&\" Apartment EWEMs and only \"&D22&\" observations entered for this space.\", \"\"))","v":""},{"$f":"IF(COUNTIF('Units and Spaces'!$B$7:$B$108,RemediationUnits!B22)>0, TRUE, IF(B22<>\"\", FALSE, \"\"))","v":""},{"$f":"COUNTIFS(Observations!$L$7:$L$506,\"*noncompliant\", Observations!$B$7:$B$506, RemediationUnits!B22)","v":0}]
[null,null,null,{"$f":"IF(C23=\"\",\"\",COUNTIF(RemediationObservations!$B$6:$B$500,B23))","v":""},"",null,{"$f":"IF(AND(B23=\"\",B24<>\"\"),\"No blanks, please! They create errors\",IF(AND(C23=\"Apartment\", D23<RemediationEWEMs!$R$2),\"WARNING: There are \"&RemediationEWEMs!$R$2&\" Apartment EWEMs and only \"&D23&\" observations entered for this space.\", \"\"))","v":""},{"$f":"IF(COUNTIF('Units and Spaces'!$B$7:$B$108,RemediationUnits!B23)>0, TRUE, IF(B23<>\"\", FALSE, \"\"))","v":""},{"$f":"COUNTIFS(Observations!$L$7:$L$506,\"*noncompliant\", Observations!$B$7:$B$506, RemediationUnits!B23)","v":0}]
[null,null,null,{"$f":"IF(C24=\"\",\"\",COUNTIF(RemediationObservations!$B$6:$B$500,B24))","v":""},"",null,{"$f":"IF(AND(B24=\"\",B25<>\"\"),\"No blanks, please! They create errors\",IF(AND(C24=\"Apartment\", D24<RemediationEWEMs!$R$2),\"WARNING: There are \"&RemediationEWEMs!$R$2&\" Apartment EWEMs and only \"&D24&\" observations entered for this space.\", \"\"))","v":""},{"$f":"IF(COUNTIF('Units and Spaces'!$B$7:$B$108,RemediationUnits!B24)>0, TRUE, IF(B24<>\"\", FALSE, \"\"))","v":""},{"$f":"COUNTIFS(Observations!$L$7:$L$506,\"*noncompliant\", Observations!$B$7:$B$506, RemediationUnits!B24)","v":0}]
[null,null,null,{"$f":"IF(C25=\"\",\"\",COUNTIF(RemediationObservations!$B$6:$B$500,B25))","v":""},"",null,{"$f":"IF(AND(B25=\"\",B26<>\"\"),\"No blanks, please! They create errors\",IF(AND(C25=\"Apartment\", D25<RemediationEWEMs!$R$2),\"WARNING: There are \"&RemediationEWEMs!$R$2&\" Apartment EWEMs and only \"&D25&\" observations entered for this space.\", \"\"))","v":""},{"$f":"IF(COUNTIF('Units and Spaces'!$B$7:$B$108,RemediationUnits!B25)>0, TRUE, IF(B25<>\"\", FALSE, \"\"))","v":""},{"$f":"COUNTIFS(Observations!$L$7:$L$506,\"*noncompliant\", Observations!$B$7:$B$506, RemediationUnits!B25)","v":0}]
[null,null,null,{"$f":"IF(C26=\"\",\"\",COUNTIF(RemediationObservations!$B$6:$B$500,B26))","v":""},"",null,{"$f":"IF(AND(B26=\"\",B27<>\"\"),\"No blanks, please! They create errors\",IF(AND(C26=\"Apartment\", D26<RemediationEWEMs!$R$2),\"WARNING: There are \"&RemediationEWEMs!$R$2&\" Apartment EWEMs and only \"&D26&\" observations entered for this space.\", \"\"))","v":""},{"$f":"IF(COUNTIF('Units and Spaces'!$B$7:$B$108,RemediationUnits!B26)>0, TRUE, IF(B26<>\"\", FALSE, \"\"))","v":""},{"$f":"COUNTIFS(Observations!$L$7:$L$506,\"*noncompliant\", Observations!$B$7:$B$506, RemediationUnits!B26)","v":0}]
[null,null,null,{"$f":"IF(C27=\"\",\"\",COUNTIF(RemediationObservations!$B$6:$B$500,B27))","v":""},"",null,{"$f":"IF(AND(B27=\"\",B28<>\"\"),\"No blanks, please! They create errors\",IF(AND(C27=\"Apartment\", D27<RemediationEWEMs!$R$2),\"WARNING: There are \"&RemediationEWEMs!$R$2&\" Apartment EWEMs and only \"&D27&\" observations entered for this space.\", \"\"))","v":""},{"$f":"IF(COUNTIF('Units and Spaces'!$B$7:$B$108,RemediationUnits!B27)>0, TRUE, IF(B27<>\"\", FALSE, \"\"))","v":""},{"$f":"COUNTIFS(Observations!$L$7:$L$506,\"*noncompliant\", Observations!$B$7:$B$506, RemediationUnits!B27)","v":0}]
[null,null,null,{"$f":"IF(C28=\"\",\"\",COUNTIF(RemediationObservations!$B$6:$B$500,B28))","v":""},"",null,{"$f":"IF(AND(B28=\"\",B29<>\"\"),\"No blanks, please! They create errors\",IF(AND(C28=\"Apartment\", D28<RemediationEWEMs!$R$2),\"WARNING: There are \"&RemediationEWEMs!$R$2&\" Apartment EWEMs and only \"&D28&\" observations entered for this space.\", \"\"))","v":""},{"$f":"IF(COUNTIF('Units and Spaces'!$B$7:$B$108,RemediationUnits!B28)>0, TRUE, IF(B28<>\"\", FALSE, \"\"))","v":""},{"$f":"COUNTIFS(Observations!$L$7:$L$506,\"*noncompliant\", Observations!$B$7:$B$506, RemediationUnits!B28)","v":0}]
[null,null,null,{"$f":"IF(C29=\"\",\"\",COUNTIF(RemediationObservations!$B$6:$B$500,B29))","v":""},"",null,{"$f":"IF(AND(B29=\"\",B30<>\"\"),\"No blanks, please! They create errors\",IF(AND(C29=\"Apartment\", D29<RemediationEWEMs!$R$2),\"WARNING: There are \"&RemediationEWEMs!$R$2&\" Apartment EWEMs and only \"&D29&\" observations entered for this space.\", \"\"))","v":""},{"$f":"IF(COUNTIF('Units and Spaces'!$B$7:$B$108,RemediationUnits!B29)>0, TRUE, IF(B29<>\"\", FALSE, \"\"))","v":""},{"$f":"COUNTIFS(Observations!$L$7:$L$506,\"*noncompliant\", Observations!$B$7:$B$506, RemediationUnits!B29)","v":0}]
[null,null,null,{"$f":"IF(C30=\"\",\"\",COUNTIF(RemediationObservations!$B$6:$B$500,B30))","v":""},"",null,{"$f":"IF(AND(B30=\"\",B31<>\"\"),\"No blanks, please! They create errors\",IF(AND(C30=\"Apartment\", D30<RemediationEWEMs!$R$2),\"WARNING: There are \"&RemediationEWEMs!$R$2&\" Apartment EWEMs and only \"&D30&\" observations entered for this space.\", \"\"))","v":""},{"$f":"IF(COUNTIF('Units and Spaces'!$B$7:$B$108,RemediationUnits!B30)>0, TRUE, IF(B30<>\"\", FALSE, \"\"))","v":""},{"$f":"COUNTIFS(Observations!$L$7:$L$506,\"*noncompliant\", Observations!$B$7:$B$506, RemediationUnits!B30)","v":0}]
[null,null,null,{"$f":"IF(C31=\"\",\"\",COUNTIF(RemediationObservations!$B$6:$B$500,B31))","v":""},"",null,{"$f":"IF(AND(B31=\"\",B32<>\"\"),\"No blanks, please! They create errors\",IF(AND(C31=\"Apartment\", D31<RemediationEWEMs!$R$2),\"WARNING: There are \"&RemediationEWEMs!$R$2&\" Apartment EWEMs and only \"&D31&\" observations entered for this space.\", \"\"))","v":""},{"$f":"IF(COUNTIF('Units and Spaces'!$B$7:$B$108,RemediationUnits!B31)>0, TRUE, IF(B31<>\"\", FALSE, \"\"))","v":""},{"$f":"COUNTIFS(Observations!$L$7:$L$506,\"*noncompliant\", Observations!$B$7:$B$506, RemediationUnits!B31)","v":0}]
[null,null,null,{"$f":"IF(C32=\"\",\"\",COUNTIF(RemediationObservations!$B$6:$B$500,B32))","v":""},"",null,{"$f":"IF(AND(B32=\"\",B33<>\"\"),\"No blanks, please! They create errors\",IF(AND(C32=\"Apartment\", D32<RemediationEWEMs!$R$2),\"WARNING: There are \"&RemediationEWEMs!$R$2&\" Apartment EWEMs and only \"&D32&\" observations entered for this space.\", \"\"))","v":""},{"$f":"IF(COUNTIF('Units and Spaces'!$B$7:$B$108,RemediationUnits!B32)>0, TRUE, IF(B32<>\"\", FALSE, \"\"))","v":""},{"$f":"COUNTIFS(Observations!$L$7:$L$506,\"*noncompliant\", Observations!$B$7:$B$506, RemediationUnits!B32)","v":0}]
[null,null,null,{"$f":"IF(C33=\"\",\"\",COUNTIF(RemediationObservations!$B$6:$B$500,B33))","v":""},"",null,{"$f":"IF(AND(B33=\"\",B34<>\"\"),\"No blanks, please! They create errors\",IF(AND(C33=\"Apartment\", D33<RemediationEWEMs!$R$2),\"WARNING: There are \"&RemediationEWEMs!$R$2&\" Apartment EWEMs and only \"&D33&\" observations entered for this space.\", \"\"))","v":""},{"$f":"IF(COUNTIF('Units and Spaces'!$B$7:$B$108,RemediationUnits!B33)>0, TRUE, IF(B33<>\"\", FALSE, \"\"))","v":""},{"$f":"COUNTIFS(Observations!$L$7:$L$506,\"*noncompliant\", Observations!$B$7:$B$506, RemediationUnits!B33)","v":0}]
[null,null,null,{"$f":"IF(C34=\"\",\"\",COUNTIF(RemediationObservations!$B$6:$B$500,B34))","v":""},"",null,{"$f":"IF(AND(B34=\"\",B35<>\"\"),\"No blanks, please! They create errors\",IF(AND(C34=\"Apartment\", D34<RemediationEWEMs!$R$2),\"WARNING: There are \"&RemediationEWEMs!$R$2&\" Apartment EWEMs and only \"&D34&\" observations entered for this space.\", \"\"))","v":""},{"$f":"IF(COUNTIF('Units and Spaces'!$B$7:$B$108,RemediationUnits!B34)>0, TRUE, IF(B34<>\"\", FALSE, \"\"))","v":""},{"$f":"COUNTIFS(Observations!$L$7:$L$506,\"*noncompliant\", Observations!$B$7:$B$506, RemediationUnits!B34)","v":0}]
[null,null,null,{"$f":"IF(C35=\"\",\"\",COUNTIF(RemediationObservations!$B$6:$B$500,B35))","v":""},"",null,{"$f":"IF(AND(B35=\"\",B36<>\"\"),\"No blanks, please! They create errors\",IF(AND(C35=\"Apartment\", D35<RemediationEWEMs!$R$2),\"WARNING: There are \"&RemediationEWEMs!$R$2&\" Apartment EWEMs and only \"&D35&\" observations entered for this space.\", \"\"))","v":""},{"$f":"IF(COUNTIF('Units and Spaces'!$B$7:$B$108,RemediationUnits!B35)>0, TRUE, IF(B35<>\"\", FALSE, \"\"))","v":""},{"$f":"COUNTIFS(Observations!$L$7:$L$506,\"*noncompliant\", Observations!$B$7:$B$506, RemediationUnits!B35)","v":0}]
[null,null,null,{"$f":"IF(C36=\"\",\"\",COUNTIF(RemediationObservations!$B$6:$B$500,B36))","v":""},"",null,{"$f":"IF(AND(B36=\"\",B37<>\"\"),\"No blanks, please! They create errors\",IF(AND(C36=\"Apartment\", D36<RemediationEWEMs!$R$2),\"WARNING: There are \"&RemediationEWEMs!$R$2&\" Apartment EWEMs and only \"&D36&\" observations entered for this space.\", \"\"))","v":""},{"$f":"IF(COUNTIF('Units and Spaces'!$B$7:$B$108,RemediationUnits!B36)>0, TRUE, IF(B36<>\"\", FALSE, \"\"))","v":""},{"$f":"COUNTIFS(Observations!$L$7:$L$506,\"*noncompliant\", Observations!$B$7:$B$506, RemediationUnits!B36)","v":0}]
[null,null,null,{"$f":"IF(C37=\"\",\"\",COUNTIF(RemediationObservations!$B$6:$B$500,B37))","v":""},"",null,{"$f":"IF(AND(B37=\"\",B38<>\"\"),\"No blanks, please! They create errors\",IF(AND(C37=\"Apartment\", D37<RemediationEWEMs!$R$2),\"WARNING: There are \"&RemediationEWEMs!$R$2&\" Apartment EWEMs and only \"&D37&\" observations entered for this space.\", \"\"))","v":""},{"$f":"IF(COUNTIF('Units and Spaces'!$B$7:$B$108,RemediationUnits!B37)>0, TRUE, IF(B37<>\"\", FALSE, \"\"))","v":""},{"$f":"COUNTIFS(Observations!$L$7:$L$506,\"*noncompliant\", Observations!$B$7:$B$506, RemediationUnits!B37)","v":0}]
[null,null,null,{"$f":"IF(C38=\"\",\"\",COUNTIF(RemediationObservations!$B$6:$B$500,B38))","v":""},"",null,{"$f":"IF(AND(B38=\"\",B39<>\"\"),\"No blanks, please! They create errors\",IF(AND(C38=\"Apartment\", D38<RemediationEWEMs!$R$2),\"WARNING: There are \"&RemediationEWEMs!$R$2&\" Apartment EWEMs and only \"&D38&\" observations entered for this space.\", \"\"))","v":""},{"$f":"IF(COUNTIF('Units and Spaces'!$B$7:$B$108,RemediationUnits!B38)>0, TRUE, IF(B38<>\"\", FALSE, \"\"))","v":""},{"$f":"COUNTIFS(Observations!$L$7:$L$506,\"*noncompliant\", Observations!$B$7:$B$506, RemediationUnits!B38)","v":0}]
[null,null,null,{"$f":"IF(C39=\"\",\"\",COUNTIF(RemediationObservations!$B$6:$B$500,B39))","v":""},"",null,{"$f":"IF(AND(B39=\"\",B40<>\"\"),\"No blanks, please! They create errors\",IF(AND(C39=\"Apartment\", D39<RemediationEWEMs!$R$2),\"WARNING: There are \"&RemediationEWEMs!$R$2&\" Apartment EWEMs and only \"&D39&\" observations entered for this space.\", \"\"))","v":""},{"$f":"IF(COUNTIF('Units and Spaces'!$B$7:$B$108,RemediationUnits!B39)>0, TRUE, IF(B39<>\"\", FALSE, \"\"))","v":""},{"$f":"COUNTIFS(Observations!$L$7:$L$506,\"*noncompliant\", Observations!$B$7:$B$506, RemediationUnits!B39)","v":0}]
[null,null,null,{"$f":"IF(C40=\"\",\"\",COUNTIF(RemediationObservations!$B$6:$B$500,B40))","v":""},"",null,{"$f":"IF(AND(B40=\"\",B41<>\"\"),\"No blanks, please! They create errors\",IF(AND(C40=\"Apartment\", D40<RemediationEWEMs!$R$2),\"WARNING: There are \"&RemediationEWEMs!$R$2&\" Apartment EWEMs and only \"&D40&\" observations entered for this space.\", \"\"))","v":""},{"$f":"IF(COUNTIF('Units and Spaces'!$B$7:$B$108,RemediationUnits!B40)>0, TRUE, IF(B40<>\"\", FALSE, \"\"))","v":""},{"$f":"COUNTIFS(Observations!$L$7:$L$506,\"*noncompliant\", Observations!$B$7:$B$506, RemediationUnits!B40)","v":0}]
[null,null,null,{"$f":"IF(C41=\"\",\"\",COUNTIF(RemediationObservations!$B$6:$B$500,B41))","v":""},"",null,{"$f":"IF(AND(B41=\"\",B42<>\"\"),\"No blanks, please! They create errors\",IF(AND(C41=\"Apartment\", D41<RemediationEWEMs!$R$2),\"WARNING: There are \"&RemediationEWEMs!$R$2&\" Apartment EWEMs and only \"&D41&\" observations entered for this space.\", \"\"))","v":""},{"$f":"IF(COUNTIF('Units and Spaces'!$B$7:$B$108,RemediationUnits!B41)>0, TRUE, IF(B41<>\"\", FALSE, \"\"))","v":""},{"$f":"COUNTIFS(Observations!$L$7:$L$506,\"*noncompliant\", Observations!$B$7:$B$506, RemediationUnits!B41)","v":0}]
[null,null,null,{"$f":"IF(C42=\"\",\"\",COUNTIF(RemediationObservations!$B$6:$B$500,B42))","v":""},"",null,{"$f":"IF(AND(B42=\"\",B43<>\"\"),\"No blanks, please! They create errors\",IF(AND(C42=\"Apartment\", D42<RemediationEWEMs!$R$2),\"WARNING: There are \"&RemediationEWEMs!$R$2&\" Apartment EWEMs and only \"&D42&\" observations entered for this space.\", \"\"))","v":""},{"$f":"IF(COUNTIF('Units and Spaces'!$B$7:$B$108,RemediationUnits!B42)>0, TRUE, IF(B42<>\"\", FALSE, \"\"))","v":""},{"$f":"COUNTIFS(Observations!$L$7:$L$506,\"*noncompliant\", Observations!$B$7:$B$506, RemediationUnits!B42)","v":0}]
[null,null,null,{"$f":"IF(C43=\"\",\"\",COUNTIF(RemediationObservations!$B$6:$B$500,B43))","v":""},"",null,{"$f":"IF(AND(B43=\"\",B44<>\"\"),\"No blanks, please! They create errors\",IF(AND(C43=\"Apartment\", D43<RemediationEWEMs!$R$2),\"WARNING: There are \"&RemediationEWEMs!$R$2&\" Apartment EWEMs and only \"&D43&\" observations entered for this space.\", \"\"))","v":""},{"$f":"IF(COUNTIF('Units and Spaces'!$B$7:$B$108,RemediationUnits!B43)>0, TRUE, IF(B43<>\"\", FALSE, \"\"))","v":""},{"$f":"COUNTIFS(Observations!$L$7:$L$506,\"*noncompliant\", Observations!$B$7:$B$506, RemediationUnits!B43)","v":0}]
[null,null,null,{"$f":"IF(C44=\"\",\"\",COUNTIF(RemediationObservations!$B$6:$B$500,B44))","v":""},"",null,{"$f":"IF(AND(B44=\"\",B45<>\"\"),\"No blanks, please! They create errors\",IF(AND(C44=\"Apartment\", D44<RemediationEWEMs!$R$2),\"WARNING: There are \"&RemediationEWEMs!$R$2&\" Apartment EWEMs and only \"&D44&\" observations entered for this space.\", \"\"))","v":""},{"$f":"IF(COUNTIF('Units and Spaces'!$B$7:$B$108,RemediationUnits!B44)>0, TRUE, IF(B44<>\"\", FALSE, \"\"))","v":""},{"$f":"COUNTIFS(Observations!$L$7:$L$506,\"*noncompliant\", Observations!$B$7:$B$506, RemediationUnits!B44)","v":0}]
[null,null,null,{"$f":"IF(C45=\"\",\"\",COUNTIF(RemediationObservations!$B$6:$B$500,B45))","v":""},"",null,{"$f":"IF(AND(B45=\"\",B46<>\"\"),\"No blanks, please! They create errors\",IF(AND(C45=\"Apartment\", D45<RemediationEWEMs!$R$2),\"WARNING: There are \"&RemediationEWEMs!$R$2&\" Apartment EWEMs and only \"&D45&\" observations entered for this space.\", \"\"))","v":""},{"$f":"IF(COUNTIF('Units and Spaces'!$B$7:$B$108,RemediationUnits!B45)>0, TRUE, IF(B45<>\"\", FALSE, \"\"))","v":""},{"$f":"COUNTIFS(Observations!$L$7:$L$506,\"*noncompliant\", Observations!$B$7:$B$506, RemediationUnits!B45)","v":0}]
[null,null,null,{"$f":"IF(C46=\"\",\"\",COUNTIF(RemediationObservations!$B$6:$B$500,B46))","v":""},"",null,{"$f":"IF(AND(B46=\"\",B47<>\"\"),\"No blanks, please! They create errors\",IF(AND(C46=\"Apartment\", D46<RemediationEWEMs!$R$2),\"WARNING: There are \"&RemediationEWEMs!$R$2&\" Apartment EWEMs and only \"&D46&\" observations entered for this space.\", \"\"))","v":""},{"$f":"IF(COUNTIF('Units and Spaces'!$B$7:$B$108,RemediationUnits!B46)>0, TRUE, IF(B46<>\"\", FALSE, \"\"))","v":""},{"$f":"COUNTIFS(Observations!$L$7:$L$506,\"*noncompliant\", Observations!$B$7:$B$506, RemediationUnits!B46)","v":0}]
[null,null,null,{"$f":"IF(C47=\"\",\"\",COUNTIF(RemediationObservations!$B$6:$B$500,B47))","v":""},"",null,{"$f":"IF(AND(B47=\"\",B48<>\"\"),\"No blanks, please! They create errors\",IF(AND(C47=\"Apartment\", D47<RemediationEWEMs!$R$2),\"WARNING: There are \"&RemediationEWEMs!$R$2&\" Apartment EWEMs and only \"&D47&\" observations entered for this space.\", \"\"))","v":""},{"$f":"IF(COUNTIF('Units and Spaces'!$B$7:$B$108,RemediationUnits!B47)>0, TRUE, IF(B47<>\"\", FALSE, \"\"))","v":""},{"$f":"COUNTIFS(Observations!$L$7:$L$506,\"*noncompliant\", Observations!$B$7:$B$506, RemediationUnits!B47)","v":0}]
[null,null,null,{"$f":"IF(C48=\"\",\"\",COUNTIF(RemediationObservations!$B$6:$B$500,B48))","v":""},"",null,{"$f":"IF(AND(B48=\"\",B49<>\"\"),\"No blanks, please! They create errors\",IF(AND(C48=\"Apartment\", D48<RemediationEWEMs!$R$2),\"WARNING: There are \"&RemediationEWEMs!$R$2&\" Apartment EWEMs and only \"&D48&\" observations entered for this space.\", \"\"))","v":""},{"$f":"IF(COUNTIF('Units and Spaces'!$B$7:$B$108,RemediationUnits!B48)>0, TRUE, IF(B48<>\"\", FALSE, \"\"))","v":""},{"$f":"COUNTIFS(Observations!$L$7:$L$506,\"*noncompliant\", Observations!$B$7:$B$506, RemediationUnits!B48)","v":0}]

{"sheet":"RemediationObservations","index":12,"n_rows":507,"n_cols":18,"rows_kept":507,"cut":false,"hidden":true,"merged":[[0,1,0,3],[0,4,0,7],[1,7,2,7]]}
[null,"INPUT: Remediation Observations",null,null,"Enter each observation into its own row. An observation is of a single EWEM in a single space. Apartment water fixtures, like faucets, are automatically evaluated by the form. "]
[null,null,null,null,null,null,null,"Enter all Observations before adding Photos\nThe photos list will dynamically show the required photos, and will change if compliance changes."]
[null,"Minimum units to inspect:",{"$f":"RemediationInfo!D8","v":30}]
[null,"Current units inspected:",{"$f":"RemediationInfo!D9","v":0},null,null,null,null,null,null,null,null,null,null,null,null,null,{"$f":"COUNTIF(Q6:Q500, TRUE)","v":0},{"$f":"502-COUNTIF(R6:R507, \"\")","v":0}]
[null,"Unit # or Space Name","Space Type","EWEM","Nameplate Number Value","Fixture Compliance","Compliant or Noncompliant?","Supporting Comments for this observation",null,null,"Compliance\nCounts","Water \nFixture","Number \nSpec","bath \ncompliance","kitchen \ncompliance","ewem\nDescription","Row \nIncomplete","EWEM + Unit Space Type"]
[null,null,{"$f":"IFERROR(VLOOKUP(B6, RemediationUnits!$B$6:$C$48,2, FALSE),\"\")","v":""},null,null,{"$f":"IF(AND(L6=TRUE,D6<>\"\"), IF(ISNUMBER(SEARCH(\"compliant\", N6)),N6,IF(ISNUMBER(SEARCH(\"compliant\",O6)),O6,IF(E6<=M6,\"compliant\",\"noncompliant\"))),\"\")","v":""},null,null,null,null,{"$f":"IF(OR(F6=\"compliant\",F6=\"noncompliant\"),D6&F6,D6&G6)","v":""},{"$f":"IF(OR(ISNUMBER(FIND(\"low-flow\",D6,1)), ISNUMBER(FIND(\"low-flush\",D6,1))),TRUE,FALSE)","v":false},{"$f":"INDEX(EWEMs!$F$5:$F$29,MATCH(D6,EWEMs!$X$5:$X$29,0))","v":{"$error":"#N/A"}},{"$f":"IF(OR(ISNUMBER(SEARCH(\"bath faucets\", D6)), AND( ISNUMBER(SEARCH(\"fixture\", D6)),ISNUMBER(SEARCH(\"bath\",P6)) )), IF(M6<=1, IF(AND(E6>=M6, E6<=1), \"compliant\", \"noncompliant\"), IF(AND(E6>=1, E6<=M6),\"compliant\",\"noncompliant\")), \"not bath\")","v":"not bath"},{"$f":"IF(OR(ISNUMBER(SEARCH(\"kitchen faucets\",D6)),AND(ISNUMBER(SEARCH(\"fixtures\",D6)),ISNUMBER(SEARCH(\"kitchen\",P6)))),IF(M6<=1.5,IF(AND(E6>=1, E6<=1.5),\"compliant\",\"noncompliant\"),IF(AND(E6>=1.5,E6<=M6),\"compliant\",\"noncompliant\")),\"not kitchen\"\n)","v":"not kitchen"},{"$f":"VLOOKUP(LEFT(D6,(FIND(\" \",D6,1)-1))*1,EWEMs!$B$5:$D$29,3,FALSE)","v":{"$error":"#VALUE!"}},{"$f":"IF(OR(B6<>\"\",D6<>\"\", E6<>\"\",G6<>\"\",H6<>\"\"), IF(L6=TRUE, IF(OR(B6=\"\", D6=\"\", E6=\"\", H6=\"\"), TRUE, FALSE), IF(OR(B6=\"\", D6=\"\", G6=\"\", H6=\"\"), TRUE, FALSE)), FALSE)","v":false},{"$f":"IF(OR(F6=\"noncompliant\", G6=\"noncompliant\"), IFERROR(LEFT(D6, LEN(_xlfn.TEXTBEFORE(D6,\"-\",-1)))&\" (Space: \"&B6&\")\", \"\"), \"\")","v":""}]
[null,null,{"$f":"IFERROR(VLOOKUP(B7, RemediationUnits!$B$6:$C$48,2, FALSE),\"\")","v":""},null,null,{"$f":"IF(AND(L7=TRUE,D7<>\"\"), IF(ISNUMBER(SEARCH(\"compliant\", N7)),N7,IF(ISNUMBER(SEARCH(\"compliant\",O7)),O7,IF(E7<=M7,\"compliant\",\"noncompliant\"))),\"\")","v":""},null,null,null,null,{"$f":"IF(OR(F7=\"compliant\",F7=\"noncompliant\"),D7&F7,D7&G7)","v":""},{"$f":"IF(OR(ISNUMBER(FIND(\"low-flow\",D7,1)), ISNUMBER(FIND(\"low-flush\",D7,1))),TRUE,FALSE)","v":false},{"$f":"INDEX(EWEMs!$F$5:$F$29,MATCH(D7,EWEMs!$X$5:$X$29,0))","v":{"$error":"#N/A"}},{"$f":"IF(OR(ISNUMBER(SEARCH(\"bath faucets\", D7)), AND( ISNUMBER(SEARCH(\"fixture\", D7)),ISNUMBER(SEARCH(\"bath\",P7)) )), IF(M7<=1, IF(AND(E7>=M7, E7<=1), \"compliant\", \"noncompliant\"), IF(AND(E7>=1, E7<=M7),\"compliant\",\"noncompliant\")), \"not bath\")","v":"not bath"},{"$f":"IF(OR(ISNUMBER(SEARCH(\"kitchen faucets\",D7)),AND(ISNUMBER(SEARCH(\"fixtures\",D7)),ISNUMBER(SEARCH(\"kitchen\",P7)))),IF(M7<=1.5,IF(AND(E7>=1, E7<=1.5),\"compliant\",\"noncompliant\"),IF(AND(E7>=1.5,E7<=M7),\"compliant\",\"noncompliant\")),\"not kitchen\"\n)","v":"not kitchen"},{"$f":"VLOOKUP(LEFT(D7,(FIND(\" \",D7,1)-1))*1,EWEMs!$B$5:$D$29,3,FALSE)","v":{"$error":"#VALUE!"}},{"$f":"IF(OR(B7<>\"\",D7<>\"\", E7<>\"\",G7<>\"\",H7<>\"\"), IF(L7=TRUE, IF(OR(B7=\"\", D7=\"\", E7=\"\", H7=\"\"), TRUE, FALSE), IF(OR(B7=\"\", D7=\"\", G7=\"\", H7=\"\"), TRUE, FALSE)), FALSE)","v":false},{"$f":"IF(OR(F7=\"noncompliant\", G7=\"noncompliant\"), IFERROR(LEFT(D7, LEN(_xlfn.TEXTBEFORE(D7,\"-\",-1)))&\" (Space: \"&B7&\")\", \"\"), \"\")","v":""}]
[null,null,{"$f":"IFERROR(VLOOKUP(B8, RemediationUnits!$B$6:$C$48,2, FALSE),\"\")","v":""},null,null,"",null,null,null,null,"",false,{"$f":"INDEX(EWEMs!$F$5:$F$29,MATCH(D8,EWEMs!$X$5:$X$29,0))","v":{"$error":"#N/A"}},"not bath","not kitchen",{"$f":"VLOOKUP(LEFT(D8,(FIND(\" \",D8,1)-1))*1,EWEMs!$B$5:$D$29,3,FALSE)","v":{"$error":"#VALUE!"}},{"$f":"IF(OR(B8<>\"\",D8<>\"\", E8<>\"\",G8<>\"\",H8<>\"\"), IF(L8=TRUE, IF(OR(B8=\"\", D8=\"\", E8=\"\", H8=\"\"), TRUE, FALSE), IF(OR(B8=\"\", D8=\"\", G8=\"\", H8=\"\"), TRUE, FALSE)), FALSE)","v":false},""]
[null,null,{"$f":"IFERROR(VLOOKUP(B9, RemediationUnits!$B$6:$C$48,2, FALSE),\"\")","v":""},null,null,"",null,null,null,null,"",false,{"$f":"INDEX(EWEMs!$F$5:$F$29,MATCH(D9,EWEMs!$X$5:$X$29,0))","v":{"$error":"#N/A"}},"not bath","not kitchen",{"$f":"VLOOKUP(LEFT(D9,(FIND(\" \",D9,1)-1))*1,EWEMs!$B$5:$D$29,3,FALSE)","v":{"$error":"#VALUE!"}},false,""]
[null,null,{"$f":"IFERROR(VLOOKUP(B10, RemediationUnits!$B$6:$C$48,2, FALSE),\"\")","v":""},null,null,"",null,null,null,null,"",false,{"$f":"INDEX(EWEMs!$F$5:$F$29,MATCH(D10,EWEMs!$X$5:$X$29,0))","v":{"$error":"#N/A"}},"not bath","not kitchen",{"$f":"VLOOKUP(LEFT(D10,(FIND(\" \",D10,1)-1))*1,EWEMs!$B$5:$D$29,3,FALSE)","v":{"$error":"#VALUE!"}},false,""]
[null,null,{"$f":"IFERROR(VLOOKUP(B11, RemediationUnits!$B$6:$C$48,2, FALSE),\"\")","v":""},null,null,"",null,null,null,null,"",false,{"$f":"INDEX(EWEMs!$F$5:$F$29,MATCH(D11,EWEMs!$X$5:$X$29,0))","v":{"$error":"#N/A"}},"not bath","not kitchen",{"$f":"VLOOKUP(LEFT(D11,(FIND(\" \",D11,1)-1))*1,EWEMs!$B$5:$D$29,3,FALSE)","v":{"$error":"#VALUE!"}},false,""]
[null,null,{"$f":"IFERROR(VLOOKUP(B12, RemediationUnits!$B$6:$C$48,2, FALSE),\"\")","v":""},null,null,"",null,null,null,null,"",false,{"$f":"INDEX(EWEMs!$F$5:$F$29,MATCH(D12,EWEMs!$X$5:$X$29,0))","v":{"$error":"#N/A"}},"not bath","not kitchen",{"$f":"VLOOKUP(LEFT(D12,(FIND(\" \",D12,1)-1))*1,EWEMs!$B$5:$D$29,3,FALSE)","v":{"$error":"#VALUE!"}},false,""]
[null,null,{"$f":"IFERROR(VLOOKUP(B13, RemediationUnits!$B$6:$C$48,2, FALSE),\"\")","v":""},null,null,"",null,null,null,null,"",false,{"$f":"INDEX(EWEMs!$F$5:$F$29,MATCH(D13,EWEMs!$X$5:$X$29,0))","v":{"$error":"#N/A"}},"not bath","not kitchen",{"$f":"VLOOKUP(LEFT(D13,(FIND(\" \",D13,1)-1))*1,EWEMs!$B$5:$D$29,3,FALSE)","v":{"$error":"#VALUE!"}},false,""]
[null,null,{"$f":"IFERROR(VLOOKUP(B14, RemediationUnits!$B$6:$C$48,2, FALSE),\"\")","v":""},null,null,"",null,null,null,null,"",false,{"$f":"INDEX(EWEMs!$F$5:$F$29,MATCH(D14,EWEMs!$X$5:$X$29,0))","v":{"$error":"#N/A"}},"not bath","not kitchen",{"$f":"VLOOKUP(LEFT(D14,(FIND(\" \",D14,1)-1))*1,EWEMs!$B$5:$D$29,3,FALSE)","v":{"$error":"#VALUE!"}},false,""]
[null,null,{"$f":"IFERROR(VLOOKUP(B15, RemediationUnits!$B$6:$C$48,2, FALSE),\"\")","v":""},null,null,"",null,null,null,null,"",false,{"$f":"INDEX(EWEMs!$F$5:$F$29,MATCH(D15,EWEMs!$X$5:$X$29,0))","v":{"$error":"#N/A"}},"not bath","not kitchen",{"$f":"VLOOKUP(LEFT(D15,(FIND(\" \",D15,1)-1))*1,EWEMs!$B$5:$D$29,3,FALSE)","v":{"$error":"#VALUE!"}},false,""]
[null,null,{"$f":"IFERROR(VLOOKUP(B16, RemediationUnits!$B$6:$C$48,2, FALSE),\"\")","v":""},null,null,"",null,null,null,null,"",false,{"$f":"INDEX(EWEMs!$F$5:$F$29,MATCH(D16,EWEMs!$X$5:$X$29,0))","v":{"$error":"#N/A"}},"not bath","not kitchen",{"$f":"VLOOKUP(LEFT(D16,(FIND(\" \",D16,1)-1))*1,EWEMs!$B$5:$D$29,3,FALSE)","v":{"$error":"#VALUE!"}},false,""]
[null,null,{"$f":"IFERROR(VLOOKUP(B17, RemediationUnits!$B$6:$C$48,2, FALSE),\"\")","v":""},null,null,"",null,null,null,null,"",false,{"$f":"INDEX(EWEMs!$F$5:$F$29,MATCH(D17,EWEMs!$X$5:$X$29,0))","v":{"$error":"#N/A"}},"not bath","not kitchen",{"$f":"VLOOKUP(LEFT(D17,(FIND(\" \",D17,1)-1))*1,EWEMs!$B$5:$D$29,3,FALSE)","v":{"$error":"#VALUE!"}},false,""]
[null,null,{"$f":"IFERROR(VLOOKUP(B18, RemediationUnits!$B$6:$C$48,2, FALSE),\"\")","v":""},null,null,"",null,null,null,null,"",false,{"$f":"INDEX(EWEMs!$F$5:$F$29,MATCH(D18,EWEMs!$X$5:$X$29,0))","v":{"$error":"#N/A"}},"not bath","not kitchen",{"$f":"VLOOKUP(LEFT(D18,(FIND(\" \",D18,1)-1))*1,EWEMs!$B$5:$D$29,3,FALSE)","v":{"$error":"#VALUE!"}},false,""]
[null,null,{"$f":"IFERROR(VLOOKUP(B19, RemediationUnits!$B$6:$C$48,2, FALSE),\"\")","v":""},null,null,"",null,null,null,null,"",false,{"$f":"INDEX(EWEMs!$F$5:$F$29,MATCH(D19,EWEMs!$X$5:$X$29,0))","v":{"$error":"#N/A"}},"not bath","not kitchen",{"$f":"VLOOKUP(LEFT(D19,(FIND(\" \",D19,1)-1))*1,EWEMs!$B$5:$D$29,3,FALSE)","v":{"$error":"#VALUE!"}},false,""]
[null,null,{"$f":"IFERROR(VLOOKUP(B20, RemediationUnits!$B$6:$C$48,2, FALSE),\"\")","v":""},null,null,"",null,null,null,null,"",false,{"$f":"INDEX(EWEMs!$F$5:$F$29,MATCH(D20,EWEMs!$X$5:$X$29,0))","v":{"$error":"#N/A"}},"not bath","not kitchen",{"$f":"VLOOKUP(LEFT(D20,(FIND(\" \",D20,1)-1))*1,EWEMs!$B$5:$D$29,3,FALSE)","v":{"$error":"#VALUE!"}},false,""]
[null,null,{"$f":"IFERROR(VLOOKUP(B21, RemediationUnits!$B$6:$C$48,2, FALSE),\"\")","v":""},null,null,"",null,null,null,null,"",false,{"$f":"INDEX(EWEMs!$F$5:$F$29,MATCH(D21,EWEMs!$X$5:$X$29,0))","v":{"$error":"#N/A"}},"not bath","not kitchen",{"$f":"VLOOKUP(LEFT(D21,(FIND(\" \",D21,1)-1))*1,EWEMs!$B$5:$D$29,3,FALSE)","v":{"$error":"#VALUE!"}},false,""]
[null,null,{"$f":"IFERROR(VLOOKUP(B22, RemediationUnits!$B$6:$C$48,2, FALSE),\"\")","v":""},null,null,"",null,null,null,null,"",false,{"$f":"INDEX(EWEMs!$F$5:$F$29,MATCH(D22,EWEMs!$X$5:$X$29,0))","v":{"$error":"#N/A"}},"not bath","not kitchen",{"$f":"VLOOKUP(LEFT(D22,(FIND(\" \",D22,1)-1))*1,EWEMs!$B$5:$D$29,3,FALSE)","v":{"$error":"#VALUE!"}},false,""]
[null,null,{"$f":"IFERROR(VLOOKUP(B23, RemediationUnits!$B$6:$C$48,2, FALSE),\"\")","v":""},null,null,"",null,null,null,null,"",false,{"$f":"INDEX(EWEMs!$F$5:$F$29,MATCH(D23,EWEMs!$X$5:$X$29,0))","v":{"$error":"#N/A"}},"not bath","not kitchen",{"$f":"VLOOKUP(LEFT(D23,(FIND(\" \",D23,1)-1))*1,EWEMs!$B$5:$D$29,3,FALSE)","v":{"$error":"#VALUE!"}},false,""]
[null,null,{"$f":"IFERROR(VLOOKUP(B24, RemediationUnits!$B$6:$C$48,2, FALSE),\"\")","v":""},null,null,"",null,null,null,null,"",false,{"$f":"INDEX(EWEMs!$F$5:$F$29,MATCH(D24,EWEMs!$X$5:$X$29,0))","v":{"$error":"#N/A"}},"not bath","not kitchen",{"$f":"VLOOKUP(LEFT(D24,(FIND(\" \",D24,1)-1))*1,EWEMs!$B$5:$D$29,3,FALSE)","v":{"$error":"#VALUE!"}},false,""]
[null,null,{"$f":"IFERROR(VLOOKUP(B25, RemediationUnits!$B$6:$C$48,2, FALSE),\"\")","v":""},null,null,"",null,null,null,null,"",false,{"$f":"INDEX(EWEMs!$F$5:$F$29,MATCH(D25,EWEMs!$X$5:$X$29,0))","v":{"$error":"#N/A"}},"not bath","not kitchen",{"$f":"VLOOKUP(LEFT(D25,(FIND(\" \",D25,1)-1))*1,EWEMs!$B$5:$D$29,3,FALSE)","v":{"$error":"#VALUE!"}},false,""]
[null,null,{"$f":"IFERROR(VLOOKUP(B26, RemediationUnits!$B$6:$C$48,2, FALSE),\"\")","v":""},null,null,"",null,null,null,null,"",false,{"$f":"INDEX(EWEMs!$F$5:$F$29,MATCH(D26,EWEMs!$X$5:$X$29,0))","v":{"$error":"#N/A"}},"not bath","not kitchen",{"$f":"VLOOKUP(LEFT(D26,(FIND(\" \",D26,1)-1))*1,EWEMs!$B$5:$D$29,3,FALSE)","v":{"$error":"#VALUE!"}},false,""]
[null,null,{"$f":"IFERROR(VLOOKUP(B27, RemediationUnits!$B$6:$C$48,2, FALSE),\"\")","v":""},null,null,"",null,null,null,null,"",false,{"$f":"INDEX(EWEMs!$F$5:$F$29,MATCH(D27,EWEMs!$X$5:$X$29,0))","v":{"$error":"#N/A"}},"not bath","not kitchen",{"$f":"VLOOKUP(LEFT(D27,(FIND(\" \",D27,1)-1))*1,EWEMs!$B$5:$D$29,3,FALSE)","v":{"$error":"#VALUE!"}},false,""]
[null,null,{"$f":"IFERROR(VLOOKUP(B28, RemediationUnits!$B$6:$C$48,2, FALSE),\"\")","v":""},null,null,"",null,null,null,null,"",false,{"$f":"INDEX(EWEMs!$F$5:$F$29,MATCH(D28,EWEMs!$X$5:$X$29,0))","v":{"$error":"#N/A"}},"not bath","not kitchen",{"$f":"VLOOKUP(LEFT(D28,(FIND(\" \",D28,1)-1))*1,EWEMs!$B$5:$D$29,3,FALSE)","v":{"$error":"#VALUE!"}},false,""]
[null,null,{"$f":"IFERROR(VLOOKUP(B29, RemediationUnits!$B$6:$C$48,2, FALSE),\"\")","v":""},null,null,"",null,null,null,null,"",false,{"$f":"INDEX(EWEMs!$F$5:$F$29,MATCH(D29,EWEMs!$X$5:$X$29,0))","v":{"$error":"#N/A"}},"not bath","not kitchen",{"$f":"VLOOKUP(LEFT(D29,(FIND(\" \",D29,1)-1))*1,EWEMs!$B$5:$D$29,3,FALSE)","v":{"$error":"#VALUE!"}},false,""]
[null,null,{"$f":"IFERROR(VLOOKUP(B30, RemediationUnits!$B$6:$C$48,2, FALSE),\"\")","v":""},null,null,"",null,null,null,null,"",false,{"$f":"INDEX(EWEMs!$F$5:$F$29,MATCH(D30,EWEMs!$X$5:$X$29,0))","v":{"$error":"#N/A"}},"not bath","not kitchen",{"$f":"VLOOKUP(LEFT(D30,(FIND(\" \",D30,1)-1))*1,EWEMs!$B$5:$D$29,3,FALSE)","v":{"$error":"#VALUE!"}},false,""]
[null,null,{"$f":"IFERROR(VLOOKUP(B31, RemediationUnits!$B$6:$C$48,2, FALSE),\"\")","v":""},null,null,"",null,null,null,null,"",false,{"$f":"INDEX(EWEMs!$F$5:$F$29,MATCH(D31,EWEMs!$X$5:$X$29,0))","v":{"$error":"#N/A"}},"not bath","not kitchen",{"$f":"VLOOKUP(LEFT(D31,(FIND(\" \",D31,1)-1))*1,EWEMs!$B$5:$D$29,3,FALSE)","v":{"$error":"#VALUE!"}},false,""]
[null,null,{"$f":"IFERROR(VLOOKUP(B32, RemediationUnits!$B$6:$C$48,2, FALSE),\"\")","v":""},null,null,"",null,null,null,null,"",false,{"$f":"INDEX(EWEMs!$F$5:$F$29,MATCH(D32,EWEMs!$X$5:$X$29,0))","v":{"$error":"#N/A"}},"not bath","not kitchen",{"$f":"VLOOKUP(LEFT(D32,(FIND(\" \",D32,1)-1))*1,EWEMs!$B$5:$D$29,3,FALSE)","v":{"$error":"#VALUE!"}},false,""]
[null,null,{"$f":"IFERROR(VLOOKUP(B33, RemediationUnits!$B$6:$C$48,2, FALSE),\"\")","v":""},null,null,"",null,null,null,null,"",false,{"$f":"INDEX(EWEMs!$F$5:$F$29,MATCH(D33,EWEMs!$X$5:$X$29,0))","v":{"$error":"#N/A"}},"not bath","not kitchen",{"$f":"VLOOKUP(LEFT(D33,(FIND(\" \",D33,1)-1))*1,EWEMs!$B$5:$D$29,3,FALSE)","v":{"$error":"#VALUE!"}},false,""]
[null,null,{"$f":"IFERROR(VLOOKUP(B34, RemediationUnits!$B$6:$C$48,2, FALSE),\"\")","v":""},null,null,"",null,null,null,null,"",false,{"$f":"INDEX(EWEMs!$F$5:$F$29,MATCH(D34,EWEMs!$X$5:$X$29,0))","v":{"$error":"#N/A"}},"not bath","not kitchen",{"$f":"VLOOKUP(LEFT(D34,(FIND(\" \",D34,1)-1))*1,EWEMs!$B$5:$D$29,3,FALSE)","v":{"$error":"#VALUE!"}},false,""]
[null,null,{"$f":"IFERROR(VLOOKUP(B35, RemediationUnits!$B$6:$C$48,2, FALSE),\"\")","v":""},null,null,"",null,null,null,null,"",false,{"$f":"INDEX(EWEMs!$F$5:$F$29,MATCH(D35,EWEMs!$X$5:$X$29,0))","v":{"$error":"#N/A"}},"not bath","not kitchen",{"$f":"VLOOKUP(LEFT(D35,(FIND(\" \",D35,1)-1))*1,EWEMs!$B$5:$D$29,3,FALSE)","v":{"$error":"#VALUE!"}},false,""]
[null,null,{"$f":"IFERROR(VLOOKUP(B36, RemediationUnits!$B$6:$C$48,2, FALSE),\"\")","v":""},null,null,"",null,null,null,null,"",false,{"$f":"INDEX(EWEMs!$F$5:$F$29,MATCH(D36,EWEMs!$X$5:$X$29,0))","v":{"$error":"#N/A"}},"not bath","not kitchen",{"$f":"VLOOKUP(LEFT(D36,(FIND(\" \",D36,1)-1))*1,EWEMs!$B$5:$D$29,3,FALSE)","v":{"$error":"#VALUE!"}},false,""]
[null,null,{"$f":"IFERROR(VLOOKUP(B37, RemediationUnits!$B$6:$C$48,2, FALSE),\"\")","v":""},null,null,"",null,null,null,null,"",false,{"$f":"INDEX(EWEMs!$F$5:$F$29,MATCH(D37,EWEMs!$X$5:$X$29,0))","v":{"$error":"#N/A"}},"not bath","not kitchen",{"$f":"VLOOKUP(LEFT(D37,(FIND(\" \",D37,1)-1))*1,EWEMs!$B$5:$D$29,3,FALSE)","v":{"$error":"#VALUE!"}},false,""]
[null,null,{"$f":"IFERROR(VLOOKUP(B38, RemediationUnits!$B$6:$C$48,2, FALSE),\"\")","v":""},null,null,"",null,null,null,null,"",false,{"$f":"INDEX(EWEMs!$F$5:$F$29,MATCH(D38,EWEMs!$X$5:$X$29,0))","v":{"$error":"#N/A"}},"not bath","not kitchen",{"$f":"VLOOKUP(LEFT(D38,(FIND(\" \",D38,1)-1))*1,EWEMs!$B$5:$D$29,3,FALSE)","v":{"$error":"#VALUE!"}},false,""]
[null,null,{"$f":"IFERROR(VLOOKUP(B39, RemediationUnits!$B$6:$C$48,2, FALSE),\"\")","v":""},null,null,"",null,null,null,null,"",false,{"$f":"INDEX(EWEMs!$F$5:$F$29,MATCH(D39,EWEMs!$X$5:$X$29,0))","v":{"$error":"#N/A"}},"not bath","not kitchen",{"$f":"VLOOKUP(LEFT(D39,(FIND(\" \",D39,1)-1))*1,EWEMs!$B$5:$D$29,3,FALSE)","v":{"$error":"#VALUE!"}},false,""]
[null,null,{"$f":"IFERROR(VLOOKUP(B40, RemediationUnits!$B$6:$C$48,2, FALSE),\"\")","v":""},null,null,"",null,null,null,null,"",false,{"$f":"INDEX(EWEMs!$F$5:$F$29,MATCH(D40,EWEMs!$X$5:$X$29,0))","v":{"$error":"#N/A"}},"not bath","not kitchen",{"$f":"VLOOKUP(LEFT(D40,(FIND(\" \",D40,1)-1))*1,EWEMs!$B$5:$D$29,3,FALSE)","v":{"$error":"#VALUE!"}},false,""]
[null,null,{"$f":"IFERROR(VLOOKUP(B41, RemediationUnits!$B$6:$C$48,2, FALSE),\"\")","v":""},null,null,"",null,null,null,null,"",false,{"$f":"INDEX(EWEMs!$F$5:$F$29,MATCH(D41,EWEMs!$X$5:$X$29,0))","v":{"$error":"#N/A"}},"not bath","not kitchen",{"$f":"VLOOKUP(LEFT(D41,(FIND(\" \",D41,1)-1))*1,EWEMs!$B$5:$D$29,3,FALSE)","v":{"$error":"#VALUE!"}},false,""]
[null,null,{"$f":"IFERROR(VLOOKUP(B42, RemediationUnits!$B$6:$C$48,2, FALSE),\"\")","v":""},null,null,"",null,null,null,null,"",false,{"$f":"INDEX(EWEMs!$F$5:$F$29,MATCH(D42,EWEMs!$X$5:$X$29,0))","v":{"$error":"#N/A"}},"not bath","not kitchen",{"$f":"VLOOKUP(LEFT(D42,(FIND(\" \",D42,1)-1))*1,EWEMs!$B$5:$D$29,3,FALSE)","v":{"$error":"#VALUE!"}},false,""]
[null,null,{"$f":"IFERROR(VLOOKUP(B43, RemediationUnits!$B$6:$C$48,2, FALSE),\"\")","v":""},null,null,"",null,null,null,null,"",false,{"$f":"INDEX(EWEMs!$F$5:$F$29,MATCH(D43,EWEMs!$X$5:$X$29,0))","v":{"$error":"#N/A"}},"not bath","not kitchen",{"$f":"VLOOKUP(LEFT(D43,(FIND(\" \",D43,1)-1))*1,EWEMs!$B$5:$D$29,3,FALSE)","v":{"$error":"#VALUE!"}},false,""]
[null,null,{"$f":"IFERROR(VLOOKUP(B44, RemediationUnits!$B$6:$C$48,2, FALSE),\"\")","v":""},null,null,"",null,null,null,null,"",false,{"$f":"INDEX(EWEMs!$F$5:$F$29,MATCH(D44,EWEMs!$X$5:$X$29,0))","v":{"$error":"#N/A"}},"not bath","not kitchen",{"$f":"VLOOKUP(LEFT(D44,(FIND(\" \",D44,1)-1))*1,EWEMs!$B$5:$D$29,3,FALSE)","v":{"$error":"#VALUE!"}},false,""]
[null,null,{"$f":"IFERROR(VLOOKUP(B45, RemediationUnits!$B$6:$C$48,2, FALSE),\"\")","v":""},null,null,"",null,null,null,null,"",false,{"$f":"INDEX(EWEMs!$F$5:$F$29,MATCH(D45,EWEMs!$X$5:$X$29,0))","v":{"$error":"#N/A"}},"not bath","not kitchen",{"$f":"VLOOKUP(LEFT(D45,(FIND(\" \",D45,1)-1))*1,EWEMs!$B$5:$D$29,3,FALSE)","v":{"$error":"#VALUE!"}},false,""]
[null,null,{"$f":"IFERROR(VLOOKUP(B46, RemediationUnits!$B$6:$C$48,2, FALSE),\"\")","v":""},null,null,"",null,null,null,null,"",false,{"$f":"INDEX(EWEMs!$F$5:$F$29,MATCH(D46,EWEMs!$X$5:$X$29,0))","v":{"$error":"#N/A"}},"not bath","not kitchen",{"$f":"VLOOKUP(LEFT(D46,(FIND(\" \",D46,1)-1))*1,EWEMs!$B$5:$D$29,3,FALSE)","v":{"$error":"#VALUE!"}},false,""]
[null,null,{"$f":"IFERROR(VLOOKUP(B47, RemediationUnits!$B$6:$C$48,2, FALSE),\"\")","v":""},null,null,"",null,null,null,null,"",false,{"$f":"INDEX(EWEMs!$F$5:$F$29,MATCH(D47,EWEMs!$X$5:$X$29,0))","v":{"$error":"#N/A"}},"not bath","not kitchen",{"$f":"VLOOKUP(LEFT(D47,(FIND(\" \",D47,1)-1))*1,EWEMs!$B$5:$D$29,3,FALSE)","v":{"$error":"#VALUE!"}},false,""]
[null,null,{"$f":"IFERROR(VLOOKUP(B48, RemediationUnits!$B$6:$C$48,2, FALSE),\"\")","v":""},null,null,"",null,null,null,null,"",false,{"$f":"INDEX(EWEMs!$F$5:$F$29,MATCH(D48,EWEMs!$X$5:$X$29,0))","v":{"$error":"#N/A"}},"not bath","not kitchen",{"$f":"VLOOKUP(LEFT(D48,(FIND(\" \",D48,1)-1))*1,EWEMs!$B$5:$D$29,3,FALSE)","v":{"$error":"#VALUE!"}},false,""]
[null,null,{"$f":"IFERROR(VLOOKUP(B49, RemediationUnits!$B$6:$C$48,2, FALSE),\"\")","v":""},null,null,"",null,null,null,null,"",false,{"$f":"INDEX(EWEMs!$F$5:$F$29,MATCH(D49,EWEMs!$X$5:$X$29,0))","v":{"$error":"#N/A"}},"not bath","not kitchen",{"$f":"VLOOKUP(LEFT(D49,(FIND(\" \",D49,1)-1))*1,EWEMs!$B$5:$D$29,3,FALSE)","v":{"$error":"#VALUE!"}},false,""]
[null,null,{"$f":"IFERROR(VLOOKUP(B50, RemediationUnits!$B$6:$C$48,2, FALSE),\"\")","v":""},null,null,"",null,null,null,null,"",false,{"$f":"INDEX(EWEMs!$F$5:$F$29,MATCH(D50,EWEMs!$X$5:$X$29,0))","v":{"$error":"#N/A"}},"not bath","not kitchen",{"$f":"VLOOKUP(LEFT(D50,(FIND(\" \",D50,1)-1))*1,EWEMs!$B$5:$D$29,3,FALSE)","v":{"$error":"#VALUE!"}},false,""]
[null,null,{"$f":"IFERROR(VLOOKUP(B51, RemediationUnits!$B$6:$C$48,2, FALSE),\"\")","v":""},null,null,"",null,null,null,null,"",false,{"$f":"INDEX(EWEMs!$F$5:$F$29,MATCH(D51,EWEMs!$X$5:$X$29,0))","v":{"$error":"#N/A"}},"not bath","not kitchen",{"$f":"VLOOKUP(LEFT(D51,(FIND(\" \",D51,1)-1))*1,EWEMs!$B$5:$D$29,3,FALSE)","v":{"$error":"#VALUE!"}},false,""]
[null,null,{"$f":"IFERROR(VLOOKUP(B52, RemediationUnits!$B$6:$C$48,2, FALSE),\"\")","v":""},null,null,"",null,null,null,null,"",false,{"$f":"INDEX(EWEMs!$F$5:$F$29,MATCH(D52,EWEMs!$X$5:$X$29,0))","v":{"$error":"#N/A"}},"not bath","not kitchen",{"$f":"VLOOKUP(LEFT(D52,(FIND(\" \",D52,1)-1))*1,EWEMs!$B$5:$D$29,3,FALSE)","v":{"$error":"#VALUE!"}},false,""]
[null,null,{"$f":"IFERROR(VLOOKUP(B53, RemediationUnits!$B$6:$C$48,2, FALSE),\"\")","v":""},null,null,"",null,null,null,null,"",false,{"$f":"INDEX(EWEMs!$F$5:$F$29,MATCH(D53,EWEMs!$X$5:$X$29,0))","v":{"$error":"#N/A"}},"not bath","not kitchen",{"$f":"VLOOKUP(LEFT(D53,(FIND(\" \",D53,1)-1))*1,EWEMs!$B$5:$D$29,3,FALSE)","v":{"$error":"#VALUE!"}},false,""]
[null,null,{"$f":"IFERROR(VLOOKUP(B54, RemediationUnits!$B$6:$C$48,2, FALSE),\"\")","v":""},null,null,"",null,null,null,null,"",false,{"$f":"INDEX(EWEMs!$F$5:$F$29,MATCH(D54,EWEMs!$X$5:$X$29,0))","v":{"$error":"#N/A"}},"not bath","not kitchen",{"$f":"VLOOKUP(LEFT(D54,(FIND(\" \",D54,1)-1))*1,EWEMs!$B$5:$D$29,3,FALSE)","v":{"$error":"#VALUE!"}},false,""]
[null,null,{"$f":"IFERROR(VLOOKUP(B55, RemediationUnits!$B$6:$C$48,2, FALSE),\"\")","v":""},null,null,"",null,null,null,null,"",false,{"$f":"INDEX(EWEMs!$F$5:$F$29,MATCH(D55,EWEMs!$X$5:$X$29,0))","v":{"$error":"#N/A"}},"not bath","not kitchen",{"$f":"VLOOKUP(LEFT(D55,(FIND(\" \",D55,1)-1))*1,EWEMs!$B$5:$D$29,3,FALSE)","v":{"$error":"#VALUE!"}},false,""]
[null,null,{"$f":"IFERROR(VLOOKUP(B56, RemediationUnits!$B$6:$C$48,2, FALSE),\"\")","v":""},null,null,"",null,null,null,null,"",false,{"$f":"INDEX(EWEMs!$F$5:$F$29,MATCH(D56,EWEMs!$X$5:$X$29,0))","v":{"$error":"#N/A"}},"not bath","not kitchen",{"$f":"VLOOKUP(LEFT(D56,(FIND(\" \",D56,1)-1))*1,EWEMs!$B$5:$D$29,3,FALSE)","v":{"$error":"#VALUE!"}},false,""]
[null,null,{"$f":"IFERROR(VLOOKUP(B57, RemediationUnits!$B$6:$C$48,2, FALSE),\"\")","v":""},null,null,"",null,null,null,null,"",false,{"$f":"INDEX(EWEMs!$F$5:$F$29,MATCH(D57,EWEMs!$X$5:$X$29,0))","v":{"$error":"#N/A"}},"not bath","not kitchen",{"$f":"VLOOKUP(LEFT(D57,(FIND(\" \",D57,1)-1))*1,EWEMs!$B$5:$D$29,3,FALSE)","v":{"$error":"#VALUE!"}},false,""]
[null,null,{"$f":"IFERROR(VLOOKUP(B58, RemediationUnits!$B$6:$C$48,2, FALSE),\"\")","v":""},null,null,"",null,null,null,null,"",false,{"$f":"INDEX(EWEMs!$F$5:$F$29,MATCH(D58,EWEMs!$X$5:$X$29,0))","v":{"$error":"#N/A"}},"not bath","not kitchen",{"$f":"VLOOKUP(LEFT(D58,(FIND(\" \",D58,1)-1))*1,EWEMs!$B$5:$D$29,3,FALSE)","v":{"$error":"#VALUE!"}},false,""]
[null,null,{"$f":"IFERROR(VLOOKUP(B59, RemediationUnits!$B$6:$C$48,2, FALSE),\"\")","v":""},null,null,"",null,null,null,null,"",false,{"$f":"INDEX(EWEMs!$F$5:$F$29,MATCH(D59,EWEMs!$X$5:$X$29,0))","v":{"$error":"#N/A"}},"not bath","not kitchen",{"$f":"VLOOKUP(LEFT(D59,(FIND(\" \",D59,1)-1))*1,EWEMs!$B$5:$D$29,3,FALSE)","v":{"$error":"#VALUE!"}},false,""]
[null,null,{"$f":"IFERROR(VLOOKUP(B60, RemediationUnits!$B$6:$C$48,2, FALSE),\"\")","v":""},null,null,"",null,null,null,null,"",false,{"$f":"INDEX(EWEMs!$F$5:$F$29,MATCH(D60,EWEMs!$X$5:$X$29,0))","v":{"$error":"#N/A"}},"not bath","not kitchen",{"$f":"VLOOKUP(LEFT(D60,(FIND(\" \",D60,1)-1))*1,EWEMs!$B$5:$D$29,3,FALSE)","v":{"$error":"#VALUE!"}},false,""]
[null,null,{"$f":"IFERROR(VLOOKUP(B61, RemediationUnits!$B$6:$C$48,2, FALSE),\"\")","v":""},null,null,"",null,null,null,null,"",false,{"$f":"INDEX(EWEMs!$F$5:$F$29,MATCH(D61,EWEMs!$X$5:$X$29,0))","v":{"$error":"#N/A"}},"not bath","not kitchen",{"$f":"VLOOKUP(LEFT(D61,(FIND(\" \",D61,1)-1))*1,EWEMs!$B$5:$D$29,3,FALSE)","v":{"$error":"#VALUE!"}},false,""]
[null,null,{"$f":"IFERROR(VLOOKUP(B62, RemediationUnits!$B$6:$C$48,2, FALSE),\"\")","v":""},null,null,"",null,null,null,null,"",false,{"$f":"INDEX(EWEMs!$F$5:$F$29,MATCH(D62,EWEMs!$X$5:$X$29,0))","v":{"$error":"#N/A"}},"not bath","not kitchen",{"$f":"VLOOKUP(LEFT(D62,(FIND(\" \",D62,1)-1))*1,EWEMs!$B$5:$D$29,3,FALSE)","v":{"$error":"#VALUE!"}},false,""]
[null,null,{"$f":"IFERROR(VLOOKUP(B63, RemediationUnits!$B$6:$C$48,2, FALSE),\"\")","v":""},null,null,"",null,null,null,null,"",false,{"$f":"INDEX(EWEMs!$F$5:$F$29,MATCH(D63,EWEMs!$X$5:$X$29,0))","v":{"$error":"#N/A"}},"not bath","not kitchen",{"$f":"VLOOKUP(LEFT(D63,(FIND(\" \",D63,1)-1))*1,EWEMs!$B$5:$D$29,3,FALSE)","v":{"$error":"#VALUE!"}},false,""]
[null,null,{"$f":"IFERROR(VLOOKUP(B64, RemediationUnits!$B$6:$C$48,2, FALSE),\"\")","v":""},null,null,"",null,null,null,null,"",false,{"$f":"INDEX(EWEMs!$F$5:$F$29,MATCH(D64,EWEMs!$X$5:$X$29,0))","v":{"$error":"#N/A"}},"not bath","not kitchen",{"$f":"VLOOKUP(LEFT(D64,(FIND(\" \",D64,1)-1))*1,EWEMs!$B$5:$D$29,3,FALSE)","v":{"$error":"#VALUE!"}},false,""]
[null,null,{"$f":"IFERROR(VLOOKUP(B65, RemediationUnits!$B$6:$C$48,2, FALSE),\"\")","v":""},null,null,"",null,null,null,null,"",false,{"$f":"INDEX(EWEMs!$F$5:$F$29,MATCH(D65,EWEMs!$X$5:$X$29,0))","v":{"$error":"#N/A"}},"not bath","not kitchen",{"$f":"VLOOKUP(LEFT(D65,(FIND(\" \",D65,1)-1))*1,EWEMs!$B$5:$D$29,3,FALSE)","v":{"$error":"#VALUE!"}},false,""]
[null,null,{"$f":"IFERROR(VLOOKUP(B66, RemediationUnits!$B$6:$C$48,2, FALSE),\"\")","v":""},null,null,"",null,null,null,null,"",false,{"$f":"INDEX(EWEMs!$F$5:$F$29,MATCH(D66,EWEMs!$X$5:$X$29,0))","v":{"$error":"#N/A"}},"not bath","not kitchen",{"$f":"VLOOKUP(LEFT(D66,(FIND(\" \",D66,1)-1))*1,EWEMs!$B$5:$D$29,3,FALSE)","v":{"$error":"#VALUE!"}},false,""]
[null,null,{"$f":"IFERROR(VLOOKUP(B67, RemediationUnits!$B$6:$C$48,2, FALSE),\"\")","v":""},null,null,"",null,null,null,null,"",false,{"$f":"INDEX(EWEMs!$F$5:$F$29,MATCH(D67,EWEMs!$X$5:$X$29,0))","v":{"$error":"#N/A"}},"not bath","not kitchen",{"$f":"VLOOKUP(LEFT(D67,(FIND(\" \",D67,1)-1))*1,EWEMs!$B$5:$D$29,3,FALSE)","v":{"$error":"#VALUE!"}},false,""]
[null,null,{"$f":"IFERROR(VLOOKUP(B68, RemediationUnits!$B$6:$C$48,2, FALSE),\"\")","v":""},null,null,"",null,null,null,null,"",false,{"$f":"INDEX(EWEMs!$F$5:$F$29,MATCH(D68,EWEMs!$X$5:$X$29,0))","v":{"$error":"#N/A"}},"not bath","not kitchen",{"$f":"VLOOKUP(LEFT(D68,(FIND(\" \",D68,1)-1))*1,EWEMs!$B$5:$D$29,3,FALSE)","v":{"$error":"#VALUE!"}},false,""]
[null,null,{"$f":"IFERROR(VLOOKUP(B69, RemediationUnits!$B$6:$C$48,2, FALSE),\"\")","v":""},null,null,"",null,null,null,null,"",false,{"$f":"INDEX(EWEMs!$F$5:$F$29,MATCH(D69,EWEMs!$X$5:$X$29,0))","v":{"$error":"#N/A"}},"not bath","not kitchen",{"$f":"VLOOKUP(LEFT(D69,(FIND(\" \",D69,1)-1))*1,EWEMs!$B$5:$D$29,3,FALSE)","v":{"$error":"#VALUE!"}},false,""]
[null,null,{"$f":"IFERROR(VLOOKUP(B70, RemediationUnits!$B$6:$C$48,2, FALSE),\"\")","v":""},null,null,"",null,null,null,null,"",false,{"$f":"INDEX(EWEMs!$F$5:$F$29,MATCH(D70,EWEMs!$X$5:$X$29,0))","v":{"$error":"#N/A"}},"not bath","not kitchen",{"$f":"VLOOKUP(LEFT(D70,(FIND(\" \",D70,1)-1))*1,EWEMs!$B$5:$D$29,3,FALSE)","v":{"$error":"#VALUE!"}},false,""]
[null,null,{"$f":"IFERROR(VLOOKUP(B71, RemediationUnits!$B$6:$C$48,2, FALSE),\"\")","v":""},null,null,{"$f":"IF(AND(L71=TRUE,D71<>\"\"), IF(ISNUMBER(SEARCH(\"compliant\", N71)),N71,IF(ISNUMBER(SEARCH(\"compliant\",O71)),O71,IF(E71<=M71,\"compliant\",\"noncompliant\"))),\"\")","v":""},null,null,null,null,{"$f":"IF(OR(F71=\"compliant\",F71=\"noncompliant\"),D71&F71,D71&G71)","v":""},{"$f":"IF(OR(ISNUMBER(FIND(\"low-flow\",D71,1)), ISNUMBER(FIND(\"low-flush\",D71,1))),TRUE,FALSE)","v":false},{"$f":"INDEX(EWEMs!$F$5:$F$29,MATCH(D71,EWEMs!$X$5:$X$29,0))","v":{"$error":"#N/A"}},{"$f":"IF(OR(ISNUMBER(SEARCH(\"bath faucets\", D71)), AND( ISNUMBER(SEARCH(\"fixture\", D71)),ISNUMBER(SEARCH(\"bath\",P71)) )), IF(M71<=1, IF(AND(E71>=M71, E71<=1), \"compliant\", \"noncompliant\"), IF(AND(E71>=1, E71<=M71),\"compliant\",\"noncompliant\")), \"not bath\")","v":"not bath"},{"$f":"IF(OR(ISNUMBER(SEARCH(\"kitchen faucets\",D71)),AND(ISNUMBER(SEARCH(\"fixtures\",D71)),ISNUMBER(SEARCH(\"kitchen\",P71)))),IF(M71<=1.5,IF(AND(E71>=1, E71<=1.5),\"compliant\",\"noncompliant\"),IF(AND(E71>=1.5,E71<=M71),\"compliant\",\"noncompliant\")),\"not kitchen\"\n)","v":"not kitchen"},{"$f":"VLOOKUP(LEFT(D71,(FIND(\" \",D71,1)-1))*1,EWEMs!$B$5:$D$29,3,FALSE)","v":{"$error":"#VALUE!"}},false,{"$f":"IF(OR(F71=\"noncompliant\", G71=\"noncompliant\"), IFERROR(LEFT(D71, LEN(_xlfn.TEXTBEFORE(D71,\"-\",-1)))&\" (Space: \"&B71&\")\", \"\"), \"\")","v":""}]
[null,null,{"$f":"IFERROR(VLOOKUP(B72, RemediationUnits!$B$6:$C$48,2, FALSE),\"\")","v":""},null,null,"",null,null,null,null,"",false,{"$f":"INDEX(EWEMs!$F$5:$F$29,MATCH(D72,EWEMs!$X$5:$X$29,0))","v":{"$error":"#N/A"}},"not bath","not kitchen",{"$f":"VLOOKUP(LEFT(D72,(FIND(\" \",D72,1)-1))*1,EWEMs!$B$5:$D$29,3,FALSE)","v":{"$error":"#VALUE!"}},{"$f":"IF(OR(B72<>\"\",D72<>\"\", E72<>\"\",G72<>\"\",H72<>\"\"), IF(L72=TRUE, IF(OR(B72=\"\", D72=\"\", E72=\"\", H72=\"\"), TRUE, FALSE), IF(OR(B72=\"\", D72=\"\", G72=\"\", H72=\"\"), TRUE, FALSE)), FALSE)","v":false},""]
[null,null,{"$f":"IFERROR(VLOOKUP(B73, RemediationUnits!$B$6:$C$48,2, FALSE),\"\")","v":""},null,null,"",null,null,null,null,"",false,{"$f":"INDEX(EWEMs!$F$5:$F$29,MATCH(D73,EWEMs!$X$5:$X$29,0))","v":{"$error":"#N/A"}},"not bath","not kitchen",{"$f":"VLOOKUP(LEFT(D73,(FIND(\" \",D73,1)-1))*1,EWEMs!$B$5:$D$29,3,FALSE)","v":{"$error":"#VALUE!"}},false,""]
[null,null,{"$f":"IFERROR(VLOOKUP(B74, RemediationUnits!$B$6:$C$48,2, FALSE),\"\")","v":""},null,null,"",null,null,null,null,"",false,{"$f":"INDEX(EWEMs!$F$5:$F$29,MATCH(D74,EWEMs!$X$5:$X$29,0))","v":{"$error":"#N/A"}},"not bath","not kitchen",{"$f":"VLOOKUP(LEFT(D74,(FIND(\" \",D74,1)-1))*1,EWEMs!$B$5:$D$29,3,FALSE)","v":{"$error":"#VALUE!"}},false,""]
[null,null,{"$f":"IFERROR(VLOOKUP(B75, RemediationUnits!$B$6:$C$48,2, FALSE),\"\")","v":""},null,null,"",null,null,null,null,"",false,{"$f":"INDEX(EWEMs!$F$5:$F$29,MATCH(D75,EWEMs!$X$5:$X$29,0))","v":{"$error":"#N/A"}},"not bath","not kitchen",{"$f":"VLOOKUP(LEFT(D75,(FIND(\" \",D75,1)-1))*1,EWEMs!$B$5:$D$29,3,FALSE)","v":{"$error":"#VALUE!"}},false,""]
[null,null,{"$f":"IFERROR(VLOOKUP(B76, RemediationUnits!$B$6:$C$48,2, FALSE),\"\")","v":""},null,null,"",null,null,null,null,"",false,{"$f":"INDEX(EWEMs!$F$5:$F$29,MATCH(D76,EWEMs!$X$5:$X$29,0))","v":{"$error":"#N/A"}},"not bath","not kitchen",{"$f":"VLOOKUP(LEFT(D76,(FIND(\" \",D76,1)-1))*1,EWEMs!$B$5:$D$29,3,FALSE)","v":{"$error":"#VALUE!"}},false,""]
[null,null,{"$f":"IFERROR(VLOOKUP(B77, RemediationUnits!$B$6:$C$48,2, FALSE),\"\")","v":""},null,null,"",null,null,null,null,"",false,{"$f":"INDEX(EWEMs!$F$5:$F$29,MATCH(D77,EWEMs!$X$5:$X$29,0))","v":{"$error":"#N/A"}},"not bath","not kitchen",{"$f":"VLOOKUP(LEFT(D77,(FIND(\" \",D77,1)-1))*1,EWEMs!$B$5:$D$29,3,FALSE)","v":{"$error":"#VALUE!"}},false,""]
[null,null,{"$f":"IFERROR(VLOOKUP(B78, RemediationUnits!$B$6:$C$48,2, FALSE),\"\")","v":""},null,null,"",null,null,null,null,"",false,{"$f":"INDEX(EWEMs!$F$5:$F$29,MATCH(D78,EWEMs!$X$5:$X$29,0))","v":{"$error":"#N/A"}},"not bath","not kitchen",{"$f":"VLOOKUP(LEFT(D78,(FIND(\" \",D78,1)-1))*1,EWEMs!$B$5:$D$29,3,FALSE)","v":{"$error":"#VALUE!"}},false,""]
[null,null,{"$f":"IFERROR(VLOOKUP(B79, RemediationUnits!$B$6:$C$48,2, FALSE),\"\")","v":""},null,null,"",null,null,null,null,"",false,{"$f":"INDEX(EWEMs!$F$5:$F$29,MATCH(D79,EWEMs!$X$5:$X$29,0))","v":{"$error":"#N/A"}},"not bath","not kitchen",{"$f":"VLOOKUP(LEFT(D79,(FIND(\" \",D79,1)-1))*1,EWEMs!$B$5:$D$29,3,FALSE)","v":{"$error":"#VALUE!"}},false,""]
[null,null,{"$f":"IFERROR(VLOOKUP(B80, RemediationUnits!$B$6:$C$48,2, FALSE),\"\")","v":""},null,null,"",null,null,null,null,"",false,{"$f":"INDEX(EWEMs!$F$5:$F$29,MATCH(D80,EWEMs!$X$5:$X$29,0))","v":{"$error":"#N/A"}},"not bath","not kitchen",{"$f":"VLOOKUP(LEFT(D80,(FIND(\" \",D80,1)-1))*1,EWEMs!$B$5:$D$29,3,FALSE)","v":{"$error":"#VALUE!"}},false,""]
[null,null,{"$f":"IFERROR(VLOOKUP(B81, RemediationUnits!$B$6:$C$48,2, FALSE),\"\")","v":""},null,null,"",null,null,null,null,"",false,{"$f":"INDEX(EWEMs!$F$5:$F$29,MATCH(D81,EWEMs!$X$5:$X$29,0))","v":{"$error":"#N/A"}},"not bath","not kitchen",{"$f":"VLOOKUP(LEFT(D81,(FIND(\" \",D81,1)-1))*1,EWEMs!$B$5:$D$29,3,FALSE)","v":{"$error":"#VALUE!"}},false,""]
[null,null,{"$f":"IFERROR(VLOOKUP(B82, RemediationUnits!$B$6:$C$48,2, FALSE),\"\")","v":""},null,null,"",null,null,null,null,"",false,{"$f":"INDEX(EWEMs!$F$5:$F$29,MATCH(D82,EWEMs!$X$5:$X$29,0))","v":{"$error":"#N/A"}},"not bath","not kitchen",{"$f":"VLOOKUP(LEFT(D82,(FIND(\" \",D82,1)-1))*1,EWEMs!$B$5:$D$29,3,FALSE)","v":{"$error":"#VALUE!"}},false,""]
[null,null,{"$f":"IFERROR(VLOOKUP(B83, RemediationUnits!$B$6:$C$48,2, FALSE),\"\")","v":""},null,null,"",null,null,null,null,"",false,{"$f":"INDEX(EWEMs!$F$5:$F$29,MATCH(D83,EWEMs!$X$5:$X$29,0))","v":{"$error":"#N/A"}},"not bath","not kitchen",{"$f":"VLOOKUP(LEFT(D83,(FIND(\" \",D83,1)-1))*1,EWEMs!$B$5:$D$29,3,FALSE)","v":{"$error":"#VALUE!"}},false,""]
[null,null,{"$f":"IFERROR(VLOOKUP(B84, RemediationUnits!$B$6:$C$48,2, FALSE),\"\")","v":""},null,null,"",null,null,null,null,"",false,{"$f":"INDEX(EWEMs!$F$5:$F$29,MATCH(D84,EWEMs!$X$5:$X$29,0))","v":{"$error":"#N/A"}},"not bath","not kitchen",{"$f":"VLOOKUP(LEFT(D84,(FIND(\" \",D84,1)-1))*1,EWEMs!$B$5:$D$29,3,FALSE)","v":{"$error":"#VALUE!"}},false,""]
[null,null,{"$f":"IFERROR(VLOOKUP(B85, RemediationUnits!$B$6:$C$48,2, FALSE),\"\")","v":""},null,null,"",null,null,null,null,"",false,{"$f":"INDEX(EWEMs!$F$5:$F$29,MATCH(D85,EWEMs!$X$5:$X$29,0))","v":{"$error":"#N/A"}},"not bath","not kitchen",{"$f":"VLOOKUP(LEFT(D85,(FIND(\" \",D85,1)-1))*1,EWEMs!$B$5:$D$29,3,FALSE)","v":{"$error":"#VALUE!"}},false,""]
[null,null,{"$f":"IFERROR(VLOOKUP(B86, RemediationUnits!$B$6:$C$48,2, FALSE),\"\")","v":""},null,null,"",null,null,null,null,"",false,{"$f":"INDEX(EWEMs!$F$5:$F$29,MATCH(D86,EWEMs!$X$5:$X$29,0))","v":{"$error":"#N/A"}},"not bath","not kitchen",{"$f":"VLOOKUP(LEFT(D86,(FIND(\" \",D86,1)-1))*1,EWEMs!$B$5:$D$29,3,FALSE)","v":{"$error":"#VALUE!"}},false,""]
[null,null,{"$f":"IFERROR(VLOOKUP(B87, RemediationUnits!$B$6:$C$48,2, FALSE),\"\")","v":""},null,null,"",null,null,null,null,"",false,{"$f":"INDEX(EWEMs!$F$5:$F$29,MATCH(D87,EWEMs!$X$5:$X$29,0))","v":{"$error":"#N/A"}},"not bath","not kitchen",{"$f":"VLOOKUP(LEFT(D87,(FIND(\" \",D87,1)-1))*1,EWEMs!$B$5:$D$29,3,FALSE)","v":{"$error":"#VALUE!"}},false,""]
[null,null,{"$f":"IFERROR(VLOOKUP(B88, RemediationUnits!$B$6:$C$48,2, FALSE),\"\")","v":""},null,null,"",null,null,null,null,"",false,{"$f":"INDEX(EWEMs!$F$5:$F$29,MATCH(D88,EWEMs!$X$5:$X$29,0))","v":{"$error":"#N/A"}},"not bath","not kitchen",{"$f":"VLOOKUP(LEFT(D88,(FIND(\" \",D88,1)-1))*1,EWEMs!$B$5:$D$29,3,FALSE)","v":{"$error":"#VALUE!"}},false,""]
[null,null,{"$f":"IFERROR(VLOOKUP(B89, RemediationUnits!$B$6:$C$48,2, FALSE),\"\")","v":""},null,null,"",null,null,null,null,"",false,{"$f":"INDEX(EWEMs!$F$5:$F$29,MATCH(D89,EWEMs!$X$5:$X$29,0))","v":{"$error":"#N/A"}},"not bath","not kitchen",{"$f":"VLOOKUP(LEFT(D89,(FIND(\" \",D89,1)-1))*1,EWEMs!$B$5:$D$29,3,FALSE)","v":{"$error":"#VALUE!"}},false,""]
[null,null,{"$f":"IFERROR(VLOOKUP(B90, RemediationUnits!$B$6:$C$48,2, FALSE),\"\")","v":""},null,null,"",null,null,null,null,"",false,{"$f":"INDEX(EWEMs!$F$5:$F$29,MATCH(D90,EWEMs!$X$5:$X$29,0))","v":{"$error":"#N/A"}},"not bath","not kitchen",{"$f":"VLOOKUP(LEFT(D90,(FIND(\" \",D90,1)-1))*1,EWEMs!$B$5:$D$29,3,FALSE)","v":{"$error":"#VALUE!"}},false,""]
[null,null,{"$f":"IFERROR(VLOOKUP(B91, RemediationUnits!$B$6:$C$48,2, FALSE),\"\")","v":""},null,null,"",null,null,null,null,"",false,{"$f":"INDEX(EWEMs!$F$5:$F$29,MATCH(D91,EWEMs!$X$5:$X$29,0))","v":{"$error":"#N/A"}},"not bath","not kitchen",{"$f":"VLOOKUP(LEFT(D91,(FIND(\" \",D91,1)-1))*1,EWEMs!$B$5:$D$29,3,FALSE)","v":{"$error":"#VALUE!"}},false,""]
[null,null,{"$f":"IFERROR(VLOOKUP(B92, RemediationUnits!$B$6:$C$48,2, FALSE),\"\")","v":""},null,null,"",null,null,null,null,"",false,{"$f":"INDEX(EWEMs!$F$5:$F$29,MATCH(D92,EWEMs!$X$5:$X$29,0))","v":{"$error":"#N/A"}},"not bath","not kitchen",{"$f":"VLOOKUP(LEFT(D92,(FIND(\" \",D92,1)-1))*1,EWEMs!$B$5:$D$29,3,FALSE)","v":{"$error":"#VALUE!"}},false,""]
[null,null,{"$f":"IFERROR(VLOOKUP(B93, RemediationUnits!$B$6:$C$48,2, FALSE),\"\")","v":""},null,null,"",null,null,null,null,"",false,{"$f":"INDEX(EWEMs!$F$5:$F$29,MATCH(D93,EWEMs!$X$5:$X$29,0))","v":{"$error":"#N/A"}},"not bath","not kitchen",{"$f":"VLOOKUP(LEFT(D93,(FIND(\" \",D93,1)-1))*1,EWEMs!$B$5:$D$29,3,FALSE)","v":{"$error":"#VALUE!"}},false,""]
[null,null,{"$f":"IFERROR(VLOOKUP(B94, RemediationUnits!$B$6:$C$48,2, FALSE),\"\")","v":""},null,null,"",null,null,null,null,"",false,{"$f":"INDEX(EWEMs!$F$5:$F$29,MATCH(D94,EWEMs!$X$5:$X$29,0))","v":{"$error":"#N/A"}},"not bath","not kitchen",{"$f":"VLOOKUP(LEFT(D94,(FIND(\" \",D94,1)-1))*1,EWEMs!$B$5:$D$29,3,FALSE)","v":{"$error":"#VALUE!"}},false,""]
[null,null,{"$f":"IFERROR(VLOOKUP(B95, RemediationUnits!$B$6:$C$48,2, FALSE),\"\")","v":""},null,null,"",null,null,null,null,"",false,{"$f":"INDEX(EWEMs!$F$5:$F$29,MATCH(D95,EWEMs!$X$5:$X$29,0))","v":{"$error":"#N/A"}},"not bath","not kitchen",{"$f":"VLOOKUP(LEFT(D95,(FIND(\" \",D95,1)-1))*1,EWEMs!$B$5:$D$29,3,FALSE)","v":{"$error":"#VALUE!"}},false,""]
[null,null,{"$f":"IFERROR(VLOOKUP(B96, RemediationUnits!$B$6:$C$48,2, FALSE),\"\")","v":""},null,null,"",null,null,null,null,"",false,{"$f":"INDEX(EWEMs!$F$5:$F$29,MATCH(D96,EWEMs!$X$5:$X$29,0))","v":{"$error":"#N/A"}},"not bath","not kitchen",{"$f":"VLOOKUP(LEFT(D96,(FIND(\" \",D96,1)-1))*1,EWEMs!$B$5:$D$29,3,FALSE)","v":{"$error":"#VALUE!"}},false,""]
[null,null,{"$f":"IFERROR(VLOOKUP(B97, RemediationUnits!$B$6:$C$48,2, FALSE),\"\")","v":""},null,null,"",null,null,null,null,"",false,{"$f":"INDEX(EWEMs!$F$5:$F$29,MATCH(D97,EWEMs!$X$5:$X$29,0))","v":{"$error":"#N/A"}},"not bath","not kitchen",{"$f":"VLOOKUP(LEFT(D97,(FIND(\" \",D97,1)-1))*1,EWEMs!$B$5:$D$29,3,FALSE)","v":{"$error":"#VALUE!"}},false,""]
[null,null,{"$f":"IFERROR(VLOOKUP(B98, RemediationUnits!$B$6:$C$48,2, FALSE),\"\")","v":""},null,null,"",null,null,null,null,"",false,{"$f":"INDEX(EWEMs!$F$5:$F$29,MATCH(D98,EWEMs!$X$5:$X$29,0))","v":{"$error":"#N/A"}},"not bath","not kitchen",{"$f":"VLOOKUP(LEFT(D98,(FIND(\" \",D98,1)-1))*1,EWEMs!$B$5:$D$29,3,FALSE)","v":{"$error":"#VALUE!"}},false,""]
[null,null,{"$f":"IFERROR(VLOOKUP(B99, RemediationUnits!$B$6:$C$48,2, FALSE),\"\")","v":""},null,null,"",null,null,null,null,"",false,{"$f":"INDEX(EWEMs!$F$5:$F$29,MATCH(D99,EWEMs!$X$5:$X$29,0))","v":{"$error":"#N/A"}},"not bath","not kitchen",{"$f":"VLOOKUP(LEFT(D99,(FIND(\" \",D99,1)-1))*1,EWEMs!$B$5:$D$29,3,FALSE)","v":{"$error":"#VALUE!"}},false,""]
[null,null,{"$f":"IFERROR(VLOOKUP(B100, RemediationUnits!$B$6:$C$48,2, FALSE),\"\")","v":""},null,null,"",null,null,null,null,"",false,{"$f":"INDEX(EWEMs!$F$5:$F$29,MATCH(D100,EWEMs!$X$5:$X$29,0))","v":{"$error":"#N/A"}},"not bath","not kitchen",{"$f":"VLOOKUP(LEFT(D100,(FIND(\" \",D100,1)-1))*1,EWEMs!$B$5:$D$29,3,FALSE)","v":{"$error":"#VALUE!"}},false,""]
[null,null,{"$f":"IFERROR(VLOOKUP(B101, RemediationUnits!$B$6:$C$48,2, FALSE),\"\")","v":""},null,null,"",null,null,null,null,"",false,{"$f":"INDEX(EWEMs!$F$5:$F$29,MATCH(D101,EWEMs!$X$5:$X$29,0))","v":{"$error":"#N/A"}},"not bath","not kitchen",{"$f":"VLOOKUP(LEFT(D101,(FIND(\" \",D101,1)-1))*1,EWEMs!$B$5:$D$29,3,FALSE)","v":{"$error":"#VALUE!"}},false,""]
[null,null,{"$f":"IFERROR(VLOOKUP(B102, RemediationUnits!$B$6:$C$48,2, FALSE),\"\")","v":""},null,null,"",null,null,null,null,"",false,{"$f":"INDEX(EWEMs!$F$5:$F$29,MATCH(D102,EWEMs!$X$5:$X$29,0))","v":{"$error":"#N/A"}},"not bath","not kitchen",{"$f":"VLOOKUP(LEFT(D102,(FIND(\" \",D102,1)-1))*1,EWEMs!$B$5:$D$29,3,FALSE)","v":{"$error":"#VALUE!"}},false,""]
[null,null,{"$f":"IFERROR(VLOOKUP(B103, RemediationUnits!$B$6:$C$48,2, FALSE),\"\")","v":""},null,null,"",null,null,null,null,"",false,{"$f":"INDEX(EWEMs!$F$5:$F$29,MATCH(D103,EWEMs!$X$5:$X$29,0))","v":{"$error":"#N/A"}},"not bath","not kitchen",{"$f":"VLOOKUP(LEFT(D103,(FIND(\" \",D103,1)-1))*1,EWEMs!$B$5:$D$29,3,FALSE)","v":{"$error":"#VALUE!"}},false,""]
[null,null,{"$f":"IFERROR(VLOOKUP(B104, RemediationUnits!$B$6:$C$48,2, FALSE),\"\")","v":""},null,null,"",null,null,null,null,"",false,{"$f":"INDEX(EWEMs!$F$5:$F$29,MATCH(D104,EWEMs!$X$5:$X$29,0))","v":{"$error":"#N/A"}},"not bath","not kitchen",{"$f":"VLOOKUP(LEFT(D104,(FIND(\" \",D104,1)-1))*1,EWEMs!$B$5:$D$29,3,FALSE)","v":{"$error":"#VALUE!"}},false,""]
[null,null,{"$f":"IFERROR(VLOOKUP(B105, RemediationUnits!$B$6:$C$48,2, FALSE),\"\")","v":""},null,null,"",null,null,null,null,"",false,{"$f":"INDEX(EWEMs!$F$5:$F$29,MATCH(D105,EWEMs!$X$5:$X$29,0))","v":{"$error":"#N/A"}},"not bath","not kitchen",{"$f":"VLOOKUP(LEFT(D105,(FIND(\" \",D105,1)-1))*1,EWEMs!$B$5:$D$29,3,FALSE)","v":{"$error":"#VALUE!"}},false,""]
[null,null,{"$f":"IFERROR(VLOOKUP(B106, RemediationUnits!$B$6:$C$48,2, FALSE),\"\")","v":""},null,null,"",null,null,null,null,"",false,{"$f":"INDEX(EWEMs!$F$5:$F$29,MATCH(D106,EWEMs!$X$5:$X$29,0))","v":{"$error":"#N/A"}},"not bath","not kitchen",{"$f":"VLOOKUP(LEFT(D106,(FIND(\" \",D106,1)-1))*1,EWEMs!$B$5:$D$29,3,FALSE)","v":{"$error":"#VALUE!"}},false,""]
[null,null,{"$f":"IFERROR(VLOOKUP(B107, RemediationUnits!$B$6:$C$48,2, FALSE),\"\")","v":""},null,null,"",null,null,null,null,"",false,{"$f":"INDEX(EWEMs!$F$5:$F$29,MATCH(D107,EWEMs!$X$5:$X$29,0))","v":{"$error":"#N/A"}},"not bath","not kitchen",{"$f":"VLOOKUP(LEFT(D107,(FIND(\" \",D107,1)-1))*1,EWEMs!$B$5:$D$29,3,FALSE)","v":{"$error":"#VALUE!"}},false,""]
[null,null,{"$f":"IFERROR(VLOOKUP(B108, RemediationUnits!$B$6:$C$48,2, FALSE),\"\")","v":""},null,null,"",null,null,null,null,"",false,{"$f":"INDEX(EWEMs!$F$5:$F$29,MATCH(D108,EWEMs!$X$5:$X$29,0))","v":{"$error":"#N/A"}},"not bath","not kitchen",{"$f":"VLOOKUP(LEFT(D108,(FIND(\" \",D108,1)-1))*1,EWEMs!$B$5:$D$29,3,FALSE)","v":{"$error":"#VALUE!"}},false,""]
[null,null,{"$f":"IFERROR(VLOOKUP(B109, RemediationUnits!$B$6:$C$48,2, FALSE),\"\")","v":""},null,null,"",null,null,null,null,"",false,{"$f":"INDEX(EWEMs!$F$5:$F$29,MATCH(D109,EWEMs!$X$5:$X$29,0))","v":{"$error":"#N/A"}},"not bath","not kitchen",{"$f":"VLOOKUP(LEFT(D109,(FIND(\" \",D109,1)-1))*1,EWEMs!$B$5:$D$29,3,FALSE)","v":{"$error":"#VALUE!"}},false,""]
[null,null,{"$f":"IFERROR(VLOOKUP(B110, RemediationUnits!$B$6:$C$48,2, FALSE),\"\")","v":""},null,null,"",null,null,null,null,"",false,{"$f":"INDEX(EWEMs!$F$5:$F$29,MATCH(D110,EWEMs!$X$5:$X$29,0))","v":{"$error":"#N/A"}},"not bath","not kitchen",{"$f":"VLOOKUP(LEFT(D110,(FIND(\" \",D110,1)-1))*1,EWEMs!$B$5:$D$29,3,FALSE)","v":{"$error":"#VALUE!"}},false,""]
[null,null,{"$f":"IFERROR(VLOOKUP(B111, RemediationUnits!$B$6:$C$48,2, FALSE),\"\")","v":""},null,null,"",null,null,null,null,"",false,{"$f":"INDEX(EWEMs!$F$5:$F$29,MATCH(D111,EWEMs!$X$5:$X$29,0))","v":{"$error":"#N/A"}},"not bath","not kitchen",{"$f":"VLOOKUP(LEFT(D111,(FIND(\" \",D111,1)-1))*1,EWEMs!$B$5:$D$29,3,FALSE)","v":{"$error":"#VALUE!"}},false,""]
[null,null,{"$f":"IFERROR(VLOOKUP(B112, RemediationUnits!$B$6:$C$48,2, FALSE),\"\")","v":""},null,null,"",null,null,null,null,"",false,{"$f":"INDEX(EWEMs!$F$5:$F$29,MATCH(D112,EWEMs!$X$5:$X$29,0))","v":{"$error":"#N/A"}},"not bath","not kitchen",{"$f":"VLOOKUP(LEFT(D112,(FIND(\" \",D112,1)-1))*1,EWEMs!$B$5:$D$29,3,FALSE)","v":{"$error":"#VALUE!"}},false,""]
[null,null,{"$f":"IFERROR(VLOOKUP(B113, RemediationUnits!$B$6:$C$48,2, FALSE),\"\")","v":""},null,null,"",null,null,null,null,"",false,{"$f":"INDEX(EWEMs!$F$5:$F$29,MATCH(D113,EWEMs!$X$5:$X$29,0))","v":{"$error":"#N/A"}},"not bath","not kitchen",{"$f":"VLOOKUP(LEFT(D113,(FIND(\" \",D113,1)-1))*1,EWEMs!$B$5:$D$29,3,FALSE)","v":{"$error":"#VALUE!"}},false,""]
[null,null,{"$f":"IFERROR(VLOOKUP(B114, RemediationUnits!$B$6:$C$48,2, FALSE),\"\")","v":""},null,null,"",null,null,null,null,"",false,{"$f":"INDEX(EWEMs!$F$5:$F$29,MATCH(D114,EWEMs!$X$5:$X$29,0))","v":{"$error":"#N/A"}},"not bath","not kitchen",{"$f":"VLOOKUP(LEFT(D114,(FIND(\" \",D114,1)-1))*1,EWEMs!$B$5:$D$29,3,FALSE)","v":{"$error":"#VALUE!"}},false,""]
[null,null,{"$f":"IFERROR(VLOOKUP(B115, RemediationUnits!$B$6:$C$48,2, FALSE),\"\")","v":""},null,null,"",null,null,null,null,"",false,{"$f":"INDEX(EWEMs!$F$5:$F$29,MATCH(D115,EWEMs!$X$5:$X$29,0))","v":{"$error":"#N/A"}},"not bath","not kitchen",{"$f":"VLOOKUP(LEFT(D115,(FIND(\" \",D115,1)-1))*1,EWEMs!$B$5:$D$29,3,FALSE)","v":{"$error":"#VALUE!"}},false,""]
[null,null,{"$f":"IFERROR(VLOOKUP(B116, RemediationUnits!$B$6:$C$48,2, FALSE),\"\")","v":""},null,null,"",null,null,null,null,"",false,{"$f":"INDEX(EWEMs!$F$5:$F$29,MATCH(D116,EWEMs!$X$5:$X$29,0))","v":{"$error":"#N/A"}},"not bath","not kitchen",{"$f":"VLOOKUP(LEFT(D116,(FIND(\" \",D116,1)-1))*1,EWEMs!$B$5:$D$29,3,FALSE)","v":{"$error":"#VALUE!"}},false,""]
[null,null,{"$f":"IFERROR(VLOOKUP(B117, RemediationUnits!$B$6:$C$48,2, FALSE),\"\")","v":""},null,null,"",null,null,null,null,"",false,{"$f":"INDEX(EWEMs!$F$5:$F$29,MATCH(D117,EWEMs!$X$5:$X$29,0))","v":{"$error":"#N/A"}},"not bath","not kitchen",{"$f":"VLOOKUP(LEFT(D117,(FIND(\" \",D117,1)-1))*1,EWEMs!$B$5:$D$29,3,FALSE)","v":{"$error":"#VALUE!"}},false,""]
[null,null,{"$f":"IFERROR(VLOOKUP(B118, RemediationUnits!$B$6:$C$48,2, FALSE),\"\")","v":""},null,null,"",null,null,null,null,"",false,{"$f":"INDEX(EWEMs!$F$5:$F$29,MATCH(D118,EWEMs!$X$5:$X$29,0))","v":{"$error":"#N/A"}},"not bath","not kitchen",{"$f":"VLOOKUP(LEFT(D118,(FIND(\" \",D118,1)-1))*1,EWEMs!$B$5:$D$29,3,FALSE)","v":{"$error":"#VALUE!"}},false,""]
[null,null,{"$f":"IFERROR(VLOOKUP(B119, RemediationUnits!$B$6:$C$48,2, FALSE),\"\")","v":""},null,null,"",null,null,null,null,"",false,{"$f":"INDEX(EWEMs!$F$5:$F$29,MATCH(D119,EWEMs!$X$5:$X$29,0))","v":{"$error":"#N/A"}},"not bath","not kitchen",{"$f":"VLOOKUP(LEFT(D119,(FIND(\" \",D119,1)-1))*1,EWEMs!$B$5:$D$29,3,FALSE)","v":{"$error":"#VALUE!"}},false,""]
[null,null,{"$f":"IFERROR(VLOOKUP(B120, RemediationUnits!$B$6:$C$48,2, FALSE),\"\")","v":""},null,null,"",null,null,null,null,"",false,{"$f":"INDEX(EWEMs!$F$5:$F$29,MATCH(D120,EWEMs!$X$5:$X$29,0))","v":{"$error":"#N/A"}},"not bath","not kitchen",{"$f":"VLOOKUP(LEFT(D120,(FIND(\" \",D120,1)-1))*1,EWEMs!$B$5:$D$29,3,FALSE)","v":{"$error":"#VALUE!"}},false,""]
[null,null,{"$f":"IFERROR(VLOOKUP(B121, RemediationUnits!$B$6:$C$48,2, FALSE),\"\")","v":""},null,null,"",null,null,null,null,"",false,{"$f":"INDEX(EWEMs!$F$5:$F$29,MATCH(D121,EWEMs!$X$5:$X$29,0))","v":{"$error":"#N/A"}},"not bath","not kitchen",{"$f":"VLOOKUP(LEFT(D121,(FIND(\" \",D121,1)-1))*1,EWEMs!$B$5:$D$29,3,FALSE)","v":{"$error":"#VALUE!"}},false,""]
[null,null,{"$f":"IFERROR(VLOOKUP(B122, RemediationUnits!$B$6:$C$48,2, FALSE),\"\")","v":""},null,null,"",null,null,null,null,"",false,{"$f":"INDEX(EWEMs!$F$5:$F$29,MATCH(D122,EWEMs!$X$5:$X$29,0))","v":{"$error":"#N/A"}},"not bath","not kitchen",{"$f":"VLOOKUP(LEFT(D122,(FIND(\" \",D122,1)-1))*1,EWEMs!$B$5:$D$29,3,FALSE)","v":{"$error":"#VALUE!"}},false,""]
[null,null,{"$f":"IFERROR(VLOOKUP(B123, RemediationUnits!$B$6:$C$48,2, FALSE),\"\")","v":""},null,null,"",null,null,null,null,"",false,{"$f":"INDEX(EWEMs!$F$5:$F$29,MATCH(D123,EWEMs!$X$5:$X$29,0))","v":{"$error":"#N/A"}},"not bath","not kitchen",{"$f":"VLOOKUP(LEFT(D123,(FIND(\" \",D123,1)-1))*1,EWEMs!$B$5:$D$29,3,FALSE)","v":{"$error":"#VALUE!"}},false,""]
[null,null,{"$f":"IFERROR(VLOOKUP(B124, RemediationUnits!$B$6:$C$48,2, FALSE),\"\")","v":""},null,null,"",null,null,null,null,"",false,{"$f":"INDEX(EWEMs!$F$5:$F$29,MATCH(D124,EWEMs!$X$5:$X$29,0))","v":{"$error":"#N/A"}},"not bath","not kitchen",{"$f":"VLOOKUP(LEFT(D124,(FIND(\" \",D124,1)-1))*1,EWEMs!$B$5:$D$29,3,FALSE)","v":{"$error":"#VALUE!"}},false,""]
[null,null,{"$f":"IFERROR(VLOOKUP(B125, RemediationUnits!$B$6:$C$48,2, FALSE),\"\")","v":""},null,null,"",null,null,null,null,"",false,{"$f":"INDEX(EWEMs!$F$5:$F$29,MATCH(D125,EWEMs!$X$5:$X$29,0))","v":{"$error":"#N/A"}},"not bath","not kitchen",{"$f":"VLOOKUP(LEFT(D125,(FIND(\" \",D125,1)-1))*1,EWEMs!$B$5:$D$29,3,FALSE)","v":{"$error":"#VALUE!"}},false,""]
[null,null,{"$f":"IFERROR(VLOOKUP(B126, RemediationUnits!$B$6:$C$48,2, FALSE),\"\")","v":""},null,null,"",null,null,null,null,"",false,{"$f":"INDEX(EWEMs!$F$5:$F$29,MATCH(D126,EWEMs!$X$5:$X$29,0))","v":{"$error":"#N/A"}},"not bath","not kitchen",{"$f":"VLOOKUP(LEFT(D126,(FIND(\" \",D126,1)-1))*1,EWEMs!$B$5:$D$29,3,FALSE)","v":{"$error":"#VALUE!"}},false,""]
[null,null,{"$f":"IFERROR(VLOOKUP(B127, RemediationUnits!$B$6:$C$48,2, FALSE),\"\")","v":""},null,null,"",null,null,null,null,"",false,{"$f":"INDEX(EWEMs!$F$5:$F$29,MATCH(D127,EWEMs!$X$5:$X$29,0))","v":{"$error":"#N/A"}},"not bath","not kitchen",{"$f":"VLOOKUP(LEFT(D127,(FIND(\" \",D127,1)-1))*1,EWEMs!$B$5:$D$29,3,FALSE)","v":{"$error":"#VALUE!"}},false,""]
[null,null,{"$f":"IFERROR(VLOOKUP(B128, RemediationUnits!$B$6:$C$48,2, FALSE),\"\")","v":""},null,null,"",null,null,null,null,"",false,{"$f":"INDEX(EWEMs!$F$5:$F$29,MATCH(D128,EWEMs!$X$5:$X$29,0))","v":{"$error":"#N/A"}},"not bath","not kitchen",{"$f":"VLOOKUP(LEFT(D128,(FIND(\" \",D128,1)-1))*1,EWEMs!$B$5:$D$29,3,FALSE)","v":{"$error":"#VALUE!"}},false,""]
[null,null,{"$f":"IFERROR(VLOOKUP(B129, RemediationUnits!$B$6:$C$48,2, FALSE),\"\")","v":""},null,null,"",null,null,null,null,"",false,{"$f":"INDEX(EWEMs!$F$5:$F$29,MATCH(D129,EWEMs!$X$5:$X$29,0))","v":{"$error":"#N/A"}},"not bath","not kitchen",{"$f":"VLOOKUP(LEFT(D129,(FIND(\" \",D129,1)-1))*1,EWEMs!$B$5:$D$29,3,FALSE)","v":{"$error":"#VALUE!"}},false,""]
[null,null,{"$f":"IFERROR(VLOOKUP(B130, RemediationUnits!$B$6:$C$48,2, FALSE),\"\")","v":""},null,null,"",null,null,null,null,"",false,{"$f":"INDEX(EWEMs!$F$5:$F$29,MATCH(D130,EWEMs!$X$5:$X$29,0))","v":{"$error":"#N/A"}},"not bath","not kitchen",{"$f":"VLOOKUP(LEFT(D130,(FIND(\" \",D130,1)-1))*1,EWEMs!$B$5:$D$29,3,FALSE)","v":{"$error":"#VALUE!"}},false,""]
[null,null,{"$f":"IFERROR(VLOOKUP(B131, RemediationUnits!$B$6:$C$48,2, FALSE),\"\")","v":""},null,null,"",null,null,null,null,"",false,{"$f":"INDEX(EWEMs!$F$5:$F$29,MATCH(D131,EWEMs!$X$5:$X$29,0))","v":{"$error":"#N/A"}},"not bath","not kitchen",{"$f":"VLOOKUP(LEFT(D131,(FIND(\" \",D131,1)-1))*1,EWEMs!$B$5:$D$29,3,FALSE)","v":{"$error":"#VALUE!"}},false,""]
[null,null,{"$f":"IFERROR(VLOOKUP(B132, RemediationUnits!$B$6:$C$48,2, FALSE),\"\")","v":""},null,null,"",null,null,null,null,"",false,{"$f":"INDEX(EWEMs!$F$5:$F$29,MATCH(D132,EWEMs!$X$5:$X$29,0))","v":{"$error":"#N/A"}},"not bath","not kitchen",{"$f":"VLOOKUP(LEFT(D132,(FIND(\" \",D132,1)-1))*1,EWEMs!$B$5:$D$29,3,FALSE)","v":{"$error":"#VALUE!"}},false,""]
[null,null,{"$f":"IFERROR(VLOOKUP(B133, RemediationUnits!$B$6:$C$48,2, FALSE),\"\")","v":""},null,null,"",null,null,null,null,"",false,{"$f":"INDEX(EWEMs!$F$5:$F$29,MATCH(D133,EWEMs!$X$5:$X$29,0))","v":{"$error":"#N/A"}},"not bath","not kitchen",{"$f":"VLOOKUP(LEFT(D133,(FIND(\" \",D133,1)-1))*1,EWEMs!$B$5:$D$29,3,FALSE)","v":{"$error":"#VALUE!"}},false,""]
[null,null,{"$f":"IFERROR(VLOOKUP(B134, RemediationUnits!$B$6:$C$48,2, FALSE),\"\")","v":""},null,null,"",null,null,null,null,"",false,{"$f":"INDEX(EWEMs!$F$5:$F$29,MATCH(D134,EWEMs!$X$5:$X$29,0))","v":{"$error":"#N/A"}},"not bath","not kitchen",{"$f":"VLOOKUP(LEFT(D134,(FIND(\" \",D134,1)-1))*1,EWEMs!$B$5:$D$29,3,FALSE)","v":{"$error":"#VALUE!"}},false,""]
[null,null,{"$f":"IFERROR(VLOOKUP(B135, RemediationUnits!$B$6:$C$48,2, FALSE),\"\")","v":""},null,null,{"$f":"IF(AND(L135=TRUE,D135<>\"\"), IF(ISNUMBER(SEARCH(\"compliant\", N135)),N135,IF(ISNUMBER(SEARCH(\"compliant\",O135)),O135,IF(E135<=M135,\"compliant\",\"noncompliant\"))),\"\")","v":""},null,null,null,null,{"$f":"IF(OR(F135=\"compliant\",F135=\"noncompliant\"),D135&F135,D135&G135)","v":""},{"$f":"IF(OR(ISNUMBER(FIND(\"low-flow\",D135,1)), ISNUMBER(FIND(\"low-flush\",D135,1))),TRUE,FALSE)","v":false},{"$f":"INDEX(EWEMs!$F$5:$F$29,MATCH(D135,EWEMs!$X$5:$X$29,0))","v":{"$error":"#N/A"}},{"$f":"IF(OR(ISNUMBER(SEARCH(\"bath faucets\", D135)), AND( ISNUMBER(SEARCH(\"fixture\", D135)),ISNUMBER(SEARCH(\"bath\",P135)) )), IF(M135<=1, IF(AND(E135>=M135, E135<=1), \"compliant\", \"noncompliant\"), IF(AND(E135>=1, E135<=M135),\"compliant\",\"noncompliant\")), \"not bath\")","v":"not bath"},{"$f":"IF(OR(ISNUMBER(SEARCH(\"kitchen faucets\",D135)),AND(ISNUMBER(SEARCH(\"fixtures\",D135)),ISNUMBER(SEARCH(\"kitchen\",P135)))),IF(M135<=1.5,IF(AND(E135>=1, E135<=1.5),\"compliant\",\"noncompliant\"),IF(AND(E135>=1.5,E135<=M135),\"compliant\",\"noncompliant\")),\"not kitchen\"\n)","v":"not kitchen"},{"$f":"VLOOKUP(LEFT(D135,(FIND(\" \",D135,1)-1))*1,EWEMs!$B$5:$D$29,3,FALSE)","v":{"$error":"#VALUE!"}},false,{"$f":"IF(OR(F135=\"noncompliant\", G135=\"noncompliant\"), IFERROR(LEFT(D135, LEN(_xlfn.TEXTBEFORE(D135,\"-\",-1)))&\" (Space: \"&B135&\")\", \"\"), \"\")","v":""}]
[null,null,{"$f":"IFERROR(VLOOKUP(B136, RemediationUnits!$B$6:$C$48,2, FALSE),\"\")","v":""},null,null,"",null,null,null,null,"",false,{"$f":"INDEX(EWEMs!$F$5:$F$29,MATCH(D136,EWEMs!$X$5:$X$29,0))","v":{"$error":"#N/A"}},"not bath","not kitchen",{"$f":"VLOOKUP(LEFT(D136,(FIND(\" \",D136,1)-1))*1,EWEMs!$B$5:$D$29,3,FALSE)","v":{"$error":"#VALUE!"}},{"$f":"IF(OR(B136<>\"\",D136<>\"\", E136<>\"\",G136<>\"\",H136<>\"\"), IF(L136=TRUE, IF(OR(B136=\"\", D136=\"\", E136=\"\", H136=\"\"), TRUE, FALSE), IF(OR(B136=\"\", D136=\"\", G136=\"\", H136=\"\"), TRUE, FALSE)), FALSE)","v":false},""]
[null,null,{"$f":"IFERROR(VLOOKUP(B137, RemediationUnits!$B$6:$C$48,2, FALSE),\"\")","v":""},null,null,"",null,null,null,null,"",false,{"$f":"INDEX(EWEMs!$F$5:$F$29,MATCH(D137,EWEMs!$X$5:$X$29,0))","v":{"$error":"#N/A"}},"not bath","not kitchen",{"$f":"VLOOKUP(LEFT(D137,(FIND(\" \",D137,1)-1))*1,EWEMs!$B$5:$D$29,3,FALSE)","v":{"$error":"#VALUE!"}},false,""]
[null,null,{"$f":"IFERROR(VLOOKUP(B138, RemediationUnits!$B$6:$C$48,2, FALSE),\"\")","v":""},null,null,"",null,null,null,null,"",false,{"$f":"INDEX(EWEMs!$F$5:$F$29,MATCH(D138,EWEMs!$X$5:$X$29,0))","v":{"$error":"#N/A"}},"not bath","not kitchen",{"$f":"VLOOKUP(LEFT(D138,(FIND(\" \",D138,1)-1))*1,EWEMs!$B$5:$D$29,3,FALSE)","v":{"$error":"#VALUE!"}},false,""]
[null,null,{"$f":"IFERROR(VLOOKUP(B139, RemediationUnits!$B$6:$C$48,2, FALSE),\"\")","v":""},null,null,"",null,null,null,null,"",false,{"$f":"INDEX(EWEMs!$F$5:$F$29,MATCH(D139,EWEMs!$X$5:$X$29,0))","v":{"$error":"#N/A"}},"not bath","not kitchen",{"$f":"VLOOKUP(LEFT(D139,(FIND(\" \",D139,1)-1))*1,EWEMs!$B$5:$D$29,3,FALSE)","v":{"$error":"#VALUE!"}},false,""]
[null,null,{"$f":"IFERROR(VLOOKUP(B140, RemediationUnits!$B$6:$C$48,2, FALSE),\"\")","v":""},null,null,"",null,null,null,null,"",false,{"$f":"INDEX(EWEMs!$F$5:$F$29,MATCH(D140,EWEMs!$X$5:$X$29,0))","v":{"$error":"#N/A"}},"not bath","not kitchen",{"$f":"VLOOKUP(LEFT(D140,(FIND(\" \",D140,1)-1))*1,EWEMs!$B$5:$D$29,3,FALSE)","v":{"$error":"#VALUE!"}},false,""]
[null,null,{"$f":"IFERROR(VLOOKUP(B141, RemediationUnits!$B$6:$C$48,2, FALSE),\"\")","v":""},null,null,"",null,null,null,null,"",false,{"$f":"INDEX(EWEMs!$F$5:$F$29,MATCH(D141,EWEMs!$X$5:$X$29,0))","v":{"$error":"#N/A"}},"not bath","not kitchen",{"$f":"VLOOKUP(LEFT(D141,(FIND(\" \",D141,1)-1))*1,EWEMs!$B$5:$D$29,3,FALSE)","v":{"$error":"#VALUE!"}},false,""]
[null,null,{"$f":"IFERROR(VLOOKUP(B142, RemediationUnits!$B$6:$C$48,2, FALSE),\"\")","v":""},null,null,"",null,null,null,null,"",false,{"$f":"INDEX(EWEMs!$F$5:$F$29,MATCH(D142,EWEMs!$X$5:$X$29,0))","v":{"$error":"#N/A"}},"not bath","not kitchen",{"$f":"VLOOKUP(LEFT(D142,(FIND(\" \",D142,1)-1))*1,EWEMs!$B$5:$D$29,3,FALSE)","v":{"$error":"#VALUE!"}},false,""]
[null,null,{"$f":"IFERROR(VLOOKUP(B143, RemediationUnits!$B$6:$C$48,2, FALSE),\"\")","v":""},null,null,"",null,null,null,null,"",false,{"$f":"INDEX(EWEMs!$F$5:$F$29,MATCH(D143,EWEMs!$X$5:$X$29,0))","v":{"$error":"#N/A"}},"not bath","not kitchen",{"$f":"VLOOKUP(LEFT(D143,(FIND(\" \",D143,1)-1))*1,EWEMs!$B$5:$D$29,3,FALSE)","v":{"$error":"#VALUE!"}},false,""]
[null,null,{"$f":"IFERROR(VLOOKUP(B144, RemediationUnits!$B$6:$C$48,2, FALSE),\"\")","v":""},null,null,"",null,null,null,null,"",false,{"$f":"INDEX(EWEMs!$F$5:$F$29,MATCH(D144,EWEMs!$X$5:$X$29,0))","v":{"$error":"#N/A"}},"not bath","not kitchen",{"$f":"VLOOKUP(LEFT(D144,(FIND(\" \",D144,1)-1))*1,EWEMs!$B$5:$D$29,3,FALSE)","v":{"$error":"#VALUE!"}},false,""]
[null,null,{"$f":"IFERROR(VLOOKUP(B145, RemediationUnits!$B$6:$C$48,2, FALSE),\"\")","v":""},null,null,"",null,null,null,null,"",false,{"$f":"INDEX(EWEMs!$F$5:$F$29,MATCH(D145,EWEMs!$X$5:$X$29,0))","v":{"$error":"#N/A"}},"not bath","not kitchen",{"$f":"VLOOKUP(LEFT(D145,(FIND(\" \",D145,1)-1))*1,EWEMs!$B$5:$D$29,3,FALSE)","v":{"$error":"#VALUE!"}},false,""]
[null,null,{"$f":"IFERROR(VLOOKUP(B146, RemediationUnits!$B$6:$C$48,2, FALSE),\"\")","v":""},null,null,"",null,null,null,null,"",false,{"$f":"INDEX(EWEMs!$F$5:$F$29,MATCH(D146,EWEMs!$X$5:$X$29,0))","v":{"$error":"#N/A"}},"not bath","not kitchen",{"$f":"VLOOKUP(LEFT(D146,(FIND(\" \",D146,1)-1))*1,EWEMs!$B$5:$D$29,3,FALSE)","v":{"$error":"#VALUE!"}},false,""]
[null,null,{"$f":"IFERROR(VLOOKUP(B147, RemediationUnits!$B$6:$C$48,2, FALSE),\"\")","v":""},null,null,"",null,null,null,null,"",false,{"$f":"INDEX(EWEMs!$F$5:$F$29,MATCH(D147,EWEMs!$X$5:$X$29,0))","v":{"$error":"#N/A"}},"not bath","not kitchen",{"$f":"VLOOKUP(LEFT(D147,(FIND(\" \",D147,1)-1))*1,EWEMs!$B$5:$D$29,3,FALSE)","v":{"$error":"#VALUE!"}},false,""]
[null,null,{"$f":"IFERROR(VLOOKUP(B148, RemediationUnits!$B$6:$C$48,2, FALSE),\"\")","v":""},null,null,"",null,null,null,null,"",false,{"$f":"INDEX(EWEMs!$F$5:$F$29,MATCH(D148,EWEMs!$X$5:$X$29,0))","v":{"$error":"#N/A"}},"not bath","not kitchen",{"$f":"VLOOKUP(LEFT(D148,(FIND(\" \",D148,1)-1))*1,EWEMs!$B$5:$D$29,3,FALSE)","v":{"$error":"#VALUE!"}},false,""]
[null,null,{"$f":"IFERROR(VLOOKUP(B149, RemediationUnits!$B$6:$C$48,2, FALSE),\"\")","v":""},null,null,"",null,null,null,null,"",false,{"$f":"INDEX(EWEMs!$F$5:$F$29,MATCH(D149,EWEMs!$X$5:$X$29,0))","v":{"$error":"#N/A"}},"not bath","not kitchen",{"$f":"VLOOKUP(LEFT(D149,(FIND(\" \",D149,1)-1))*1,EWEMs!$B$5:$D$29,3,FALSE)","v":{"$error":"#VALUE!"}},false,""]
[null,null,{"$f":"IFERROR(VLOOKUP(B150, RemediationUnits!$B$6:$C$48,2, FALSE),\"\")","v":""},null,null,"",null,null,null,null,"",false,{"$f":"INDEX(EWEMs!$F$5:$F$29,MATCH(D150,EWEMs!$X$5:$X$29,0))","v":{"$error":"#N/A"}},"not bath","not kitchen",{"$f":"VLOOKUP(LEFT(D150,(FIND(\" \",D150,1)-1))*1,EWEMs!$B$5:$D$29,3,FALSE)","v":{"$error":"#VALUE!"}},false,""]
[null,null,{"$f":"IFERROR(VLOOKUP(B151, RemediationUnits!$B$6:$C$48,2, FALSE),\"\")","v":""},null,null,"",null,null,null,null,"",false,{"$f":"INDEX(EWEMs!$F$5:$F$29,MATCH(D151,EWEMs!$X$5:$X$29,0))","v":{"$error":"#N/A"}},"not bath","not kitchen",{"$f":"VLOOKUP(LEFT(D151,(FIND(\" \",D151,1)-1))*1,EWEMs!$B$5:$D$29,3,FALSE)","v":{"$error":"#VALUE!"}},false,""]
[null,null,{"$f":"IFERROR(VLOOKUP(B152, RemediationUnits!$B$6:$C$48,2, FALSE),\"\")","v":""},null,null,"",null,null,null,null,"",false,{"$f":"INDEX(EWEMs!$F$5:$F$29,MATCH(D152,EWEMs!$X$5:$X$29,0))","v":{"$error":"#N/A"}},"not bath","not kitchen",{"$f":"VLOOKUP(LEFT(D152,(FIND(\" \",D152,1)-1))*1,EWEMs!$B$5:$D$29,3,FALSE)","v":{"$error":"#VALUE!"}},false,""]
[null,null,{"$f":"IFERROR(VLOOKUP(B153, RemediationUnits!$B$6:$C$48,2, FALSE),\"\")","v":""},null,null,"",null,null,null,null,"",false,{"$f":"INDEX(EWEMs!$F$5:$F$29,MATCH(D153,EWEMs!$X$5:$X$29,0))","v":{"$error":"#N/A"}},"not bath","not kitchen",{"$f":"VLOOKUP(LEFT(D153,(FIND(\" \",D153,1)-1))*1,EWEMs!$B$5:$D$29,3,FALSE)","v":{"$error":"#VALUE!"}},false,""]
[null,null,{"$f":"IFERROR(VLOOKUP(B154, RemediationUnits!$B$6:$C$48,2, FALSE),\"\")","v":""},null,null,"",null,null,null,null,"",false,{"$f":"INDEX(EWEMs!$F$5:$F$29,MATCH(D154,EWEMs!$X$5:$X$29,0))","v":{"$error":"#N/A"}},"not bath","not kitchen",{"$f":"VLOOKUP(LEFT(D154,(FIND(\" \",D154,1)-1))*1,EWEMs!$B$5:$D$29,3,FALSE)","v":{"$error":"#VALUE!"}},false,""]
[null,null,{"$f":"IFERROR(VLOOKUP(B155, RemediationUnits!$B$6:$C$48,2, FALSE),\"\")","v":""},null,null,"",null,null,null,null,"",false,{"$f":"INDEX(EWEMs!$F$5:$F$29,MATCH(D155,EWEMs!$X$5:$X$29,0))","v":{"$error":"#N/A"}},"not bath","not kitchen",{"$f":"VLOOKUP(LEFT(D155,(FIND(\" \",D155,1)-1))*1,EWEMs!$B$5:$D$29,3,FALSE)","v":{"$error":"#VALUE!"}},false,""]
[null,null,{"$f":"IFERROR(VLOOKUP(B156, RemediationUnits!$B$6:$C$48,2, FALSE),\"\")","v":""},null,null,"",null,null,null,null,"",false,{"$f":"INDEX(EWEMs!$F$5:$F$29,MATCH(D156,EWEMs!$X$5:$X$29,0))","v":{"$error":"#N/A"}},"not bath","not kitchen",{"$f":"VLOOKUP(LEFT(D156,(FIND(\" \",D156,1)-1))*1,EWEMs!$B$5:$D$29,3,FALSE)","v":{"$error":"#VALUE!"}},false,""]
[null,null,{"$f":"IFERROR(VLOOKUP(B157, RemediationUnits!$B$6:$C$48,2, FALSE),\"\")","v":""},null,null,"",null,null,null,null,"",false,{"$f":"INDEX(EWEMs!$F$5:$F$29,MATCH(D157,EWEMs!$X$5:$X$29,0))","v":{"$error":"#N/A"}},"not bath","not kitchen",{"$f":"VLOOKUP(LEFT(D157,(FIND(\" \",D157,1)-1))*1,EWEMs!$B$5:$D$29,3,FALSE)","v":{"$error":"#VALUE!"}},false,""]
[null,null,{"$f":"IFERROR(VLOOKUP(B158, RemediationUnits!$B$6:$C$48,2, FALSE),\"\")","v":""},null,null,"",null,null,null,null,"",false,{"$f":"INDEX(EWEMs!$F$5:$F$29,MATCH(D158,EWEMs!$X$5:$X$29,0))","v":{"$error":"#N/A"}},"not bath","not kitchen",{"$f":"VLOOKUP(LEFT(D158,(FIND(\" \",D158,1)-1))*1,EWEMs!$B$5:$D$29,3,FALSE)","v":{"$error":"#VALUE!"}},false,""]
[null,null,{"$f":"IFERROR(VLOOKUP(B159, RemediationUnits!$B$6:$C$48,2, FALSE),\"\")","v":""},null,null,"",null,null,null,null,"",false,{"$f":"INDEX(EWEMs!$F$5:$F$29,MATCH(D159,EWEMs!$X$5:$X$29,0))","v":{"$error":"#N/A"}},"not bath","not kitchen",{"$f":"VLOOKUP(LEFT(D159,(FIND(\" \",D159,1)-1))*1,EWEMs!$B$5:$D$29,3,FALSE)","v":{"$error":"#VALUE!"}},false,""]
[null,null,{"$f":"IFERROR(VLOOKUP(B160, RemediationUnits!$B$6:$C$48,2, FALSE),\"\")","v":""},null,null,"",null,null,null,null,"",false,{"$f":"INDEX(EWEMs!$F$5:$F$29,MATCH(D160,EWEMs!$X$5:$X$29,0))","v":{"$error":"#N/A"}},"not bath","not kitchen",{"$f":"VLOOKUP(LEFT(D160,(FIND(\" \",D160,1)-1))*1,EWEMs!$B$5:$D$29,3,FALSE)","v":{"$error":"#VALUE!"}},false,""]
[null,null,{"$f":"IFERROR(VLOOKUP(B161, RemediationUnits!$B$6:$C$48,2, FALSE),\"\")","v":""},null,null,"",null,null,null,null,"",false,{"$f":"INDEX(EWEMs!$F$5:$F$29,MATCH(D161,EWEMs!$X$5:$X$29,0))","v":{"$error":"#N/A"}},"not bath","not kitchen",{"$f":"VLOOKUP(LEFT(D161,(FIND(\" \",D161,1)-1))*1,EWEMs!$B$5:$D$29,3,FALSE)","v":{"$error":"#VALUE!"}},false,""]
[null,null,{"$f":"IFERROR(VLOOKUP(B162, RemediationUnits!$B$6:$C$48,2, FALSE),\"\")","v":""},null,null,"",null,null,null,null,"",false,{"$f":"INDEX(EWEMs!$F$5:$F$29,MATCH(D162,EWEMs!$X$5:$X$29,0))","v":{"$error":"#N/A"}},"not bath","not kitchen",{"$f":"VLOOKUP(LEFT(D162,(FIND(\" \",D162,1)-1))*1,EWEMs!$B$5:$D$29,3,FALSE)","v":{"$error":"#VALUE!"}},false,""]
[null,null,{"$f":"IFERROR(VLOOKUP(B163, RemediationUnits!$B$6:$C$48,2, FALSE),\"\")","v":""},null,null,"",null,null,null,null,"",false,{"$f":"INDEX(EWEMs!$F$5:$F$29,MATCH(D163,EWEMs!$X$5:$X$29,0))","v":{"$error":"#N/A"}},"not bath","not kitchen",{"$f":"VLOOKUP(LEFT(D163,(FIND(\" \",D163,1)-1))*1,EWEMs!$B$5:$D$29,3,FALSE)","v":{"$error":"#VALUE!"}},false,""]
[null,null,{"$f":"IFERROR(VLOOKUP(B164, RemediationUnits!$B$6:$C$48,2, FALSE),\"\")","v":""},null,null,"",null,null,null,null,"",false,{"$f":"INDEX(EWEMs!$F$5:$F$29,MATCH(D164,EWEMs!$X$5:$X$29,0))","v":{"$error":"#N/A"}},"not bath","not kitchen",{"$f":"VLOOKUP(LEFT(D164,(FIND(\" \",D164,1)-1))*1,EWEMs!$B$5:$D$29,3,FALSE)","v":{"$error":"#VALUE!"}},false,""]
[null,null,{"$f":"IFERROR(VLOOKUP(B165, RemediationUnits!$B$6:$C$48,2, FALSE),\"\")","v":""},null,null,"",null,null,null,null,"",false,{"$f":"INDEX(EWEMs!$F$5:$F$29,MATCH(D165,EWEMs!$X$5:$X$29,0))","v":{"$error":"#N/A"}},"not bath","not kitchen",{"$f":"VLOOKUP(LEFT(D165,(FIND(\" \",D165,1)-1))*1,EWEMs!$B$5:$D$29,3,FALSE)","v":{"$error":"#VALUE!"}},false,""]
[null,null,{"$f":"IFERROR(VLOOKUP(B166, RemediationUnits!$B$6:$C$48,2, FALSE),\"\")","v":""},null,null,"",null,null,null,null,"",false,{"$f":"INDEX(EWEMs!$F$5:$F$29,MATCH(D166,EWEMs!$X$5:$X$29,0))","v":{"$error":"#N/A"}},"not bath","not kitchen",{"$f":"VLOOKUP(LEFT(D166,(FIND(\" \",D166,1)-1))*1,EWEMs!$B$5:$D$29,3,FALSE)","v":{"$error":"#VALUE!"}},false,""]
[null,null,{"$f":"IFERROR(VLOOKUP(B167, RemediationUnits!$B$6:$C$48,2, FALSE),\"\")","v":""},null,null,"",null,null,null,null,"",false,{"$f":"INDEX(EWEMs!$F$5:$F$29,MATCH(D167,EWEMs!$X$5:$X$29,0))","v":{"$error":"#N/A"}},"not bath","not kitchen",{"$f":"VLOOKUP(LEFT(D167,(FIND(\" \",D167,1)-1))*1,EWEMs!$B$5:$D$29,3,FALSE)","v":{"$error":"#VALUE!"}},false,""]
[null,null,{"$f":"IFERROR(VLOOKUP(B168, RemediationUnits!$B$6:$C$48,2, FALSE),\"\")","v":""},null,null,"",null,null,null,null,"",false,{"$f":"INDEX(EWEMs!$F$5:$F$29,MATCH(D168,EWEMs!$X$5:$X$29,0))","v":{"$error":"#N/A"}},"not bath","not kitchen",{"$f":"VLOOKUP(LEFT(D168,(FIND(\" \",D168,1)-1))*1,EWEMs!$B$5:$D$29,3,FALSE)","v":{"$error":"#VALUE!"}},false,""]
[null,null,{"$f":"IFERROR(VLOOKUP(B169, RemediationUnits!$B$6:$C$48,2, FALSE),\"\")","v":""},null,null,"",null,null,null,null,"",false,{"$f":"INDEX(EWEMs!$F$5:$F$29,MATCH(D169,EWEMs!$X$5:$X$29,0))","v":{"$error":"#N/A"}},"not bath","not kitchen",{"$f":"VLOOKUP(LEFT(D169,(FIND(\" \",D169,1)-1))*1,EWEMs!$B$5:$D$29,3,FALSE)","v":{"$error":"#VALUE!"}},false,""]
[null,null,{"$f":"IFERROR(VLOOKUP(B170, RemediationUnits!$B$6:$C$48,2, FALSE),\"\")","v":""},null,null,"",null,null,null,null,"",false,{"$f":"INDEX(EWEMs!$F$5:$F$29,MATCH(D170,EWEMs!$X$5:$X$29,0))","v":{"$error":"#N/A"}},"not bath","not kitchen",{"$f":"VLOOKUP(LEFT(D170,(FIND(\" \",D170,1)-1))*1,EWEMs!$B$5:$D$29,3,FALSE)","v":{"$error":"#VALUE!"}},false,""]
[null,null,{"$f":"IFERROR(VLOOKUP(B171, RemediationUnits!$B$6:$C$48,2, FALSE),\"\")","v":""},null,null,"",null,null,null,null,"",false,{"$f":"INDEX(EWEMs!$F$5:$F$29,MATCH(D171,EWEMs!$X$5:$X$29,0))","v":{"$error":"#N/A"}},"not bath","not kitchen",{"$f":"VLOOKUP(LEFT(D171,(FIND(\" \",D171,1)-1))*1,EWEMs!$B$5:$D$29,3,FALSE)","v":{"$error":"#VALUE!"}},false,""]
[null,null,{"$f":"IFERROR(VLOOKUP(B172, RemediationUnits!$B$6:$C$48,2, FALSE),\"\")","v":""},null,null,"",null,null,null,null,"",false,{"$f":"INDEX(EWEMs!$F$5:$F$29,MATCH(D172,EWEMs!$X$5:$X$29,0))","v":{"$error":"#N/A"}},"not bath","not kitchen",{"$f":"VLOOKUP(LEFT(D172,(FIND(\" \",D172,1)-1))*1,EWEMs!$B$5:$D$29,3,FALSE)","v":{"$error":"#VALUE!"}},false,""]
[null,null,{"$f":"IFERROR(VLOOKUP(B173, RemediationUnits!$B$6:$C$48,2, FALSE),\"\")","v":""},null,null,"",null,null,null,null,"",false,{"$f":"INDEX(EWEMs!$F$5:$F$29,MATCH(D173,EWEMs!$X$5:$X$29,0))","v":{"$error":"#N/A"}},"not bath","not kitchen",{"$f":"VLOOKUP(LEFT(D173,(FIND(\" \",D173,1)-1))*1,EWEMs!$B$5:$D$29,3,FALSE)","v":{"$error":"#VALUE!"}},false,""]
[null,null,{"$f":"IFERROR(VLOOKUP(B174, RemediationUnits!$B$6:$C$48,2, FALSE),\"\")","v":""},null,null,"",null,null,null,null,"",false,{"$f":"INDEX(EWEMs!$F$5:$F$29,MATCH(D174,EWEMs!$X$5:$X$29,0))","v":{"$error":"#N/A"}},"not bath","not kitchen",{"$f":"VLOOKUP(LEFT(D174,(FIND(\" \",D174,1)-1))*1,EWEMs!$B$5:$D$29,3,FALSE)","v":{"$error":"#VALUE!"}},false,""]
[null,null,{"$f":"IFERROR(VLOOKUP(B175, RemediationUnits!$B$6:$C$48,2, FALSE),\"\")","v":""},null,null,"",null,null,null,null,"",false,{"$f":"INDEX(EWEMs!$F$5:$F$29,MATCH(D175,EWEMs!$X$5:$X$29,0))","v":{"$error":"#N/A"}},"not bath","not kitchen",{"$f":"VLOOKUP(LEFT(D175,(FIND(\" \",D175,1)-1))*1,EWEMs!$B$5:$D$29,3,FALSE)","v":{"$error":"#VALUE!"}},false,""]
[null,null,{"$f":"IFERROR(VLOOKUP(B176, RemediationUnits!$B$6:$C$48,2, FALSE),\"\")","v":""},null,null,"",null,null,null,null,"",false,{"$f":"INDEX(EWEMs!$F$5:$F$29,MATCH(D176,EWEMs!$X$5:$X$29,0))","v":{"$error":"#N/A"}},"not bath","not kitchen",{"$f":"VLOOKUP(LEFT(D176,(FIND(\" \",D176,1)-1))*1,EWEMs!$B$5:$D$29,3,FALSE)","v":{"$error":"#VALUE!"}},false,""]
[null,null,{"$f":"IFERROR(VLOOKUP(B177, RemediationUnits!$B$6:$C$48,2, FALSE),\"\")","v":""},null,null,"",null,null,null,null,"",false,{"$f":"INDEX(EWEMs!$F$5:$F$29,MATCH(D177,EWEMs!$X$5:$X$29,0))","v":{"$error":"#N/A"}},"not bath","not kitchen",{"$f":"VLOOKUP(LEFT(D177,(FIND(\" \",D177,1)-1))*1,EWEMs!$B$5:$D$29,3,FALSE)","v":{"$error":"#VALUE!"}},false,""]
[null,null,{"$f":"IFERROR(VLOOKUP(B178, RemediationUnits!$B$6:$C$48,2, FALSE),\"\")","v":""},null,null,"",null,null,null,null,"",false,{"$f":"INDEX(EWEMs!$F$5:$F$29,MATCH(D178,EWEMs!$X$5:$X$29,0))","v":{"$error":"#N/A"}},"not bath","not kitchen",{"$f":"VLOOKUP(LEFT(D178,(FIND(\" \",D178,1)-1))*1,EWEMs!$B$5:$D$29,3,FALSE)","v":{"$error":"#VALUE!"}},false,""]
[null,null,{"$f":"IFERROR(VLOOKUP(B179, RemediationUnits!$B$6:$C$48,2, FALSE),\"\")","v":""},null,null,"",null,null,null,null,"",false,{"$f":"INDEX(EWEMs!$F$5:$F$29,MATCH(D179,EWEMs!$X$5:$X$29,0))","v":{"$error":"#N/A"}},"not bath","not kitchen",{"$f":"VLOOKUP(LEFT(D179,(FIND(\" \",D179,1)-1))*1,EWEMs!$B$5:$D$29,3,FALSE)","v":{"$error":"#VALUE!"}},false,""]
[null,null,{"$f":"IFERROR(VLOOKUP(B180, RemediationUnits!$B$6:$C$48,2, FALSE),\"\")","v":""},null,null,"",null,null,null,null,"",false,{"$f":"INDEX(EWEMs!$F$5:$F$29,MATCH(D180,EWEMs!$X$5:$X$29,0))","v":{"$error":"#N/A"}},"not bath","not kitchen",{"$f":"VLOOKUP(LEFT(D180,(FIND(\" \",D180,1)-1))*1,EWEMs!$B$5:$D$29,3,FALSE)","v":{"$error":"#VALUE!"}},false,""]
[null,null,{"$f":"IFERROR(VLOOKUP(B181, RemediationUnits!$B$6:$C$48,2, FALSE),\"\")","v":""},null,null,"",null,null,null,null,"",false,{"$f":"INDEX(EWEMs!$F$5:$F$29,MATCH(D181,EWEMs!$X$5:$X$29,0))","v":{"$error":"#N/A"}},"not bath","not kitchen",{"$f":"VLOOKUP(LEFT(D181,(FIND(\" \",D181,1)-1))*1,EWEMs!$B$5:$D$29,3,FALSE)","v":{"$error":"#VALUE!"}},false,""]
[null,null,{"$f":"IFERROR(VLOOKUP(B182, RemediationUnits!$B$6:$C$48,2, FALSE),\"\")","v":""},null,null,"",null,null,null,null,"",false,{"$f":"INDEX(EWEMs!$F$5:$F$29,MATCH(D182,EWEMs!$X$5:$X$29,0))","v":{"$error":"#N/A"}},"not bath","not kitchen",{"$f":"VLOOKUP(LEFT(D182,(FIND(\" \",D182,1)-1))*1,EWEMs!$B$5:$D$29,3,FALSE)","v":{"$error":"#VALUE!"}},false,""]
[null,null,{"$f":"IFERROR(VLOOKUP(B183, RemediationUnits!$B$6:$C$48,2, FALSE),\"\")","v":""},null,null,"",null,null,null,null,"",false,{"$f":"INDEX(EWEMs!$F$5:$F$29,MATCH(D183,EWEMs!$X$5:$X$29,0))","v":{"$error":"#N/A"}},"not bath","not kitchen",{"$f":"VLOOKUP(LEFT(D183,(FIND(\" \",D183,1)-1))*1,EWEMs!$B$5:$D$29,3,FALSE)","v":{"$error":"#VALUE!"}},false,""]
[null,null,{"$f":"IFERROR(VLOOKUP(B184, RemediationUnits!$B$6:$C$48,2, FALSE),\"\")","v":""},null,null,"",null,null,null,null,"",false,{"$f":"INDEX(EWEMs!$F$5:$F$29,MATCH(D184,EWEMs!$X$5:$X$29,0))","v":{"$error":"#N/A"}},"not bath","not kitchen",{"$f":"VLOOKUP(LEFT(D184,(FIND(\" \",D184,1)-1))*1,EWEMs!$B$5:$D$29,3,FALSE)","v":{"$error":"#VALUE!"}},false,""]
[null,null,{"$f":"IFERROR(VLOOKUP(B185, RemediationUnits!$B$6:$C$48,2, FALSE),\"\")","v":""},null,null,"",null,null,null,null,"",false,{"$f":"INDEX(EWEMs!$F$5:$F$29,MATCH(D185,EWEMs!$X$5:$X$29,0))","v":{"$error":"#N/A"}},"not bath","not kitchen",{"$f":"VLOOKUP(LEFT(D185,(FIND(\" \",D185,1)-1))*1,EWEMs!$B$5:$D$29,3,FALSE)","v":{"$error":"#VALUE!"}},false,""]
[null,null,{"$f":"IFERROR(VLOOKUP(B186, RemediationUnits!$B$6:$C$48,2, FALSE),\"\")","v":""},null,null,"",null,null,null,null,"",false,{"$f":"INDEX(EWEMs!$F$5:$F$29,MATCH(D186,EWEMs!$X$5:$X$29,0))","v":{"$error":"#N/A"}},"not bath","not kitchen",{"$f":"VLOOKUP(LEFT(D186,(FIND(\" \",D186,1)-1))*1,EWEMs!$B$5:$D$29,3,FALSE)","v":{"$error":"#VALUE!"}},false,""]
[null,null,{"$f":"IFERROR(VLOOKUP(B187, RemediationUnits!$B$6:$C$48,2, FALSE),\"\")","v":""},null,null,"",null,null,null,null,"",false,{"$f":"INDEX(EWEMs!$F$5:$F$29,MATCH(D187,EWEMs!$X$5:$X$29,0))","v":{"$error":"#N/A"}},"not bath","not kitchen",{"$f":"VLOOKUP(LEFT(D187,(FIND(\" \",D187,1)-1))*1,EWEMs!$B$5:$D$29,3,FALSE)","v":{"$error":"#VALUE!"}},false,""]
[null,null,{"$f":"IFERROR(VLOOKUP(B188, RemediationUnits!$B$6:$C$48,2, FALSE),\"\")","v":""},null,null,"",null,null,null,null,"",false,{"$f":"INDEX(EWEMs!$F$5:$F$29,MATCH(D188,EWEMs!$X$5:$X$29,0))","v":{"$error":"#N/A"}},"not bath","not kitchen",{"$f":"VLOOKUP(LEFT(D188,(FIND(\" \",D188,1)-1))*1,EWEMs!$B$5:$D$29,3,FALSE)","v":{"$error":"#VALUE!"}},false,""]
[null,null,{"$f":"IFERROR(VLOOKUP(B189, RemediationUnits!$B$6:$C$48,2, FALSE),\"\")","v":""},null,null,"",null,null,null,null,"",false,{"$f":"INDEX(EWEMs!$F$5:$F$29,MATCH(D189,EWEMs!$X$5:$X$29,0))","v":{"$error":"#N/A"}},"not bath","not kitchen",{"$f":"VLOOKUP(LEFT(D189,(FIND(\" \",D189,1)-1))*1,EWEMs!$B$5:$D$29,3,FALSE)","v":{"$error":"#VALUE!"}},false,""]
[null,null,{"$f":"IFERROR(VLOOKUP(B190, RemediationUnits!$B$6:$C$48,2, FALSE),\"\")","v":""},null,null,"",null,null,null,null,"",false,{"$f":"INDEX(EWEMs!$F$5:$F$29,MATCH(D190,EWEMs!$X$5:$X$29,0))","v":{"$error":"#N/A"}},"not bath","not kitchen",{"$f":"VLOOKUP(LEFT(D190,(FIND(\" \",D190,1)-1))*1,EWEMs!$B$5:$D$29,3,FALSE)","v":{"$error":"#VALUE!"}},false,""]
[null,null,{"$f":"IFERROR(VLOOKUP(B191, RemediationUnits!$B$6:$C$48,2, FALSE),\"\")","v":""},null,null,"",null,null,null,null,"",false,{"$f":"INDEX(EWEMs!$F$5:$F$29,MATCH(D191,EWEMs!$X$5:$X$29,0))","v":{"$error":"#N/A"}},"not bath","not kitchen",{"$f":"VLOOKUP(LEFT(D191,(FIND(\" \",D191,1)-1))*1,EWEMs!$B$5:$D$29,3,FALSE)","v":{"$error":"#VALUE!"}},false,""]
[null,null,{"$f":"IFERROR(VLOOKUP(B192, RemediationUnits!$B$6:$C$48,2, FALSE),\"\")","v":""},null,null,"",null,null,null,null,"",false,{"$f":"INDEX(EWEMs!$F$5:$F$29,MATCH(D192,EWEMs!$X$5:$X$29,0))","v":{"$error":"#N/A"}},"not bath","not kitchen",{"$f":"VLOOKUP(LEFT(D192,(FIND(\" \",D192,1)-1))*1,EWEMs!$B$5:$D$29,3,FALSE)","v":{"$error":"#VALUE!"}},false,""]
[null,null,{"$f":"IFERROR(VLOOKUP(B193, RemediationUnits!$B$6:$C$48,2, FALSE),\"\")","v":""},null,null,"",null,null,null,null,"",false,{"$f":"INDEX(EWEMs!$F$5:$F$29,MATCH(D193,EWEMs!$X$5:$X$29,0))","v":{"$error":"#N/A"}},"not bath","not kitchen",{"$f":"VLOOKUP(LEFT(D193,(FIND(\" \",D193,1)-1))*1,EWEMs!$B$5:$D$29,3,FALSE)","v":{"$error":"#VALUE!"}},false,""]
[null,null,{"$f":"IFERROR(VLOOKUP(B194, RemediationUnits!$B$6:$C$48,2, FALSE),\"\")","v":""},null,null,"",null,null,null,null,"",false,{"$f":"INDEX(EWEMs!$F$5:$F$29,MATCH(D194,EWEMs!$X$5:$X$29,0))","v":{"$error":"#N/A"}},"not bath","not kitchen",{"$f":"VLOOKUP(LEFT(D194,(FIND(\" \",D194,1)-1))*1,EWEMs!$B$5:$D$29,3,FALSE)","v":{"$error":"#VALUE!"}},false,""]
[null,null,{"$f":"IFERROR(VLOOKUP(B195, RemediationUnits!$B$6:$C$48,2, FALSE),\"\")","v":""},null,null,"",null,null,null,null,"",false,{"$f":"INDEX(EWEMs!$F$5:$F$29,MATCH(D195,EWEMs!$X$5:$X$29,0))","v":{"$error":"#N/A"}},"not bath","not kitchen",{"$f":"VLOOKUP(LEFT(D195,(FIND(\" \",D195,1)-1))*1,EWEMs!$B$5:$D$29,3,FALSE)","v":{"$error":"#VALUE!"}},false,""]
[null,null,{"$f":"IFERROR(VLOOKUP(B196, RemediationUnits!$B$6:$C$48,2, FALSE),\"\")","v":""},null,null,"",null,null,null,null,"",false,{"$f":"INDEX(EWEMs!$F$5:$F$29,MATCH(D196,EWEMs!$X$5:$X$29,0))","v":{"$error":"#N/A"}},"not bath","not kitchen",{"$f":"VLOOKUP(LEFT(D196,(FIND(\" \",D196,1)-1))*1,EWEMs!$B$5:$D$29,3,FALSE)","v":{"$error":"#VALUE!"}},false,""]
[null,null,{"$f":"IFERROR(VLOOKUP(B197, RemediationUnits!$B$6:$C$48,2, FALSE),\"\")","v":""},null,null,"",null,null,null,null,"",false,{"$f":"INDEX(EWEMs!$F$5:$F$29,MATCH(D197,EWEMs!$X$5:$X$29,0))","v":{"$error":"#N/A"}},"not bath","not kitchen",{"$f":"VLOOKUP(LEFT(D197,(FIND(\" \",D197,1)-1))*1,EWEMs!$B$5:$D$29,3,FALSE)","v":{"$error":"#VALUE!"}},false,""]
[null,null,{"$f":"IFERROR(VLOOKUP(B198, RemediationUnits!$B$6:$C$48,2, FALSE),\"\")","v":""},null,null,"",null,null,null,null,"",false,{"$f":"INDEX(EWEMs!$F$5:$F$29,MATCH(D198,EWEMs!$X$5:$X$29,0))","v":{"$error":"#N/A"}},"not bath","not kitchen",{"$f":"VLOOKUP(LEFT(D198,(FIND(\" \",D198,1)-1))*1,EWEMs!$B$5:$D$29,3,FALSE)","v":{"$error":"#VALUE!"}},false,""]
[null,null,{"$f":"IFERROR(VLOOKUP(B199, RemediationUnits!$B$6:$C$48,2, FALSE),\"\")","v":""},null,null,{"$f":"IF(AND(L199=TRUE,D199<>\"\"), IF(ISNUMBER(SEARCH(\"compliant\", N199)),N199,IF(ISNUMBER(SEARCH(\"compliant\",O199)),O199,IF(E199<=M199,\"compliant\",\"noncompliant\"))),\"\")","v":""},null,null,null,null,{"$f":"IF(OR(F199=\"compliant\",F199=\"noncompliant\"),D199&F199,D199&G199)","v":""},{"$f":"IF(OR(ISNUMBER(FIND(\"low-flow\",D199,1)), ISNUMBER(FIND(\"low-flush\",D199,1))),TRUE,FALSE)","v":false},{"$f":"INDEX(EWEMs!$F$5:$F$29,MATCH(D199,EWEMs!$X$5:$X$29,0))","v":{"$error":"#N/A"}},{"$f":"IF(OR(ISNUMBER(SEARCH(\"bath faucets\", D199)), AND( ISNUMBER(SEARCH(\"fixture\", D199)),ISNUMBER(SEARCH(\"bath\",P199)) )), IF(M199<=1, IF(AND(E199>=M199, E199<=1), \"compliant\", \"noncompliant\"), IF(AND(E199>=1, E199<=M199),\"compliant\",\"noncompliant\")), \"not bath\")","v":"not bath"},{"$f":"IF(OR(ISNUMBER(SEARCH(\"kitchen faucets\",D199)),AND(ISNUMBER(SEARCH(\"fixtures\",D199)),ISNUMBER(SEARCH(\"kitchen\",P199)))),IF(M199<=1.5,IF(AND(E199>=1, E199<=1.5),\"compliant\",\"noncompliant\"),IF(AND(E199>=1.5,E199<=M199),\"compliant\",\"noncompliant\")),\"not kitchen\"\n)","v":"not kitchen"},{"$f":"VLOOKUP(LEFT(D199,(FIND(\" \",D199,1)-1))*1,EWEMs!$B$5:$D$29,3,FALSE)","v":{"$error":"#VALUE!"}},false,{"$f":"IF(OR(F199=\"noncompliant\", G199=\"noncompliant\"), IFERROR(LEFT(D199, LEN(_xlfn.TEXTBEFORE(D199,\"-\",-1)))&\" (Space: \"&B199&\")\", \"\"), \"\")","v":""}]
[null,null,{"$f":"IFERROR(VLOOKUP(B200, RemediationUnits!$B$6:$C$48,2, FALSE),\"\")","v":""},null,null,"",null,null,null,null,"",false,{"$f":"INDEX(EWEMs!$F$5:$F$29,MATCH(D200,EWEMs!$X$5:$X$29,0))","v":{"$error":"#N/A"}},"not bath","not kitchen",{"$f":"VLOOKUP(LEFT(D200,(FIND(\" \",D200,1)-1))*1,EWEMs!$B$5:$D$29,3,FALSE)","v":{"$error":"#VALUE!"}},{"$f":"IF(OR(B200<>\"\",D200<>\"\", E200<>\"\",G200<>\"\",H200<>\"\"), IF(L200=TRUE, IF(OR(B200=\"\", D200=\"\", E200=\"\", H200=\"\"), TRUE, FALSE), IF(OR(B200=\"\", D200=\"\", G200=\"\", H200=\"\"), TRUE, FALSE)), FALSE)","v":false},""]
[null,null,{"$f":"IFERROR(VLOOKUP(B201, RemediationUnits!$B$6:$C$48,2, FALSE),\"\")","v":""},null,null,"",null,null,null,null,"",false,{"$f":"INDEX(EWEMs!$F$5:$F$29,MATCH(D201,EWEMs!$X$5:$X$29,0))","v":{"$error":"#N/A"}},"not bath","not kitchen",{"$f":"VLOOKUP(LEFT(D201,(FIND(\" \",D201,1)-1))*1,EWEMs!$B$5:$D$29,3,FALSE)","v":{"$error":"#VALUE!"}},false,""]
[null,null,{"$f":"IFERROR(VLOOKUP(B202, RemediationUnits!$B$6:$C$48,2, FALSE),\"\")","v":""},null,null,"",null,null,null,null,"",false,{"$f":"INDEX(EWEMs!$F$5:$F$29,MATCH(D202,EWEMs!$X$5:$X$29,0))","v":{"$error":"#N/A"}},"not bath","not kitchen",{"$f":"VLOOKUP(LEFT(D202,(FIND(\" \",D202,1)-1))*1,EWEMs!$B$5:$D$29,3,FALSE)","v":{"$error":"#VALUE!"}},false,""]
[null,null,{"$f":"IFERROR(VLOOKUP(B203, RemediationUnits!$B$6:$C$48,2, FALSE),\"\")","v":""},null,null,"",null,null,null,null,"",false,{"$f":"INDEX(EWEMs!$F$5:$F$29,MATCH(D203,EWEMs!$X$5:$X$29,0))","v":{"$error":"#N/A"}},"not bath","not kitchen",{"$f":"VLOOKUP(LEFT(D203,(FIND(\" \",D203,1)-1))*1,EWEMs!$B$5:$D$29,3,FALSE)","v":{"$error":"#VALUE!"}},false,""]
[null,null,{"$f":"IFERROR(VLOOKUP(B204, RemediationUnits!$B$6:$C$48,2, FALSE),\"\")","v":""},null,null,"",null,null,null,null,"",false,{"$f":"INDEX(EWEMs!$F$5:$F$29,MATCH(D204,EWEMs!$X$5:$X$29,0))","v":{"$error":"#N/A"}},"not bath","not kitchen",{"$f":"VLOOKUP(LEFT(D204,(FIND(\" \",D204,1)-1))*1,EWEMs!$B$5:$D$29,3,FALSE)","v":{"$error":"#VALUE!"}},false,""]
[null,null,{"$f":"IFERROR(VLOOKUP(B205, RemediationUnits!$B$6:$C$48,2, FALSE),\"\")","v":""},null,null,"",null,null,null,null,"",false,{"$f":"INDEX(EWEMs!$F$5:$F$29,MATCH(D205,EWEMs!$X$5:$X$29,0))","v":{"$error":"#N/A"}},"not bath","not kitchen",{"$f":"VLOOKUP(LEFT(D205,(FIND(\" \",D205,1)-1))*1,EWEMs!$B$5:$D$29,3,FALSE)","v":{"$error":"#VALUE!"}},false,""]
[null,null,{"$f":"IFERROR(VLOOKUP(B206, RemediationUnits!$B$6:$C$48,2, FALSE),\"\")","v":""},null,null,"",null,null,null,null,"",false,{"$f":"INDEX(EWEMs!$F$5:$F$29,MATCH(D206,EWEMs!$X$5:$X$29,0))","v":{"$error":"#N/A"}},"not bath","not kitchen",{"$f":"VLOOKUP(LEFT(D206,(FIND(\" \",D206,1)-1))*1,EWEMs!$B$5:$D$29,3,FALSE)","v":{"$error":"#VALUE!"}},false,""]
[null,null,{"$f":"IFERROR(VLOOKUP(B207, RemediationUnits!$B$6:$C$48,2, FALSE),\"\")","v":""},null,null,"",null,null,null,null,"",false,{"$f":"INDEX(EWEMs!$F$5:$F$29,MATCH(D207,EWEMs!$X$5:$X$29,0))","v":{"$error":"#N/A"}},"not bath","not kitchen",{"$f":"VLOOKUP(LEFT(D207,(FIND(\" \",D207,1)-1))*1,EWEMs!$B$5:$D$29,3,FALSE)","v":{"$error":"#VALUE!"}},false,""]
[null,null,{"$f":"IFERROR(VLOOKUP(B208, RemediationUnits!$B$6:$C$48,2, FALSE),\"\")","v":""},null,null,"",null,null,null,null,"",false,{"$f":"INDEX(EWEMs!$F$5:$F$29,MATCH(D208,EWEMs!$X$5:$X$29,0))","v":{"$error":"#N/A"}},"not bath","not kitchen",{"$f":"VLOOKUP(LEFT(D208,(FIND(\" \",D208,1)-1))*1,EWEMs!$B$5:$D$29,3,FALSE)","v":{"$error":"#VALUE!"}},false,""]
[null,null,{"$f":"IFERROR(VLOOKUP(B209, RemediationUnits!$B$6:$C$48,2, FALSE),\"\")","v":""},null,null,"",null,null,null,null,"",false,{"$f":"INDEX(EWEMs!$F$5:$F$29,MATCH(D209,EWEMs!$X$5:$X$29,0))","v":{"$error":"#N/A"}},"not bath","not kitchen",{"$f":"VLOOKUP(LEFT(D209,(FIND(\" \",D209,1)-1))*1,EWEMs!$B$5:$D$29,3,FALSE)","v":{"$error":"#VALUE!"}},false,""]
[null,null,{"$f":"IFERROR(VLOOKUP(B210, RemediationUnits!$B$6:$C$48,2, FALSE),\"\")","v":""},null,null,"",null,null,null,null,"",false,{"$f":"INDEX(EWEMs!$F$5:$F$29,MATCH(D210,EWEMs!$X$5:$X$29,0))","v":{"$error":"#N/A"}},"not bath","not kitchen",{"$f":"VLOOKUP(LEFT(D210,(FIND(\" \",D210,1)-1))*1,EWEMs!$B$5:$D$29,3,FALSE)","v":{"$error":"#VALUE!"}},false,""]
[null,null,{"$f":"IFERROR(VLOOKUP(B211, RemediationUnits!$B$6:$C$48,2, FALSE),\"\")","v":""},null,null,"",null,null,null,null,"",false,{"$f":"INDEX(EWEMs!$F$5:$F$29,MATCH(D211,EWEMs!$X$5:$X$29,0))","v":{"$error":"#N/A"}},"not bath","not kitchen",{"$f":"VLOOKUP(LEFT(D211,(FIND(\" \",D211,1)-1))*1,EWEMs!$B$5:$D$29,3,FALSE)","v":{"$error":"#VALUE!"}},false,""]
[null,null,{"$f":"IFERROR(VLOOKUP(B212, RemediationUnits!$B$6:$C$48,2, FALSE),\"\")","v":""},null,null,"",null,null,null,null,"",false,{"$f":"INDEX(EWEMs!$F$5:$F$29,MATCH(D212,EWEMs!$X$5:$X$29,0))","v":{"$error":"#N/A"}},"not bath","not kitchen",{"$f":"VLOOKUP(LEFT(D212,(FIND(\" \",D212,1)-1))*1,EWEMs!$B$5:$D$29,3,FALSE)","v":{"$error":"#VALUE!"}},false,""]
[null,null,{"$f":"IFERROR(VLOOKUP(B213, RemediationUnits!$B$6:$C$48,2, FALSE),\"\")","v":""},null,null,"",null,null,null,null,"",false,{"$f":"INDEX(EWEMs!$F$5:$F$29,MATCH(D213,EWEMs!$X$5:$X$29,0))","v":{"$error":"#N/A"}},"not bath","not kitchen",{"$f":"VLOOKUP(LEFT(D213,(FIND(\" \",D213,1)-1))*1,EWEMs!$B$5:$D$29,3,FALSE)","v":{"$error":"#VALUE!"}},false,""]
[null,null,{"$f":"IFERROR(VLOOKUP(B214, RemediationUnits!$B$6:$C$48,2, FALSE),\"\")","v":""},null,null,"",null,null,null,null,"",false,{"$f":"INDEX(EWEMs!$F$5:$F$29,MATCH(D214,EWEMs!$X$5:$X$29,0))","v":{"$error":"#N/A"}},"not bath","not kitchen",{"$f":"VLOOKUP(LEFT(D214,(FIND(\" \",D214,1)-1))*1,EWEMs!$B$5:$D$29,3,FALSE)","v":{"$error":"#VALUE!"}},false,""]
[null,null,{"$f":"IFERROR(VLOOKUP(B215, RemediationUnits!$B$6:$C$48,2, FALSE),\"\")","v":""},null,null,"",null,null,null,null,"",false,{"$f":"INDEX(EWEMs!$F$5:$F$29,MATCH(D215,EWEMs!$X$5:$X$29,0))","v":{"$error":"#N/A"}},"not bath","not kitchen",{"$f":"VLOOKUP(LEFT(D215,(FIND(\" \",D215,1)-1))*1,EWEMs!$B$5:$D$29,3,FALSE)","v":{"$error":"#VALUE!"}},false,""]
[null,null,{"$f":"IFERROR(VLOOKUP(B216, RemediationUnits!$B$6:$C$48,2, FALSE),\"\")","v":""},null,null,"",null,null,null,null,"",false,{"$f":"INDEX(EWEMs!$F$5:$F$29,MATCH(D216,EWEMs!$X$5:$X$29,0))","v":{"$error":"#N/A"}},"not bath","not kitchen",{"$f":"VLOOKUP(LEFT(D216,(FIND(\" \",D216,1)-1))*1,EWEMs!$B$5:$D$29,3,FALSE)","v":{"$error":"#VALUE!"}},false,""]
[null,null,{"$f":"IFERROR(VLOOKUP(B217, RemediationUnits!$B$6:$C$48,2, FALSE),\"\")","v":""},null,null,"",null,null,null,null,"",false,{"$f":"INDEX(EWEMs!$F$5:$F$29,MATCH(D217,EWEMs!$X$5:$X$29,0))","v":{"$error":"#N/A"}},"not bath","not kitchen",{"$f":"VLOOKUP(LEFT(D217,(FIND(\" \",D217,1)-1))*1,EWEMs!$B$5:$D$29,3,FALSE)","v":{"$error":"#VALUE!"}},false,""]
[null,null,{"$f":"IFERROR(VLOOKUP(B218, RemediationUnits!$B$6:$C$48,2, FALSE),\"\")","v":""},null,null,"",null,null,null,null,"",false,{"$f":"INDEX(EWEMs!$F$5:$F$29,MATCH(D218,EWEMs!$X$5:$X$29,0))","v":{"$error":"#N/A"}},"not bath","not kitchen",{"$f":"VLOOKUP(LEFT(D218,(FIND(\" \",D218,1)-1))*1,EWEMs!$B$5:$D$29,3,FALSE)","v":{"$error":"#VALUE!"}},false,""]
[null,null,{"$f":"IFERROR(VLOOKUP(B219, RemediationUnits!$B$6:$C$48,2, FALSE),\"\")","v":""},null,null,"",null,null,null,null,"",false,{"$f":"INDEX(EWEMs!$F$5:$F$29,MATCH(D219,EWEMs!$X$5:$X$29,0))","v":{"$error":"#N/A"}},"not bath","not kitchen",{"$f":"VLOOKUP(LEFT(D219,(FIND(\" \",D219,1)-1))*1,EWEMs!$B$5:$D$29,3,FALSE)","v":{"$error":"#VALUE!"}},false,""]
[null,null,{"$f":"IFERROR(VLOOKUP(B220, RemediationUnits!$B$6:$C$48,2, FALSE),\"\")","v":""},null,null,"",null,null,null,null,"",false,{"$f":"INDEX(EWEMs!$F$5:$F$29,MATCH(D220,EWEMs!$X$5:$X$29,0))","v":{"$error":"#N/A"}},"not bath","not kitchen",{"$f":"VLOOKUP(LEFT(D220,(FIND(\" \",D220,1)-1))*1,EWEMs!$B$5:$D$29,3,FALSE)","v":{"$error":"#VALUE!"}},false,""]
[null,null,{"$f":"IFERROR(VLOOKUP(B221, RemediationUnits!$B$6:$C$48,2, FALSE),\"\")","v":""},null,null,"",null,null,null,null,"",false,{"$f":"INDEX(EWEMs!$F$5:$F$29,MATCH(D221,EWEMs!$X$5:$X$29,0))","v":{"$error":"#N/A"}},"not bath","not kitchen",{"$f":"VLOOKUP(LEFT(D221,(FIND(\" \",D221,1)-1))*1,EWEMs!$B$5:$D$29,3,FALSE)","v":{"$error":"#VALUE!"}},false,""]
[null,null,{"$f":"IFERROR(VLOOKUP(B222, RemediationUnits!$B$6:$C$48,2, FALSE),\"\")","v":""},null,null,"",null,null,null,null,"",false,{"$f":"INDEX(EWEMs!$F$5:$F$29,MATCH(D222,EWEMs!$X$5:$X$29,0))","v":{"$error":"#N/A"}},"not bath","not kitchen",{"$f":"VLOOKUP(LEFT(D222,(FIND(\" \",D222,1)-1))*1,EWEMs!$B$5:$D$29,3,FALSE)","v":{"$error":"#VALUE!"}},false,""]
[null,null,{"$f":"IFERROR(VLOOKUP(B223, RemediationUnits!$B$6:$C$48,2, FALSE),\"\")","v":""},null,null,"",null,null,null,null,"",false,{"$f":"INDEX(EWEMs!$F$5:$F$29,MATCH(D223,EWEMs!$X$5:$X$29,0))","v":{"$error":"#N/A"}},"not bath","not kitchen",{"$f":"VLOOKUP(LEFT(D223,(FIND(\" \",D223,1)-1))*1,EWEMs!$B$5:$D$29,3,FALSE)","v":{"$error":"#VALUE!"}},false,""]
[null,null,{"$f":"IFERROR(VLOOKUP(B224, RemediationUnits!$B$6:$C$48,2, FALSE),\"\")","v":""},null,null,"",null,null,null,null,"",false,{"$f":"INDEX(EWEMs!$F$5:$F$29,MATCH(D224,EWEMs!$X$5:$X$29,0))","v":{"$error":"#N/A"}},"not bath","not kitchen",{"$f":"VLOOKUP(LEFT(D224,(FIND(\" \",D224,1)-1))*1,EWEMs!$B$5:$D$29,3,FALSE)","v":{"$error":"#VALUE!"}},false,""]
[null,null,{"$f":"IFERROR(VLOOKUP(B225, RemediationUnits!$B$6:$C$48,2, FALSE),\"\")","v":""},null,null,"",null,null,null,null,"",false,{"$f":"INDEX(EWEMs!$F$5:$F$29,MATCH(D225,EWEMs!$X$5:$X$29,0))","v":{"$error":"#N/A"}},"not bath","not kitchen",{"$f":"VLOOKUP(LEFT(D225,(FIND(\" \",D225,1)-1))*1,EWEMs!$B$5:$D$29,3,FALSE)","v":{"$error":"#VALUE!"}},false,""]
[null,null,{"$f":"IFERROR(VLOOKUP(B226, RemediationUnits!$B$6:$C$48,2, FALSE),\"\")","v":""},null,null,"",null,null,null,null,"",false,{"$f":"INDEX(EWEMs!$F$5:$F$29,MATCH(D226,EWEMs!$X$5:$X$29,0))","v":{"$error":"#N/A"}},"not bath","not kitchen",{"$f":"VLOOKUP(LEFT(D226,(FIND(\" \",D226,1)-1))*1,EWEMs!$B$5:$D$29,3,FALSE)","v":{"$error":"#VALUE!"}},false,""]
[null,null,{"$f":"IFERROR(VLOOKUP(B227, RemediationUnits!$B$6:$C$48,2, FALSE),\"\")","v":""},null,null,"",null,null,null,null,"",false,{"$f":"INDEX(EWEMs!$F$5:$F$29,MATCH(D227,EWEMs!$X$5:$X$29,0))","v":{"$error":"#N/A"}},"not bath","not kitchen",{"$f":"VLOOKUP(LEFT(D227,(FIND(\" \",D227,1)-1))*1,EWEMs!$B$5:$D$29,3,FALSE)","v":{"$error":"#VALUE!"}},false,""]
[null,null,{"$f":"IFERROR(VLOOKUP(B228, RemediationUnits!$B$6:$C$48,2, FALSE),\"\")","v":""},null,null,"",null,null,null,null,"",false,{"$f":"INDEX(EWEMs!$F$5:$F$29,MATCH(D228,EWEMs!$X$5:$X$29,0))","v":{"$error":"#N/A"}},"not bath","not kitchen",{"$f":"VLOOKUP(LEFT(D228,(FIND(\" \",D228,1)-1))*1,EWEMs!$B$5:$D$29,3,FALSE)","v":{"$error":"#VALUE!"}},false,""]
[null,null,{"$f":"IFERROR(VLOOKUP(B229, RemediationUnits!$B$6:$C$48,2, FALSE),\"\")","v":""},null,null,"",null,null,null,null,"",false,{"$f":"INDEX(EWEMs!$F$5:$F$29,MATCH(D229,EWEMs!$X$5:$X$29,0))","v":{"$error":"#N/A"}},"not bath","not kitchen",{"$f":"VLOOKUP(LEFT(D229,(FIND(\" \",D229,1)-1))*1,EWEMs!$B$5:$D$29,3,FALSE)","v":{"$error":"#VALUE!"}},false,""]
[null,null,{"$f":"IFERROR(VLOOKUP(B230, RemediationUnits!$B$6:$C$48,2, FALSE),\"\")","v":""},null,null,"",null,null,null,null,"",false,{"$f":"INDEX(EWEMs!$F$5:$F$29,MATCH(D230,EWEMs!$X$5:$X$29,0))","v":{"$error":"#N/A"}},"not bath","not kitchen",{"$f":"VLOOKUP(LEFT(D230,(FIND(\" \",D230,1)-1))*1,EWEMs!$B$5:$D$29,3,FALSE)","v":{"$error":"#VALUE!"}},false,""]
[null,null,{"$f":"IFERROR(VLOOKUP(B231, RemediationUnits!$B$6:$C$48,2, FALSE),\"\")","v":""},null,null,"",null,null,null,null,"",false,{"$f":"INDEX(EWEMs!$F$5:$F$29,MATCH(D231,EWEMs!$X$5:$X$29,0))","v":{"$error":"#N/A"}},"not bath","not kitchen",{"$f":"VLOOKUP(LEFT(D231,(FIND(\" \",D231,1)-1))*1,EWEMs!$B$5:$D$29,3,FALSE)","v":{"$error":"#VALUE!"}},false,""]
[null,null,{"$f":"IFERROR(VLOOKUP(B232, RemediationUnits!$B$6:$C$48,2, FALSE),\"\")","v":""},null,null,"",null,null,null,null,"",false,{"$f":"INDEX(EWEMs!$F$5:$F$29,MATCH(D232,EWEMs!$X$5:$X$29,0))","v":{"$error":"#N/A"}},"not bath","not kitchen",{"$f":"VLOOKUP(LEFT(D232,(FIND(\" \",D232,1)-1))*1,EWEMs!$B$5:$D$29,3,FALSE)","v":{"$error":"#VALUE!"}},false,""]
[null,null,{"$f":"IFERROR(VLOOKUP(B233, RemediationUnits!$B$6:$C$48,2, FALSE),\"\")","v":""},null,null,"",null,null,null,null,"",false,{"$f":"INDEX(EWEMs!$F$5:$F$29,MATCH(D233,EWEMs!$X$5:$X$29,0))","v":{"$error":"#N/A"}},"not bath","not kitchen",{"$f":"VLOOKUP(LEFT(D233,(FIND(\" \",D233,1)-1))*1,EWEMs!$B$5:$D$29,3,FALSE)","v":{"$error":"#VALUE!"}},false,""]
[null,null,{"$f":"IFERROR(VLOOKUP(B234, RemediationUnits!$B$6:$C$48,2, FALSE),\"\")","v":""},null,null,"",null,null,null,null,"",false,{"$f":"INDEX(EWEMs!$F$5:$F$29,MATCH(D234,EWEMs!$X$5:$X$29,0))","v":{"$error":"#N/A"}},"not bath","not kitchen",{"$f":"VLOOKUP(LEFT(D234,(FIND(\" \",D234,1)-1))*1,EWEMs!$B$5:$D$29,3,FALSE)","v":{"$error":"#VALUE!"}},false,""]
[null,null,{"$f":"IFERROR(VLOOKUP(B235, RemediationUnits!$B$6:$C$48,2, FALSE),\"\")","v":""},null,null,"",null,null,null,null,"",false,{"$f":"INDEX(EWEMs!$F$5:$F$29,MATCH(D235,EWEMs!$X$5:$X$29,0))","v":{"$error":"#N/A"}},"not bath","not kitchen",{"$f":"VLOOKUP(LEFT(D235,(FIND(\" \",D235,1)-1))*1,EWEMs!$B$5:$D$29,3,FALSE)","v":{"$error":"#VALUE!"}},false,""]
[null,null,{"$f":"IFERROR(VLOOKUP(B236, RemediationUnits!$B$6:$C$48,2, FALSE),\"\")","v":""},null,null,"",null,null,null,null,"",false,{"$f":"INDEX(EWEMs!$F$5:$F$29,MATCH(D236,EWEMs!$X$5:$X$29,0))","v":{"$error":"#N/A"}},"not bath","not kitchen",{"$f":"VLOOKUP(LEFT(D236,(FIND(\" \",D236,1)-1))*1,EWEMs!$B$5:$D$29,3,FALSE)","v":{"$error":"#VALUE!"}},false,""]
[null,null,{"$f":"IFERROR(VLOOKUP(B237, RemediationUnits!$B$6:$C$48,2, FALSE),\"\")","v":""},null,null,"",null,null,null,null,"",false,{"$f":"INDEX(EWEMs!$F$5:$F$29,MATCH(D237,EWEMs!$X$5:$X$29,0))","v":{"$error":"#N/A"}},"not bath","not kitchen",{"$f":"VLOOKUP(LEFT(D237,(FIND(\" \",D237,1)-1))*1,EWEMs!$B$5:$D$29,3,FALSE)","v":{"$error":"#VALUE!"}},false,""]
[null,null,{"$f":"IFERROR(VLOOKUP(B238, RemediationUnits!$B$6:$C$48,2, FALSE),\"\")","v":""},null,null,"",null,null,null,null,"",false,{"$f":"INDEX(EWEMs!$F$5:$F$29,MATCH(D238,EWEMs!$X$5:$X$29,0))","v":{"$error":"#N/A"}},"not bath","not kitchen",{"$f":"VLOOKUP(LEFT(D238,(FIND(\" \",D238,1)-1))*1,EWEMs!$B$5:$D$29,3,FALSE)","v":{"$error":"#VALUE!"}},false,""]
[null,null,{"$f":"IFERROR(VLOOKUP(B239, RemediationUnits!$B$6:$C$48,2, FALSE),\"\")","v":""},null,null,"",null,null,null,null,"",false,{"$f":"INDEX(EWEMs!$F$5:$F$29,MATCH(D239,EWEMs!$X$5:$X$29,0))","v":{"$error":"#N/A"}},"not bath","not kitchen",{"$f":"VLOOKUP(LEFT(D239,(FIND(\" \",D239,1)-1))*1,EWEMs!$B$5:$D$29,3,FALSE)","v":{"$error":"#VALUE!"}},false,""]
[null,null,{"$f":"IFERROR(VLOOKUP(B240, RemediationUnits!$B$6:$C$48,2, FALSE),\"\")","v":""},null,null,"",null,null,null,null,"",false,{"$f":"INDEX(EWEMs!$F$5:$F$29,MATCH(D240,EWEMs!$X$5:$X$29,0))","v":{"$error":"#N/A"}},"not bath","not kitchen",{"$f":"VLOOKUP(LEFT(D240,(FIND(\" \",D240,1)-1))*1,EWEMs!$B$5:$D$29,3,FALSE)","v":{"$error":"#VALUE!"}},false,""]
[null,null,{"$f":"IFERROR(VLOOKUP(B241, RemediationUnits!$B$6:$C$48,2, FALSE),\"\")","v":""},null,null,"",null,null,null,null,"",false,{"$f":"INDEX(EWEMs!$F$5:$F$29,MATCH(D241,EWEMs!$X$5:$X$29,0))","v":{"$error":"#N/A"}},"not bath","not kitchen",{"$f":"VLOOKUP(LEFT(D241,(FIND(\" \",D241,1)-1))*1,EWEMs!$B$5:$D$29,3,FALSE)","v":{"$error":"#VALUE!"}},false,""]
[null,null,{"$f":"IFERROR(VLOOKUP(B242, RemediationUnits!$B$6:$C$48,2, FALSE),\"\")","v":""},null,null,"",null,null,null,null,"",false,{"$f":"INDEX(EWEMs!$F$5:$F$29,MATCH(D242,EWEMs!$X$5:$X$29,0))","v":{"$error":"#N/A"}},"not bath","not kitchen",{"$f":"VLOOKUP(LEFT(D242,(FIND(\" \",D242,1)-1))*1,EWEMs!$B$5:$D$29,3,FALSE)","v":{"$error":"#VALUE!"}},false,""]
[null,null,{"$f":"IFERROR(VLOOKUP(B243, RemediationUnits!$B$6:$C$48,2, FALSE),\"\")","v":""},null,null,"",null,null,null,null,"",false,{"$f":"INDEX(EWEMs!$F$5:$F$29,MATCH(D243,EWEMs!$X$5:$X$29,0))","v":{"$error":"#N/A"}},"not bath","not kitchen",{"$f":"VLOOKUP(LEFT(D243,(FIND(\" \",D243,1)-1))*1,EWEMs!$B$5:$D$29,3,FALSE)","v":{"$error":"#VALUE!"}},false,""]
[null,null,{"$f":"IFERROR(VLOOKUP(B244, RemediationUnits!$B$6:$C$48,2, FALSE),\"\")","v":""},null,null,"",null,null,null,null,"",false,{"$f":"INDEX(EWEMs!$F$5:$F$29,MATCH(D244,EWEMs!$X$5:$X$29,0))","v":{"$error":"#N/A"}},"not bath","not kitchen",{"$f":"VLOOKUP(LEFT(D244,(FIND(\" \",D244,1)-1))*1,EWEMs!$B$5:$D$29,3,FALSE)","v":{"$error":"#VALUE!"}},false,""]
[null,null,{"$f":"IFERROR(VLOOKUP(B245, RemediationUnits!$B$6:$C$48,2, FALSE),\"\")","v":""},null,null,"",null,null,null,null,"",false,{"$f":"INDEX(EWEMs!$F$5:$F$29,MATCH(D245,EWEMs!$X$5:$X$29,0))","v":{"$error":"#N/A"}},"not bath","not kitchen",{"$f":"VLOOKUP(LEFT(D245,(FIND(\" \",D245,1)-1))*1,EWEMs!$B$5:$D$29,3,FALSE)","v":{"$error":"#VALUE!"}},false,""]
[null,null,{"$f":"IFERROR(VLOOKUP(B246, RemediationUnits!$B$6:$C$48,2, FALSE),\"\")","v":""},null,null,"",null,null,null,null,"",false,{"$f":"INDEX(EWEMs!$F$5:$F$29,MATCH(D246,EWEMs!$X$5:$X$29,0))","v":{"$error":"#N/A"}},"not bath","not kitchen",{"$f":"VLOOKUP(LEFT(D246,(FIND(\" \",D246,1)-1))*1,EWEMs!$B$5:$D$29,3,FALSE)","v":{"$error":"#VALUE!"}},false,""]
[null,null,{"$f":"IFERROR(VLOOKUP(B247, RemediationUnits!$B$6:$C$48,2, FALSE),\"\")","v":""},null,null,"",null,null,null,null,"",false,{"$f":"INDEX(EWEMs!$F$5:$F$29,MATCH(D247,EWEMs!$X$5:$X$29,0))","v":{"$error":"#N/A"}},"not bath","not kitchen",{"$f":"VLOOKUP(LEFT(D247,(FIND(\" \",D247,1)-1))*1,EWEMs!$B$5:$D$29,3,FALSE)","v":{"$error":"#VALUE!"}},false,""]
[null,null,{"$f":"IFERROR(VLOOKUP(B248, RemediationUnits!$B$6:$C$48,2, FALSE),\"\")","v":""},null,null,"",null,null,null,null,"",false,{"$f":"INDEX(EWEMs!$F$5:$F$29,MATCH(D248,EWEMs!$X$5:$X$29,0))","v":{"$error":"#N/A"}},"not bath","not kitchen",{"$f":"VLOOKUP(LEFT(D248,(FIND(\" \",D248,1)-1))*1,EWEMs!$B$5:$D$29,3,FALSE)","v":{"$error":"#VALUE!"}},false,""]
[null,null,{"$f":"IFERROR(VLOOKUP(B249, RemediationUnits!$B$6:$C$48,2, FALSE),\"\")","v":""},null,null,"",null,null,null,null,"",false,{"$f":"INDEX(EWEMs!$F$5:$F$29,MATCH(D249,EWEMs!$X$5:$X$29,0))","v":{"$error":"#N/A"}},"not bath","not kitchen",{"$f":"VLOOKUP(LEFT(D249,(FIND(\" \",D249,1)-1))*1,EWEMs!$B$5:$D$29,3,FALSE)","v":{"$error":"#VALUE!"}},false,""]
[null,null,{"$f":"IFERROR(VLOOKUP(B250, RemediationUnits!$B$6:$C$48,2, FALSE),\"\")","v":""},null,null,"",null,null,null,null,"",false,{"$f":"INDEX(EWEMs!$F$5:$F$29,MATCH(D250,EWEMs!$X$5:$X$29,0))","v":{"$error":"#N/A"}},"not bath","not kitchen",{"$f":"VLOOKUP(LEFT(D250,(FIND(\" \",D250,1)-1))*1,EWEMs!$B$5:$D$29,3,FALSE)","v":{"$error":"#VALUE!"}},false,""]
[null,null,{"$f":"IFERROR(VLOOKUP(B251, RemediationUnits!$B$6:$C$48,2, FALSE),\"\")","v":""},null,null,"",null,null,null,null,"",false,{"$f":"INDEX(EWEMs!$F$5:$F$29,MATCH(D251,EWEMs!$X$5:$X$29,0))","v":{"$error":"#N/A"}},"not bath","not kitchen",{"$f":"VLOOKUP(LEFT(D251,(FIND(\" \",D251,1)-1))*1,EWEMs!$B$5:$D$29,3,FALSE)","v":{"$error":"#VALUE!"}},false,""]
[null,null,{"$f":"IFERROR(VLOOKUP(B252, RemediationUnits!$B$6:$C$48,2, FALSE),\"\")","v":""},null,null,"",null,null,null,null,"",false,{"$f":"INDEX(EWEMs!$F$5:$F$29,MATCH(D252,EWEMs!$X$5:$X$29,0))","v":{"$error":"#N/A"}},"not bath","not kitchen",{"$f":"VLOOKUP(LEFT(D252,(FIND(\" \",D252,1)-1))*1,EWEMs!$B$5:$D$29,3,FALSE)","v":{"$error":"#VALUE!"}},false,""]
[null,null,{"$f":"IFERROR(VLOOKUP(B253, RemediationUnits!$B$6:$C$48,2, FALSE),\"\")","v":""},null,null,"",null,null,null,null,"",false,{"$f":"INDEX(EWEMs!$F$5:$F$29,MATCH(D253,EWEMs!$X$5:$X$29,0))","v":{"$error":"#N/A"}},"not bath","not kitchen",{"$f":"VLOOKUP(LEFT(D253,(FIND(\" \",D253,1)-1))*1,EWEMs!$B$5:$D$29,3,FALSE)","v":{"$error":"#VALUE!"}},false,""]
[null,null,{"$f":"IFERROR(VLOOKUP(B254, RemediationUnits!$B$6:$C$48,2, FALSE),\"\")","v":""},null,null,"",null,null,null,null,"",false,{"$f":"INDEX(EWEMs!$F$5:$F$29,MATCH(D254,EWEMs!$X$5:$X$29,0))","v":{"$error":"#N/A"}},"not bath","not kitchen",{"$f":"VLOOKUP(LEFT(D254,(FIND(\" \",D254,1)-1))*1,EWEMs!$B$5:$D$29,3,FALSE)","v":{"$error":"#VALUE!"}},false,""]
[null,null,{"$f":"IFERROR(VLOOKUP(B255, RemediationUnits!$B$6:$C$48,2, FALSE),\"\")","v":""},null,null,"",null,null,null,null,"",false,{"$f":"INDEX(EWEMs!$F$5:$F$29,MATCH(D255,EWEMs!$X$5:$X$29,0))","v":{"$error":"#N/A"}},"not bath","not kitchen",{"$f":"VLOOKUP(LEFT(D255,(FIND(\" \",D255,1)-1))*1,EWEMs!$B$5:$D$29,3,FALSE)","v":{"$error":"#VALUE!"}},false,""]
[null,null,{"$f":"IFERROR(VLOOKUP(B256, RemediationUnits!$B$6:$C$48,2, FALSE),\"\")","v":""},null,null,"",null,null,null,null,"",false,{"$f":"INDEX(EWEMs!$F$5:$F$29,MATCH(D256,EWEMs!$X$5:$X$29,0))","v":{"$error":"#N/A"}},"not bath","not kitchen",{"$f":"VLOOKUP(LEFT(D256,(FIND(\" \",D256,1)-1))*1,EWEMs!$B$5:$D$29,3,FALSE)","v":{"$error":"#VALUE!"}},false,""]
[null,null,{"$f":"IFERROR(VLOOKUP(B257, RemediationUnits!$B$6:$C$48,2, FALSE),\"\")","v":""},null,null,"",null,null,null,null,"",false,{"$f":"INDEX(EWEMs!$F$5:$F$29,MATCH(D257,EWEMs!$X$5:$X$29,0))","v":{"$error":"#N/A"}},"not bath","not kitchen",{"$f":"VLOOKUP(LEFT(D257,(FIND(\" \",D257,1)-1))*1,EWEMs!$B$5:$D$29,3,FALSE)","v":{"$error":"#VALUE!"}},false,""]
[null,null,{"$f":"IFERROR(VLOOKUP(B258, RemediationUnits!$B$6:$C$48,2, FALSE),\"\")","v":""},null,null,"",null,null,null,null,"",false,{"$f":"INDEX(EWEMs!$F$5:$F$29,MATCH(D258,EWEMs!$X$5:$X$29,0))","v":{"$error":"#N/A"}},"not bath","not kitchen",{"$f":"VLOOKUP(LEFT(D258,(FIND(\" \",D258,1)-1))*1,EWEMs!$B$5:$D$29,3,FALSE)","v":{"$error":"#VALUE!"}},false,""]
[null,null,{"$f":"IFERROR(VLOOKUP(B259, RemediationUnits!$B$6:$C$48,2, FALSE),\"\")","v":""},null,null,"",null,null,null,null,"",false,{"$f":"INDEX(EWEMs!$F$5:$F$29,MATCH(D259,EWEMs!$X$5:$X$29,0))","v":{"$error":"#N/A"}},"not bath","not kitchen",{"$f":"VLOOKUP(LEFT(D259,(FIND(\" \",D259,1)-1))*1,EWEMs!$B$5:$D$29,3,FALSE)","v":{"$error":"#VALUE!"}},false,""]
[null,null,{"$f":"IFERROR(VLOOKUP(B260, RemediationUnits!$B$6:$C$48,2, FALSE),\"\")","v":""},null,null,"",null,null,null,null,"",false,{"$f":"INDEX(EWEMs!$F$5:$F$29,MATCH(D260,EWEMs!$X$5:$X$29,0))","v":{"$error":"#N/A"}},"not bath","not kitchen",{"$f":"VLOOKUP(LEFT(D260,(FIND(\" \",D260,1)-1))*1,EWEMs!$B$5:$D$29,3,FALSE)","v":{"$error":"#VALUE!"}},false,""]
[null,null,{"$f":"IFERROR(VLOOKUP(B261, RemediationUnits!$B$6:$C$48,2, FALSE),\"\")","v":""},null,null,"",null,null,null,null,"",false,{"$f":"INDEX(EWEMs!$F$5:$F$29,MATCH(D261,EWEMs!$X$5:$X$29,0))","v":{"$error":"#N/A"}},"not bath","not kitchen",{"$f":"VLOOKUP(LEFT(D261,(FIND(\" \",D261,1)-1))*1,EWEMs!$B$5:$D$29,3,FALSE)","v":{"$error":"#VALUE!"}},false,""]
[null,null,{"$f":"IFERROR(VLOOKUP(B262, RemediationUnits!$B$6:$C$48,2, FALSE),\"\")","v":""},null,null,"",null,null,null,null,"",false,{"$f":"INDEX(EWEMs!$F$5:$F$29,MATCH(D262,EWEMs!$X$5:$X$29,0))","v":{"$error":"#N/A"}},"not bath","not kitchen",{"$f":"VLOOKUP(LEFT(D262,(FIND(\" \",D262,1)-1))*1,EWEMs!$B$5:$D$29,3,FALSE)","v":{"$error":"#VALUE!"}},false,""]
[null,null,{"$f":"IFERROR(VLOOKUP(B263, RemediationUnits!$B$6:$C$48,2, FALSE),\"\")","v":""},null,null,{"$f":"IF(AND(L263=TRUE,D263<>\"\"), IF(ISNUMBER(SEARCH(\"compliant\", N263)),N263,IF(ISNUMBER(SEARCH(\"compliant\",O263)),O263,IF(E263<=M263,\"compliant\",\"noncompliant\"))),\"\")","v":""},null,null,null,null,{"$f":"IF(OR(F263=\"compliant\",F263=\"noncompliant\"),D263&F263,D263&G263)","v":""},{"$f":"IF(OR(ISNUMBER(FIND(\"low-flow\",D263,1)), ISNUMBER(FIND(\"low-flush\",D263,1))),TRUE,FALSE)","v":false},{"$f":"INDEX(EWEMs!$F$5:$F$29,MATCH(D263,EWEMs!$X$5:$X$29,0))","v":{"$error":"#N/A"}},{"$f":"IF(OR(ISNUMBER(SEARCH(\"bath faucets\", D263)), AND( ISNUMBER(SEARCH(\"fixture\", D263)),ISNUMBER(SEARCH(\"bath\",P263)) )), IF(M263<=1, IF(AND(E263>=M263, E263<=1), \"compliant\", \"noncompliant\"), IF(AND(E263>=1, E263<=M263),\"compliant\",\"noncompliant\")), \"not bath\")","v":"not bath"},{"$f":"IF(OR(ISNUMBER(SEARCH(\"kitchen faucets\",D263)),AND(ISNUMBER(SEARCH(\"fixtures\",D263)),ISNUMBER(SEARCH(\"kitchen\",P263)))),IF(M263<=1.5,IF(AND(E263>=1, E263<=1.5),\"compliant\",\"noncompliant\"),IF(AND(E263>=1.5,E263<=M263),\"compliant\",\"noncompliant\")),\"not kitchen\"\n)","v":"not kitchen"},{"$f":"VLOOKUP(LEFT(D263,(FIND(\" \",D263,1)-1))*1,EWEMs!$B$5:$D$29,3,FALSE)","v":{"$error":"#VALUE!"}},false,{"$f":"IF(OR(F263=\"noncompliant\", G263=\"noncompliant\"), IFERROR(LEFT(D263, LEN(_xlfn.TEXTBEFORE(D263,\"-\",-1)))&\" (Space: \"&B263&\")\", \"\"), \"\")","v":""}]
[null,null,{"$f":"IFERROR(VLOOKUP(B264, RemediationUnits!$B$6:$C$48,2, FALSE),\"\")","v":""},null,null,"",null,null,null,null,"",false,{"$f":"INDEX(EWEMs!$F$5:$F$29,MATCH(D264,EWEMs!$X$5:$X$29,0))","v":{"$error":"#N/A"}},"not bath","not kitchen",{"$f":"VLOOKUP(LEFT(D264,(FIND(\" \",D264,1)-1))*1,EWEMs!$B$5:$D$29,3,FALSE)","v":{"$error":"#VALUE!"}},{"$f":"IF(OR(B264<>\"\",D264<>\"\", E264<>\"\",G264<>\"\",H264<>\"\"), IF(L264=TRUE, IF(OR(B264=\"\", D264=\"\", E264=\"\", H264=\"\"), TRUE, FALSE), IF(OR(B264=\"\", D264=\"\", G264=\"\", H264=\"\"), TRUE, FALSE)), FALSE)","v":false},""]
[null,null,{"$f":"IFERROR(VLOOKUP(B265, RemediationUnits!$B$6:$C$48,2, FALSE),\"\")","v":""},null,null,"",null,null,null,null,"",false,{"$f":"INDEX(EWEMs!$F$5:$F$29,MATCH(D265,EWEMs!$X$5:$X$29,0))","v":{"$error":"#N/A"}},"not bath","not kitchen",{"$f":"VLOOKUP(LEFT(D265,(FIND(\" \",D265,1)-1))*1,EWEMs!$B$5:$D$29,3,FALSE)","v":{"$error":"#VALUE!"}},false,""]
[null,null,{"$f":"IFERROR(VLOOKUP(B266, RemediationUnits!$B$6:$C$48,2, FALSE),\"\")","v":""},null,null,"",null,null,null,null,"",false,{"$f":"INDEX(EWEMs!$F$5:$F$29,MATCH(D266,EWEMs!$X$5:$X$29,0))","v":{"$error":"#N/A"}},"not bath","not kitchen",{"$f":"VLOOKUP(LEFT(D266,(FIND(\" \",D266,1)-1))*1,EWEMs!$B$5:$D$29,3,FALSE)","v":{"$error":"#VALUE!"}},false,""]
[null,null,{"$f":"IFERROR(VLOOKUP(B267, RemediationUnits!$B$6:$C$48,2, FALSE),\"\")","v":""},null,null,"",null,null,null,null,"",false,{"$f":"INDEX(EWEMs!$F$5:$F$29,MATCH(D267,EWEMs!$X$5:$X$29,0))","v":{"$error":"#N/A"}},"not bath","not kitchen",{"$f":"VLOOKUP(LEFT(D267,(FIND(\" \",D267,1)-1))*1,EWEMs!$B$5:$D$29,3,FALSE)","v":{"$error":"#VALUE!"}},false,""]
[null,null,{"$f":"IFERROR(VLOOKUP(B268, RemediationUnits!$B$6:$C$48,2, FALSE),\"\")","v":""},null,null,"",null,null,null,null,"",false,{"$f":"INDEX(EWEMs!$F$5:$F$29,MATCH(D268,EWEMs!$X$5:$X$29,0))","v":{"$error":"#N/A"}},"not bath","not kitchen",{"$f":"VLOOKUP(LEFT(D268,(FIND(\" \",D268,1)-1))*1,EWEMs!$B$5:$D$29,3,FALSE)","v":{"$error":"#VALUE!"}},false,""]
[null,null,{"$f":"IFERROR(VLOOKUP(B269, RemediationUnits!$B$6:$C$48,2, FALSE),\"\")","v":""},null,null,"",null,null,null,null,"",false,{"$f":"INDEX(EWEMs!$F$5:$F$29,MATCH(D269,EWEMs!$X$5:$X$29,0))","v":{"$error":"#N/A"}},"not bath","not kitchen",{"$f":"VLOOKUP(LEFT(D269,(FIND(\" \",D269,1)-1))*1,EWEMs!$B$5:$D$29,3,FALSE)","v":{"$error":"#VALUE!"}},false,""]
[null,null,{"$f":"IFERROR(VLOOKUP(B270, RemediationUnits!$B$6:$C$48,2, FALSE),\"\")","v":""},null,null,"",null,null,null,null,"",false,{"$f":"INDEX(EWEMs!$F$5:$F$29,MATCH(D270,EWEMs!$X$5:$X$29,0))","v":{"$error":"#N/A"}},"not bath","not kitchen",{"$f":"VLOOKUP(LEFT(D270,(FIND(\" \",D270,1)-1))*1,EWEMs!$B$5:$D$29,3,FALSE)","v":{"$error":"#VALUE!"}},false,""]
[null,null,{"$f":"IFERROR(VLOOKUP(B271, RemediationUnits!$B$6:$C$48,2, FALSE),\"\")","v":""},null,null,"",null,null,null,null,"",false,{"$f":"INDEX(EWEMs!$F$5:$F$29,MATCH(D271,EWEMs!$X$5:$X$29,0))","v":{"$error":"#N/A"}},"not bath","not kitchen",{"$f":"VLOOKUP(LEFT(D271,(FIND(\" \",D271,1)-1))*1,EWEMs!$B$5:$D$29,3,FALSE)","v":{"$error":"#VALUE!"}},false,""]
[null,null,{"$f":"IFERROR(VLOOKUP(B272, RemediationUnits!$B$6:$C$48,2, FALSE),\"\")","v":""},null,null,"",null,null,null,null,"",false,{"$f":"INDEX(EWEMs!$F$5:$F$29,MATCH(D272,EWEMs!$X$5:$X$29,0))","v":{"$error":"#N/A"}},"not bath","not kitchen",{"$f":"VLOOKUP(LEFT(D272,(FIND(\" \",D272,1)-1))*1,EWEMs!$B$5:$D$29,3,FALSE)","v":{"$error":"#VALUE!"}},false,""]
[null,null,{"$f":"IFERROR(VLOOKUP(B273, RemediationUnits!$B$6:$C$48,2, FALSE),\"\")","v":""},null,null,"",null,null,null,null,"",false,{"$f":"INDEX(EWEMs!$F$5:$F$29,MATCH(D273,EWEMs!$X$5:$X$29,0))","v":{"$error":"#N/A"}},"not bath","not kitchen",{"$f":"VLOOKUP(LEFT(D273,(FIND(\" \",D273,1)-1))*1,EWEMs!$B$5:$D$29,3,FALSE)","v":{"$error":"#VALUE!"}},false,""]
[null,null,{"$f":"IFERROR(VLOOKUP(B274, RemediationUnits!$B$6:$C$48,2, FALSE),\"\")","v":""},null,null,"",null,null,null,null,"",false,{"$f":"INDEX(EWEMs!$F$5:$F$29,MATCH(D274,EWEMs!$X$5:$X$29,0))","v":{"$error":"#N/A"}},"not bath","not kitchen",{"$f":"VLOOKUP(LEFT(D274,(FIND(\" \",D274,1)-1))*1,EWEMs!$B$5:$D$29,3,FALSE)","v":{"$error":"#VALUE!"}},false,""]
[null,null,{"$f":"IFERROR(VLOOKUP(B275, RemediationUnits!$B$6:$C$48,2, FALSE),\"\")","v":""},null,null,"",null,null,null,null,"",false,{"$f":"INDEX(EWEMs!$F$5:$F$29,MATCH(D275,EWEMs!$X$5:$X$29,0))","v":{"$error":"#N/A"}},"not bath","not kitchen",{"$f":"VLOOKUP(LEFT(D275,(FIND(\" \",D275,1)-1))*1,EWEMs!$B$5:$D$29,3,FALSE)","v":{"$error":"#VALUE!"}},false,""]
[null,null,{"$f":"IFERROR(VLOOKUP(B276, RemediationUnits!$B$6:$C$48,2, FALSE),\"\")","v":""},null,null,"",null,null,null,null,"",false,{"$f":"INDEX(EWEMs!$F$5:$F$29,MATCH(D276,EWEMs!$X$5:$X$29,0))","v":{"$error":"#N/A"}},"not bath","not kitchen",{"$f":"VLOOKUP(LEFT(D276,(FIND(\" \",D276,1)-1))*1,EWEMs!$B$5:$D$29,3,FALSE)","v":{"$error":"#VALUE!"}},false,""]
[null,null,{"$f":"IFERROR(VLOOKUP(B277, RemediationUnits!$B$6:$C$48,2, FALSE),\"\")","v":""},null,null,"",null,null,null,null,"",false,{"$f":"INDEX(EWEMs!$F$5:$F$29,MATCH(D277,EWEMs!$X$5:$X$29,0))","v":{"$error":"#N/A"}},"not bath","not kitchen",{"$f":"VLOOKUP(LEFT(D277,(FIND(\" \",D277,1)-1))*1,EWEMs!$B$5:$D$29,3,FALSE)","v":{"$error":"#VALUE!"}},false,""]
[null,null,{"$f":"IFERROR(VLOOKUP(B278, RemediationUnits!$B$6:$C$48,2, FALSE),\"\")","v":""},null,null,"",null,null,null,null,"",false,{"$f":"INDEX(EWEMs!$F$5:$F$29,MATCH(D278,EWEMs!$X$5:$X$29,0))","v":{"$error":"#N/A"}},"not bath","not kitchen",{"$f":"VLOOKUP(LEFT(D278,(FIND(\" \",D278,1)-1))*1,EWEMs!$B$5:$D$29,3,FALSE)","v":{"$error":"#VALUE!"}},false,""]
[null,null,{"$f":"IFERROR(VLOOKUP(B279, RemediationUnits!$B$6:$C$48,2, FALSE),\"\")","v":""},null,null,"",null,null,null,null,"",false,{"$f":"INDEX(EWEMs!$F$5:$F$29,MATCH(D279,EWEMs!$X$5:$X$29,0))","v":{"$error":"#N/A"}},"not bath","not kitchen",{"$f":"VLOOKUP(LEFT(D279,(FIND(\" \",D279,1)-1))*1,EWEMs!$B$5:$D$29,3,FALSE)","v":{"$error":"#VALUE!"}},false,""]
[null,null,{"$f":"IFERROR(VLOOKUP(B280, RemediationUnits!$B$6:$C$48,2, FALSE),\"\")","v":""},null,null,"",null,null,null,null,"",false,{"$f":"INDEX(EWEMs!$F$5:$F$29,MATCH(D280,EWEMs!$X$5:$X$29,0))","v":{"$error":"#N/A"}},"not bath","not kitchen",{"$f":"VLOOKUP(LEFT(D280,(FIND(\" \",D280,1)-1))*1,EWEMs!$B$5:$D$29,3,FALSE)","v":{"$error":"#VALUE!"}},false,""]
[null,null,{"$f":"IFERROR(VLOOKUP(B281, RemediationUnits!$B$6:$C$48,2, FALSE),\"\")","v":""},null,null,"",null,null,null,null,"",false,{"$f":"INDEX(EWEMs!$F$5:$F$29,MATCH(D281,EWEMs!$X$5:$X$29,0))","v":{"$error":"#N/A"}},"not bath","not kitchen",{"$f":"VLOOKUP(LEFT(D281,(FIND(\" \",D281,1)-1))*1,EWEMs!$B$5:$D$29,3,FALSE)","v":{"$error":"#VALUE!"}},false,""]
[null,null,{"$f":"IFERROR(VLOOKUP(B282, RemediationUnits!$B$6:$C$48,2, FALSE),\"\")","v":""},null,null,"",null,null,null,null,"",false,{"$f":"INDEX(EWEMs!$F$5:$F$29,MATCH(D282,EWEMs!$X$5:$X$29,0))","v":{"$error":"#N/A"}},"not bath","not kitchen",{"$f":"VLOOKUP(LEFT(D282,(FIND(\" \",D282,1)-1))*1,EWEMs!$B$5:$D$29,3,FALSE)","v":{"$error":"#VALUE!"}},false,""]
[null,null,{"$f":"IFERROR(VLOOKUP(B283, RemediationUnits!$B$6:$C$48,2, FALSE),\"\")","v":""},null,null,"",null,null,null,null,"",false,{"$f":"INDEX(EWEMs!$F$5:$F$29,MATCH(D283,EWEMs!$X$5:$X$29,0))","v":{"$error":"#N/A"}},"not bath","not kitchen",{"$f":"VLOOKUP(LEFT(D283,(FIND(\" \",D283,1)-1))*1,EWEMs!$B$5:$D$29,3,FALSE)","v":{"$error":"#VALUE!"}},false,""]
[null,null,{"$f":"IFERROR(VLOOKUP(B284, RemediationUnits!$B$6:$C$48,2, FALSE),\"\")","v":""},null,null,"",null,null,null,null,"",false,{"$f":"INDEX(EWEMs!$F$5:$F$29,MATCH(D284,EWEMs!$X$5:$X$29,0))","v":{"$error":"#N/A"}},"not bath","not kitchen",{"$f":"VLOOKUP(LEFT(D284,(FIND(\" \",D284,1)-1))*1,EWEMs!$B$5:$D$29,3,FALSE)","v":{"$error":"#VALUE!"}},false,""]
[null,null,{"$f":"IFERROR(VLOOKUP(B285, RemediationUnits!$B$6:$C$48,2, FALSE),\"\")","v":""},null,null,"",null,null,null,null,"",false,{"$f":"INDEX(EWEMs!$F$5:$F$29,MATCH(D285,EWEMs!$X$5:$X$29,0))","v":{"$error":"#N/A"}},"not bath","not kitchen",{"$f":"VLOOKUP(LEFT(D285,(FIND(\" \",D285,1)-1))*1,EWEMs!$B$5:$D$29,3,FALSE)","v":{"$error":"#VALUE!"}},false,""]
[null,null,{"$f":"IFERROR(VLOOKUP(B286, RemediationUnits!$B$6:$C$48,2, FALSE),\"\")","v":""},null,null,"",null,null,null,null,"",false,{"$f":"INDEX(EWEMs!$F$5:$F$29,MATCH(D286,EWEMs!$X$5:$X$29,0))","v":{"$error":"#N/A"}},"not bath","not kitchen",{"$f":"VLOOKUP(LEFT(D286,(FIND(\" \",D286,1)-1))*1,EWEMs!$B$5:$D$29,3,FALSE)","v":{"$error":"#VALUE!"}},false,""]
[null,null,{"$f":"IFERROR(VLOOKUP(B287, RemediationUnits!$B$6:$C$48,2, FALSE),\"\")","v":""},null,null,"",null,null,null,null,"",false,{"$f":"INDEX(EWEMs!$F$5:$F$29,MATCH(D287,EWEMs!$X$5:$X$29,0))","v":{"$error":"#N/A"}},"not bath","not kitchen",{"$f":"VLOOKUP(LEFT(D287,(FIND(\" \",D287,1)-1))*1,EWEMs!$B$5:$D$29,3,FALSE)","v":{"$error":"#VALUE!"}},false,""]
[null,null,{"$f":"IFERROR(VLOOKUP(B288, RemediationUnits!$B$6:$C$48,2, FALSE),\"\")","v":""},null,null,"",null,null,null,null,"",false,{"$f":"INDEX(EWEMs!$F$5:$F$29,MATCH(D288,EWEMs!$X$5:$X$29,0))","v":{"$error":"#N/A"}},"not bath","not kitchen",{"$f":"VLOOKUP(LEFT(D288,(FIND(\" \",D288,1)-1))*1,EWEMs!$B$5:$D$29,3,FALSE)","v":{"$error":"#VALUE!"}},false,""]
[null,null,{"$f":"IFERROR(VLOOKUP(B289, RemediationUnits!$B$6:$C$48,2, FALSE),\"\")","v":""},null,null,"",null,null,null,null,"",false,{"$f":"INDEX(EWEMs!$F$5:$F$29,MATCH(D289,EWEMs!$X$5:$X$29,0))","v":{"$error":"#N/A"}},"not bath","not kitchen",{"$f":"VLOOKUP(LEFT(D289,(FIND(\" \",D289,1)-1))*1,EWEMs!$B$5:$D$29,3,FALSE)","v":{"$error":"#VALUE!"}},false,""]
[null,null,{"$f":"IFERROR(VLOOKUP(B290, RemediationUnits!$B$6:$C$48,2, FALSE),\"\")","v":""},null,null,"",null,null,null,null,"",false,{"$f":"INDEX(EWEMs!$F$5:$F$29,MATCH(D290,EWEMs!$X$5:$X$29,0))","v":{"$error":"#N/A"}},"not bath","not kitchen",{"$f":"VLOOKUP(LEFT(D290,(FIND(\" \",D290,1)-1))*1,EWEMs!$B$5:$D$29,3,FALSE)","v":{"$error":"#VALUE!"}},false,""]
[null,null,{"$f":"IFERROR(VLOOKUP(B291, RemediationUnits!$B$6:$C$48,2, FALSE),\"\")","v":""},null,null,"",null,null,null,null,"",false,{"$f":"INDEX(EWEMs!$F$5:$F$29,MATCH(D291,EWEMs!$X$5:$X$29,0))","v":{"$error":"#N/A"}},"not bath","not kitchen",{"$f":"VLOOKUP(LEFT(D291,(FIND(\" \",D291,1)-1))*1,EWEMs!$B$5:$D$29,3,FALSE)","v":{"$error":"#VALUE!"}},false,""]
[null,null,{"$f":"IFERROR(VLOOKUP(B292, RemediationUnits!$B$6:$C$48,2, FALSE),\"\")","v":""},null,null,"",null,null,null,null,"",false,{"$f":"INDEX(EWEMs!$F$5:$F$29,MATCH(D292,EWEMs!$X$5:$X$29,0))","v":{"$error":"#N/A"}},"not bath","not kitchen",{"$f":"VLOOKUP(LEFT(D292,(FIND(\" \",D292,1)-1))*1,EWEMs!$B$5:$D$29,3,FALSE)","v":{"$error":"#VALUE!"}},false,""]
[null,null,{"$f":"IFERROR(VLOOKUP(B293, RemediationUnits!$B$6:$C$48,2, FALSE),\"\")","v":""},null,null,"",null,null,null,null,"",false,{"$f":"INDEX(EWEMs!$F$5:$F$29,MATCH(D293,EWEMs!$X$5:$X$29,0))","v":{"$error":"#N/A"}},"not bath","not kitchen",{"$f":"VLOOKUP(LEFT(D293,(FIND(\" \",D293,1)-1))*1,EWEMs!$B$5:$D$29,3,FALSE)","v":{"$error":"#VALUE!"}},false,""]
[null,null,{"$f":"IFERROR(VLOOKUP(B294, RemediationUnits!$B$6:$C$48,2, FALSE),\"\")","v":""},null,null,"",null,null,null,null,"",false,{"$f":"INDEX(EWEMs!$F$5:$F$29,MATCH(D294,EWEMs!$X$5:$X$29,0))","v":{"$error":"#N/A"}},"not bath","not kitchen",{"$f":"VLOOKUP(LEFT(D294,(FIND(\" \",D294,1)-1))*1,EWEMs!$B$5:$D$29,3,FALSE)","v":{"$error":"#VALUE!"}},false,""]
[null,null,{"$f":"IFERROR(VLOOKUP(B295, RemediationUnits!$B$6:$C$48,2, FALSE),\"\")","v":""},null,null,"",null,null,null,null,"",false,{"$f":"INDEX(EWEMs!$F$5:$F$29,MATCH(D295,EWEMs!$X$5:$X$29,0))","v":{"$error":"#N/A"}},"not bath","not kitchen",{"$f":"VLOOKUP(LEFT(D295,(FIND(\" \",D295,1)-1))*1,EWEMs!$B$5:$D$29,3,FALSE)","v":{"$error":"#VALUE!"}},false,""]
[null,null,{"$f":"IFERROR(VLOOKUP(B296, RemediationUnits!$B$6:$C$48,2, FALSE),\"\")","v":""},null,null,"",null,null,null,null,"",false,{"$f":"INDEX(EWEMs!$F$5:$F$29,MATCH(D296,EWEMs!$X$5:$X$29,0))","v":{"$error":"#N/A"}},"not bath","not kitchen",{"$f":"VLOOKUP(LEFT(D296,(FIND(\" \",D296,1)-1))*1,EWEMs!$B$5:$D$29,3,FALSE)","v":{"$error":"#VALUE!"}},false,""]
[null,null,{"$f":"IFERROR(VLOOKUP(B297, RemediationUnits!$B$6:$C$48,2, FALSE),\"\")","v":""},null,null,"",null,null,null,null,"",false,{"$f":"INDEX(EWEMs!$F$5:$F$29,MATCH(D297,EWEMs!$X$5:$X$29,0))","v":{"$error":"#N/A"}},"not bath","not kitchen",{"$f":"VLOOKUP(LEFT(D297,(FIND(\" \",D297,1)-1))*1,EWEMs!$B$5:$D$29,3,FALSE)","v":{"$error":"#VALUE!"}},false,""]
[null,null,{"$f":"IFERROR(VLOOKUP(B298, RemediationUnits!$B$6:$C$48,2, FALSE),\"\")","v":""},null,null,"",null,null,null,null,"",false,{"$f":"INDEX(EWEMs!$F$5:$F$29,MATCH(D298,EWEMs!$X$5:$X$29,0))","v":{"$error":"#N/A"}},"not bath","not kitchen",{"$f":"VLOOKUP(LEFT(D298,(FIND(\" \",D298,1)-1))*1,EWEMs!$B$5:$D$29,3,FALSE)","v":{"$error":"#VALUE!"}},false,""]
[null,null,{"$f":"IFERROR(VLOOKUP(B299, RemediationUnits!$B$6:$C$48,2, FALSE),\"\")","v":""},null,null,"",null,null,null,null,"",false,{"$f":"INDEX(EWEMs!$F$5:$F$29,MATCH(D299,EWEMs!$X$5:$X$29,0))","v":{"$error":"#N/A"}},"not bath","not kitchen",{"$f":"VLOOKUP(LEFT(D299,(FIND(\" \",D299,1)-1))*1,EWEMs!$B$5:$D$29,3,FALSE)","v":{"$error":"#VALUE!"}},false,""]
[null,null,{"$f":"IFERROR(VLOOKUP(B300, RemediationUnits!$B$6:$C$48,2, FALSE),\"\")","v":""},null,null,"",null,null,null,null,"",false,{"$f":"INDEX(EWEMs!$F$5:$F$29,MATCH(D300,EWEMs!$X$5:$X$29,0))","v":{"$error":"#N/A"}},"not bath","not kitchen",{"$f":"VLOOKUP(LEFT(D300,(FIND(\" \",D300,1)-1))*1,EWEMs!$B$5:$D$29,3,FALSE)","v":{"$error":"#VALUE!"}},false,""]
[null,null,{"$f":"IFERROR(VLOOKUP(B301, RemediationUnits!$B$6:$C$48,2, FALSE),\"\")","v":""},null,null,"",null,null,null,null,"",false,{"$f":"INDEX(EWEMs!$F$5:$F$29,MATCH(D301,EWEMs!$X$5:$X$29,0))","v":{"$error":"#N/A"}},"not bath","not kitchen",{"$f":"VLOOKUP(LEFT(D301,(FIND(\" \",D301,1)-1))*1,EWEMs!$B$5:$D$29,3,FALSE)","v":{"$error":"#VALUE!"}},false,""]
[null,null,{"$f":"IFERROR(VLOOKUP(B302, RemediationUnits!$B$6:$C$48,2, FALSE),\"\")","v":""},null,null,"",null,null,null,null,"",false,{"$f":"INDEX(EWEMs!$F$5:$F$29,MATCH(D302,EWEMs!$X$5:$X$29,0))","v":{"$error":"#N/A"}},"not bath","not kitchen",{"$f":"VLOOKUP(LEFT(D302,(FIND(\" \",D302,1)-1))*1,EWEMs!$B$5:$D$29,3,FALSE)","v":{"$error":"#VALUE!"}},false,""]
[null,null,{"$f":"IFERROR(VLOOKUP(B303, RemediationUnits!$B$6:$C$48,2, FALSE),\"\")","v":""},null,null,"",null,null,null,null,"",false,{"$f":"INDEX(EWEMs!$F$5:$F$29,MATCH(D303,EWEMs!$X$5:$X$29,0))","v":{"$error":"#N/A"}},"not bath","not kitchen",{"$f":"VLOOKUP(LEFT(D303,(FIND(\" \",D303,1)-1))*1,EWEMs!$B$5:$D$29,3,FALSE)","v":{"$error":"#VALUE!"}},false,""]
[null,null,{"$f":"IFERROR(VLOOKUP(B304, RemediationUnits!$B$6:$C$48,2, FALSE),\"\")","v":""},null,null,"",null,null,null,null,"",false,{"$f":"INDEX(EWEMs!$F$5:$F$29,MATCH(D304,EWEMs!$X$5:$X$29,0))","v":{"$error":"#N/A"}},"not bath","not kitchen",{"$f":"VLOOKUP(LEFT(D304,(FIND(\" \",D304,1)-1))*1,EWEMs!$B$5:$D$29,3,FALSE)","v":{"$error":"#VALUE!"}},false,""]
[null,null,{"$f":"IFERROR(VLOOKUP(B305, RemediationUnits!$B$6:$C$48,2, FALSE),\"\")","v":""},null,null,"",null,null,null,null,"",false,{"$f":"INDEX(EWEMs!$F$5:$F$29,MATCH(D305,EWEMs!$X$5:$X$29,0))","v":{"$error":"#N/A"}},"not bath","not kitchen",{"$f":"VLOOKUP(LEFT(D305,(FIND(\" \",D305,1)-1))*1,EWEMs!$B$5:$D$29,3,FALSE)","v":{"$error":"#VALUE!"}},false,""]
[null,null,{"$f":"IFERROR(VLOOKUP(B306, RemediationUnits!$B$6:$C$48,2, FALSE),\"\")","v":""},null,null,"",null,null,null,null,"",false,{"$f":"INDEX(EWEMs!$F$5:$F$29,MATCH(D306,EWEMs!$X$5:$X$29,0))","v":{"$error":"#N/A"}},"not bath","not kitchen",{"$f":"VLOOKUP(LEFT(D306,(FIND(\" \",D306,1)-1))*1,EWEMs!$B$5:$D$29,3,FALSE)","v":{"$error":"#VALUE!"}},false,""]
[null,null,{"$f":"IFERROR(VLOOKUP(B307, RemediationUnits!$B$6:$C$48,2, FALSE),\"\")","v":""},null,null,"",null,null,null,null,"",false,{"$f":"INDEX(EWEMs!$F$5:$F$29,MATCH(D307,EWEMs!$X$5:$X$29,0))","v":{"$error":"#N/A"}},"not bath","not kitchen",{"$f":"VLOOKUP(LEFT(D307,(FIND(\" \",D307,1)-1))*1,EWEMs!$B$5:$D$29,3,FALSE)","v":{"$error":"#VALUE!"}},false,""]
[null,null,{"$f":"IFERROR(VLOOKUP(B308, RemediationUnits!$B$6:$C$48,2, FALSE),\"\")","v":""},null,null,"",null,null,null,null,"",false,{"$f":"INDEX(EWEMs!$F$5:$F$29,MATCH(D308,EWEMs!$X$5:$X$29,0))","v":{"$error":"#N/A"}},"not bath","not kitchen",{"$f":"VLOOKUP(LEFT(D308,(FIND(\" \",D308,1)-1))*1,EWEMs!$B$5:$D$29,3,FALSE)","v":{"$error":"#VALUE!"}},false,""]
[null,null,{"$f":"IFERROR(VLOOKUP(B309, RemediationUnits!$B$6:$C$48,2, FALSE),\"\")","v":""},null,null,"",null,null,null,null,"",false,{"$f":"INDEX(EWEMs!$F$5:$F$29,MATCH(D309,EWEMs!$X$5:$X$29,0))","v":{"$error":"#N/A"}},"not bath","not kitchen",{"$f":"VLOOKUP(LEFT(D309,(FIND(\" \",D309,1)-1))*1,EWEMs!$B$5:$D$29,3,FALSE)","v":{"$error":"#VALUE!"}},false,""]
[null,null,{"$f":"IFERROR(VLOOKUP(B310, RemediationUnits!$B$6:$C$48,2, FALSE),\"\")","v":""},null,null,"",null,null,null,null,"",false,{"$f":"INDEX(EWEMs!$F$5:$F$29,MATCH(D310,EWEMs!$X$5:$X$29,0))","v":{"$error":"#N/A"}},"not bath","not kitchen",{"$f":"VLOOKUP(LEFT(D310,(FIND(\" \",D310,1)-1))*1,EWEMs!$B$5:$D$29,3,FALSE)","v":{"$error":"#VALUE!"}},false,""]
[null,null,{"$f":"IFERROR(VLOOKUP(B311, RemediationUnits!$B$6:$C$48,2, FALSE),\"\")","v":""},null,null,"",null,null,null,null,"",false,{"$f":"INDEX(EWEMs!$F$5:$F$29,MATCH(D311,EWEMs!$X$5:$X$29,0))","v":{"$error":"#N/A"}},"not bath","not kitchen",{"$f":"VLOOKUP(LEFT(D311,(FIND(\" \",D311,1)-1))*1,EWEMs!$B$5:$D$29,3,FALSE)","v":{"$error":"#VALUE!"}},false,""]
[null,null,{"$f":"IFERROR(VLOOKUP(B312, RemediationUnits!$B$6:$C$48,2, FALSE),\"\")","v":""},null,null,"",null,null,null,null,"",false,{"$f":"INDEX(EWEMs!$F$5:$F$29,MATCH(D312,EWEMs!$X$5:$X$29,0))","v":{"$error":"#N/A"}},"not bath","not kitchen",{"$f":"VLOOKUP(LEFT(D312,(FIND(\" \",D312,1)-1))*1,EWEMs!$B$5:$D$29,3,FALSE)","v":{"$error":"#VALUE!"}},false,""]
[null,null,{"$f":"IFERROR(VLOOKUP(B313, RemediationUnits!$B$6:$C$48,2, FALSE),\"\")","v":""},null,null,"",null,null,null,null,"",false,{"$f":"INDEX(EWEMs!$F$5:$F$29,MATCH(D313,EWEMs!$X$5:$X$29,0))","v":{"$error":"#N/A"}},"not bath","not kitchen",{"$f":"VLOOKUP(LEFT(D313,(FIND(\" \",D313,1)-1))*1,EWEMs!$B$5:$D$29,3,FALSE)","v":{"$error":"#VALUE!"}},false,""]
[null,null,{"$f":"IFERROR(VLOOKUP(B314, RemediationUnits!$B$6:$C$48,2, FALSE),\"\")","v":""},null,null,"",null,null,null,null,"",false,{"$f":"INDEX(EWEMs!$F$5:$F$29,MATCH(D314,EWEMs!$X$5:$X$29,0))","v":{"$error":"#N/A"}},"not bath","not kitchen",{"$f":"VLOOKUP(LEFT(D314,(FIND(\" \",D314,1)-1))*1,EWEMs!$B$5:$D$29,3,FALSE)","v":{"$error":"#VALUE!"}},false,""]
[null,null,{"$f":"IFERROR(VLOOKUP(B315, RemediationUnits!$B$6:$C$48,2, FALSE),\"\")","v":""},null,null,"",null,null,null,null,"",false,{"$f":"INDEX(EWEMs!$F$5:$F$29,MATCH(D315,EWEMs!$X$5:$X$29,0))","v":{"$error":"#N/A"}},"not bath","not kitchen",{"$f":"VLOOKUP(LEFT(D315,(FIND(\" \",D315,1)-1))*1,EWEMs!$B$5:$D$29,3,FALSE)","v":{"$error":"#VALUE!"}},false,""]
[null,null,{"$f":"IFERROR(VLOOKUP(B316, RemediationUnits!$B$6:$C$48,2, FALSE),\"\")","v":""},null,null,"",null,null,null,null,"",false,{"$f":"INDEX(EWEMs!$F$5:$F$29,MATCH(D316,EWEMs!$X$5:$X$29,0))","v":{"$error":"#N/A"}},"not bath","not kitchen",{"$f":"VLOOKUP(LEFT(D316,(FIND(\" \",D316,1)-1))*1,EWEMs!$B$5:$D$29,3,FALSE)","v":{"$error":"#VALUE!"}},false,""]
[null,null,{"$f":"IFERROR(VLOOKUP(B317, RemediationUnits!$B$6:$C$48,2, FALSE),\"\")","v":""},null,null,"",null,null,null,null,"",false,{"$f":"INDEX(EWEMs!$F$5:$F$29,MATCH(D317,EWEMs!$X$5:$X$29,0))","v":{"$error":"#N/A"}},"not bath","not kitchen",{"$f":"VLOOKUP(LEFT(D317,(FIND(\" \",D317,1)-1))*1,EWEMs!$B$5:$D$29,3,FALSE)","v":{"$error":"#VALUE!"}},false,""]
[null,null,{"$f":"IFERROR(VLOOKUP(B318, RemediationUnits!$B$6:$C$48,2, FALSE),\"\")","v":""},null,null,"",null,null,null,null,"",false,{"$f":"INDEX(EWEMs!$F$5:$F$29,MATCH(D318,EWEMs!$X$5:$X$29,0))","v":{"$error":"#N/A"}},"not bath","not kitchen",{"$f":"VLOOKUP(LEFT(D318,(FIND(\" \",D318,1)-1))*1,EWEMs!$B$5:$D$29,3,FALSE)","v":{"$error":"#VALUE!"}},false,""]
[null,null,{"$f":"IFERROR(VLOOKUP(B319, RemediationUnits!$B$6:$C$48,2, FALSE),\"\")","v":""},null,null,"",null,null,null,null,"",false,{"$f":"INDEX(EWEMs!$F$5:$F$29,MATCH(D319,EWEMs!$X$5:$X$29,0))","v":{"$error":"#N/A"}},"not bath","not kitchen",{"$f":"VLOOKUP(LEFT(D319,(FIND(\" \",D319,1)-1))*1,EWEMs!$B$5:$D$29,3,FALSE)","v":{"$error":"#VALUE!"}},false,""]
[null,null,{"$f":"IFERROR(VLOOKUP(B320, RemediationUnits!$B$6:$C$48,2, FALSE),\"\")","v":""},null,null,"",null,null,null,null,"",false,{"$f":"INDEX(EWEMs!$F$5:$F$29,MATCH(D320,EWEMs!$X$5:$X$29,0))","v":{"$error":"#N/A"}},"not bath","not kitchen",{"$f":"VLOOKUP(LEFT(D320,(FIND(\" \",D320,1)-1))*1,EWEMs!$B$5:$D$29,3,FALSE)","v":{"$error":"#VALUE!"}},false,""]
[null,null,{"$f":"IFERROR(VLOOKUP(B321, RemediationUnits!$B$6:$C$48,2, FALSE),\"\")","v":""},null,null,"",null,null,null,null,"",false,{"$f":"INDEX(EWEMs!$F$5:$F$29,MATCH(D321,EWEMs!$X$5:$X$29,0))","v":{"$error":"#N/A"}},"not bath","not kitchen",{"$f":"VLOOKUP(LEFT(D321,(FIND(\" \",D321,1)-1))*1,EWEMs!$B$5:$D$29,3,FALSE)","v":{"$error":"#VALUE!"}},false,""]
[null,null,{"$f":"IFERROR(VLOOKUP(B322, RemediationUnits!$B$6:$C$48,2, FALSE),\"\")","v":""},null,null,"",null,null,null,null,"",false,{"$f":"INDEX(EWEMs!$F$5:$F$29,MATCH(D322,EWEMs!$X$5:$X$29,0))","v":{"$error":"#N/A"}},"not bath","not kitchen",{"$f":"VLOOKUP(LEFT(D322,(FIND(\" \",D322,1)-1))*1,EWEMs!$B$5:$D$29,3,FALSE)","v":{"$error":"#VALUE!"}},false,""]
[null,null,{"$f":"IFERROR(VLOOKUP(B323, RemediationUnits!$B$6:$C$48,2, FALSE),\"\")","v":""},null,null,"",null,null,null,null,"",false,{"$f":"INDEX(EWEMs!$F$5:$F$29,MATCH(D323,EWEMs!$X$5:$X$29,0))","v":{"$error":"#N/A"}},"not bath","not kitchen",{"$f":"VLOOKUP(LEFT(D323,(FIND(\" \",D323,1)-1))*1,EWEMs!$B$5:$D$29,3,FALSE)","v":{"$error":"#VALUE!"}},false,""]
[null,null,{"$f":"IFERROR(VLOOKUP(B324, RemediationUnits!$B$6:$C$48,2, FALSE),\"\")","v":""},null,null,"",null,null,null,null,"",false,{"$f":"INDEX(EWEMs!$F$5:$F$29,MATCH(D324,EWEMs!$X$5:$X$29,0))","v":{"$error":"#N/A"}},"not bath","not kitchen",{"$f":"VLOOKUP(LEFT(D324,(FIND(\" \",D324,1)-1))*1,EWEMs!$B$5:$D$29,3,FALSE)","v":{"$error":"#VALUE!"}},false,""]
[null,null,{"$f":"IFERROR(VLOOKUP(B325, RemediationUnits!$B$6:$C$48,2, FALSE),\"\")","v":""},null,null,"",null,null,null,null,"",false,{"$f":"INDEX(EWEMs!$F$5:$F$29,MATCH(D325,EWEMs!$X$5:$X$29,0))","v":{"$error":"#N/A"}},"not bath","not kitchen",{"$f":"VLOOKUP(LEFT(D325,(FIND(\" \",D325,1)-1))*1,EWEMs!$B$5:$D$29,3,FALSE)","v":{"$error":"#VALUE!"}},false,""]
[null,null,{"$f":"IFERROR(VLOOKUP(B326, RemediationUnits!$B$6:$C$48,2, FALSE),\"\")","v":""},null,null,"",null,null,null,null,"",false,{"$f":"INDEX(EWEMs!$F$5:$F$29,MATCH(D326,EWEMs!$X$5:$X$29,0))","v":{"$error":"#N/A"}},"not bath","not kitchen",{"$f":"VLOOKUP(LEFT(D326,(FIND(\" \",D326,1)-1))*1,EWEMs!$B$5:$D$29,3,FALSE)","v":{"$error":"#VALUE!"}},false,""]
[null,null,{"$f":"IFERROR(VLOOKUP(B327, RemediationUnits!$B$6:$C$48,2, FALSE),\"\")","v":""},null,null,{"$f":"IF(AND(L327=TRUE,D327<>\"\"), IF(ISNUMBER(SEARCH(\"compliant\", N327)),N327,IF(ISNUMBER(SEARCH(\"compliant\",O327)),O327,IF(E327<=M327,\"compliant\",\"noncompliant\"))),\"\")","v":""},null,null,null,null,{"$f":"IF(OR(F327=\"compliant\",F327=\"noncompliant\"),D327&F327,D327&G327)","v":""},{"$f":"IF(OR(ISNUMBER(FIND(\"low-flow\",D327,1)), ISNUMBER(FIND(\"low-flush\",D327,1))),TRUE,FALSE)","v":false},{"$f":"INDEX(EWEMs!$F$5:$F$29,MATCH(D327,EWEMs!$X$5:$X$29,0))","v":{"$error":"#N/A"}},{"$f":"IF(OR(ISNUMBER(SEARCH(\"bath faucets\", D327)), AND( ISNUMBER(SEARCH(\"fixture\", D327)),ISNUMBER(SEARCH(\"bath\",P327)) )), IF(M327<=1, IF(AND(E327>=M327, E327<=1), \"compliant\", \"noncompliant\"), IF(AND(E327>=1, E327<=M327),\"compliant\",\"noncompliant\")), \"not bath\")","v":"not bath"},{"$f":"IF(OR(ISNUMBER(SEARCH(\"kitchen faucets\",D327)),AND(ISNUMBER(SEARCH(\"fixtures\",D327)),ISNUMBER(SEARCH(\"kitchen\",P327)))),IF(M327<=1.5,IF(AND(E327>=1, E327<=1.5),\"compliant\",\"noncompliant\"),IF(AND(E327>=1.5,E327<=M327),\"compliant\",\"noncompliant\")),\"not kitchen\"\n)","v":"not kitchen"},{"$f":"VLOOKUP(LEFT(D327,(FIND(\" \",D327,1)-1))*1,EWEMs!$B$5:$D$29,3,FALSE)","v":{"$error":"#VALUE!"}},false,{"$f":"IF(OR(F327=\"noncompliant\", G327=\"noncompliant\"), IFERROR(LEFT(D327, LEN(_xlfn.TEXTBEFORE(D327,\"-\",-1)))&\" (Space: \"&B327&\")\", \"\"), \"\")","v":""}]
[null,null,{"$f":"IFERROR(VLOOKUP(B328, RemediationUnits!$B$6:$C$48,2, FALSE),\"\")","v":""},null,null,"",null,null,null,null,"",false,{"$f":"INDEX(EWEMs!$F$5:$F$29,MATCH(D328,EWEMs!$X$5:$X$29,0))","v":{"$error":"#N/A"}},"not bath","not kitchen",{"$f":"VLOOKUP(LEFT(D328,(FIND(\" \",D328,1)-1))*1,EWEMs!$B$5:$D$29,3,FALSE)","v":{"$error":"#VALUE!"}},{"$f":"IF(OR(B328<>\"\",D328<>\"\", E328<>\"\",G328<>\"\",H328<>\"\"), IF(L328=TRUE, IF(OR(B328=\"\", D328=\"\", E328=\"\", H328=\"\"), TRUE, FALSE), IF(OR(B328=\"\", D328=\"\", G328=\"\", H328=\"\"), TRUE, FALSE)), FALSE)","v":false},""]
[null,null,{"$f":"IFERROR(VLOOKUP(B329, RemediationUnits!$B$6:$C$48,2, FALSE),\"\")","v":""},null,null,"",null,null,null,null,"",false,{"$f":"INDEX(EWEMs!$F$5:$F$29,MATCH(D329,EWEMs!$X$5:$X$29,0))","v":{"$error":"#N/A"}},"not bath","not kitchen",{"$f":"VLOOKUP(LEFT(D329,(FIND(\" \",D329,1)-1))*1,EWEMs!$B$5:$D$29,3,FALSE)","v":{"$error":"#VALUE!"}},false,""]
[null,null,{"$f":"IFERROR(VLOOKUP(B330, RemediationUnits!$B$6:$C$48,2, FALSE),\"\")","v":""},null,null,"",null,null,null,null,"",false,{"$f":"INDEX(EWEMs!$F$5:$F$29,MATCH(D330,EWEMs!$X$5:$X$29,0))","v":{"$error":"#N/A"}},"not bath","not kitchen",{"$f":"VLOOKUP(LEFT(D330,(FIND(\" \",D330,1)-1))*1,EWEMs!$B$5:$D$29,3,FALSE)","v":{"$error":"#VALUE!"}},false,""]
[null,null,{"$f":"IFERROR(VLOOKUP(B331, RemediationUnits!$B$6:$C$48,2, FALSE),\"\")","v":""},null,null,"",null,null,null,null,"",false,{"$f":"INDEX(EWEMs!$F$5:$F$29,MATCH(D331,EWEMs!$X$5:$X$29,0))","v":{"$error":"#N/A"}},"not bath","not kitchen",{"$f":"VLOOKUP(LEFT(D331,(FIND(\" \",D331,1)-1))*1,EWEMs!$B$5:$D$29,3,FALSE)","v":{"$error":"#VALUE!"}},false,""]
[null,null,{"$f":"IFERROR(VLOOKUP(B332, RemediationUnits!$B$6:$C$48,2, FALSE),\"\")","v":""},null,null,"",null,null,null,null,"",false,{"$f":"INDEX(EWEMs!$F$5:$F$29,MATCH(D332,EWEMs!$X$5:$X$29,0))","v":{"$error":"#N/A"}},"not bath","not kitchen",{"$f":"VLOOKUP(LEFT(D332,(FIND(\" \",D332,1)-1))*1,EWEMs!$B$5:$D$29,3,FALSE)","v":{"$error":"#VALUE!"}},false,""]
[null,null,{"$f":"IFERROR(VLOOKUP(B333, RemediationUnits!$B$6:$C$48,2, FALSE),\"\")","v":""},null,null,"",null,null,null,null,"",false,{"$f":"INDEX(EWEMs!$F$5:$F$29,MATCH(D333,EWEMs!$X$5:$X$29,0))","v":{"$error":"#N/A"}},"not bath","not kitchen",{"$f":"VLOOKUP(LEFT(D333,(FIND(\" \",D333,1)-1))*1,EWEMs!$B$5:$D$29,3,FALSE)","v":{"$error":"#VALUE!"}},false,""]
[null,null,{"$f":"IFERROR(VLOOKUP(B334, RemediationUnits!$B$6:$C$48,2, FALSE),\"\")","v":""},null,null,"",null,null,null,null,"",false,{"$f":"INDEX(EWEMs!$F$5:$F$29,MATCH(D334,EWEMs!$X$5:$X$29,0))","v":{"$error":"#N/A"}},"not bath","not kitchen",{"$f":"VLOOKUP(LEFT(D334,(FIND(\" \",D334,1)-1))*1,EWEMs!$B$5:$D$29,3,FALSE)","v":{"$error":"#VALUE!"}},false,""]
[null,null,{"$f":"IFERROR(VLOOKUP(B335, RemediationUnits!$B$6:$C$48,2, FALSE),\"\")","v":""},null,null,"",null,null,null,null,"",false,{"$f":"INDEX(EWEMs!$F$5:$F$29,MATCH(D335,EWEMs!$X$5:$X$29,0))","v":{"$error":"#N/A"}},"not bath","not kitchen",{"$f":"VLOOKUP(LEFT(D335,(FIND(\" \",D335,1)-1))*1,EWEMs!$B$5:$D$29,3,FALSE)","v":{"$error":"#VALUE!"}},false,""]
[null,null,{"$f":"IFERROR(VLOOKUP(B336, RemediationUnits!$B$6:$C$48,2, FALSE),\"\")","v":""},null,null,"",null,null,null,null,"",false,{"$f":"INDEX(EWEMs!$F$5:$F$29,MATCH(D336,EWEMs!$X$5:$X$29,0))","v":{"$error":"#N/A"}},"not bath","not kitchen",{"$f":"VLOOKUP(LEFT(D336,(FIND(\" \",D336,1)-1))*1,EWEMs!$B$5:$D$29,3,FALSE)","v":{"$error":"#VALUE!"}},false,""]
[null,null,{"$f":"IFERROR(VLOOKUP(B337, RemediationUnits!$B$6:$C$48,2, FALSE),\"\")","v":""},null,null,"",null,null,null,null,"",false,{"$f":"INDEX(EWEMs!$F$5:$F$29,MATCH(D337,EWEMs!$X$5:$X$29,0))","v":{"$error":"#N/A"}},"not bath","not kitchen",{"$f":"VLOOKUP(LEFT(D337,(FIND(\" \",D337,1)-1))*1,EWEMs!$B$5:$D$29,3,FALSE)","v":{"$error":"#VALUE!"}},false,""]
[null,null,{"$f":"IFERROR(VLOOKUP(B338, RemediationUnits!$B$6:$C$48,2, FALSE),\"\")","v":""},null,null,"",null,null,null,null,"",false,{"$f":"INDEX(EWEMs!$F$5:$F$29,MATCH(D338,EWEMs!$X$5:$X$29,0))","v":{"$error":"#N/A"}},"not bath","not kitchen",{"$f":"VLOOKUP(LEFT(D338,(FIND(\" \",D338,1)-1))*1,EWEMs!$B$5:$D$29,3,FALSE)","v":{"$error":"#VALUE!"}},false,""]
[null,null,{"$f":"IFERROR(VLOOKUP(B339, RemediationUnits!$B$6:$C$48,2, FALSE),\"\")","v":""},null,null,"",null,null,null,null,"",false,{"$f":"INDEX(EWEMs!$F$5:$F$29,MATCH(D339,EWEMs!$X$5:$X$29,0))","v":{"$error":"#N/A"}},"not bath","not kitchen",{"$f":"VLOOKUP(LEFT(D339,(FIND(\" \",D339,1)-1))*1,EWEMs!$B$5:$D$29,3,FALSE)","v":{"$error":"#VALUE!"}},false,""]
[null,null,{"$f":"IFERROR(VLOOKUP(B340, RemediationUnits!$B$6:$C$48,2, FALSE),\"\")","v":""},null,null,"",null,null,null,null,"",false,{"$f":"INDEX(EWEMs!$F$5:$F$29,MATCH(D340,EWEMs!$X$5:$X$29,0))","v":{"$error":"#N/A"}},"not bath","not kitchen",{"$f":"VLOOKUP(LEFT(D340,(FIND(\" \",D340,1)-1))*1,EWEMs!$B$5:$D$29,3,FALSE)","v":{"$error":"#VALUE!"}},false,""]
[null,null,{"$f":"IFERROR(VLOOKUP(B341, RemediationUnits!$B$6:$C$48,2, FALSE),\"\")","v":""},null,null,"",null,null,null,null,"",false,{"$f":"INDEX(EWEMs!$F$5:$F$29,MATCH(D341,EWEMs!$X$5:$X$29,0))","v":{"$error":"#N/A"}},"not bath","not kitchen",{"$f":"VLOOKUP(LEFT(D341,(FIND(\" \",D341,1)-1))*1,EWEMs!$B$5:$D$29,3,FALSE)","v":{"$error":"#VALUE!"}},false,""]
[null,null,{"$f":"IFERROR(VLOOKUP(B342, RemediationUnits!$B$6:$C$48,2, FALSE),\"\")","v":""},null,null,"",null,null,null,null,"",false,{"$f":"INDEX(EWEMs!$F$5:$F$29,MATCH(D342,EWEMs!$X$5:$X$29,0))","v":{"$error":"#N/A"}},"not bath","not kitchen",{"$f":"VLOOKUP(LEFT(D342,(FIND(\" \",D342,1)-1))*1,EWEMs!$B$5:$D$29,3,FALSE)","v":{"$error":"#VALUE!"}},false,""]
[null,null,{"$f":"IFERROR(VLOOKUP(B343, RemediationUnits!$B$6:$C$48,2, FALSE),\"\")","v":""},null,null,"",null,null,null,null,"",false,{"$f":"INDEX(EWEMs!$F$5:$F$29,MATCH(D343,EWEMs!$X$5:$X$29,0))","v":{"$error":"#N/A"}},"not bath","not kitchen",{"$f":"VLOOKUP(LEFT(D343,(FIND(\" \",D343,1)-1))*1,EWEMs!$B$5:$D$29,3,FALSE)","v":{"$error":"#VALUE!"}},false,""]
[null,null,{"$f":"IFERROR(VLOOKUP(B344, RemediationUnits!$B$6:$C$48,2, FALSE),\"\")","v":""},null,null,"",null,null,null,null,"",false,{"$f":"INDEX(EWEMs!$F$5:$F$29,MATCH(D344,EWEMs!$X$5:$X$29,0))","v":{"$error":"#N/A"}},"not bath","not kitchen",{"$f":"VLOOKUP(LEFT(D344,(FIND(\" \",D344,1)-1))*1,EWEMs!$B$5:$D$29,3,FALSE)","v":{"$error":"#VALUE!"}},false,""]
[null,null,{"$f":"IFERROR(VLOOKUP(B345, RemediationUnits!$B$6:$C$48,2, FALSE),\"\")","v":""},null,null,"",null,null,null,null,"",false,{"$f":"INDEX(EWEMs!$F$5:$F$29,MATCH(D345,EWEMs!$X$5:$X$29,0))","v":{"$error":"#N/A"}},"not bath","not kitchen",{"$f":"VLOOKUP(LEFT(D345,(FIND(\" \",D345,1)-1))*1,EWEMs!$B$5:$D$29,3,FALSE)","v":{"$error":"#VALUE!"}},false,""]
[null,null,{"$f":"IFERROR(VLOOKUP(B346, RemediationUnits!$B$6:$C$48,2, FALSE),\"\")","v":""},null,null,"",null,null,null,null,"",false,{"$f":"INDEX(EWEMs!$F$5:$F$29,MATCH(D346,EWEMs!$X$5:$X$29,0))","v":{"$error":"#N/A"}},"not bath","not kitchen",{"$f":"VLOOKUP(LEFT(D346,(FIND(\" \",D346,1)-1))*1,EWEMs!$B$5:$D$29,3,FALSE)","v":{"$error":"#VALUE!"}},false,""]
[null,null,{"$f":"IFERROR(VLOOKUP(B347, RemediationUnits!$B$6:$C$48,2, FALSE),\"\")","v":""},null,null,"",null,null,null,null,"",false,{"$f":"INDEX(EWEMs!$F$5:$F$29,MATCH(D347,EWEMs!$X$5:$X$29,0))","v":{"$error":"#N/A"}},"not bath","not kitchen",{"$f":"VLOOKUP(LEFT(D347,(FIND(\" \",D347,1)-1))*1,EWEMs!$B$5:$D$29,3,FALSE)","v":{"$error":"#VALUE!"}},false,""]
[null,null,{"$f":"IFERROR(VLOOKUP(B348, RemediationUnits!$B$6:$C$48,2, FALSE),\"\")","v":""},null,null,"",null,null,null,null,"",false,{"$f":"INDEX(EWEMs!$F$5:$F$29,MATCH(D348,EWEMs!$X$5:$X$29,0))","v":{"$error":"#N/A"}},"not bath","not kitchen",{"$f":"VLOOKUP(LEFT(D348,(FIND(\" \",D348,1)-1))*1,EWEMs!$B$5:$D$29,3,FALSE)","v":{"$error":"#VALUE!"}},false,""]
[null,null,{"$f":"IFERROR(VLOOKUP(B349, RemediationUnits!$B$6:$C$48,2, FALSE),\"\")","v":""},null,null,"",null,null,null,null,"",false,{"$f":"INDEX(EWEMs!$F$5:$F$29,MATCH(D349,EWEMs!$X$5:$X$29,0))","v":{"$error":"#N/A"}},"not bath","not kitchen",{"$f":"VLOOKUP(LEFT(D349,(FIND(\" \",D349,1)-1))*1,EWEMs!$B$5:$D$29,3,FALSE)","v":{"$error":"#VALUE!"}},false,""]
[null,null,{"$f":"IFERROR(VLOOKUP(B350, RemediationUnits!$B$6:$C$48,2, FALSE),\"\")","v":""},null,null,"",null,null,null,null,"",false,{"$f":"INDEX(EWEMs!$F$5:$F$29,MATCH(D350,EWEMs!$X$5:$X$29,0))","v":{"$error":"#N/A"}},"not bath","not kitchen",{"$f":"VLOOKUP(LEFT(D350,(FIND(\" \",D350,1)-1))*1,EWEMs!$B$5:$D$29,3,FALSE)","v":{"$error":"#VALUE!"}},false,""]
[null,null,{"$f":"IFERROR(VLOOKUP(B351, RemediationUnits!$B$6:$C$48,2, FALSE),\"\")","v":""},null,null,"",null,null,null,null,"",false,{"$f":"INDEX(EWEMs!$F$5:$F$29,MATCH(D351,EWEMs!$X$5:$X$29,0))","v":{"$error":"#N/A"}},"not bath","not kitchen",{"$f":"VLOOKUP(LEFT(D351,(FIND(\" \",D351,1)-1))*1,EWEMs!$B$5:$D$29,3,FALSE)","v":{"$error":"#VALUE!"}},false,""]
[null,null,{"$f":"IFERROR(VLOOKUP(B352, RemediationUnits!$B$6:$C$48,2, FALSE),\"\")","v":""},null,null,"",null,null,null,null,"",false,{"$f":"INDEX(EWEMs!$F$5:$F$29,MATCH(D352,EWEMs!$X$5:$X$29,0))","v":{"$error":"#N/A"}},"not bath","not kitchen",{"$f":"VLOOKUP(LEFT(D352,(FIND(\" \",D352,1)-1))*1,EWEMs!$B$5:$D$29,3,FALSE)","v":{"$error":"#VALUE!"}},false,""]
[null,null,{"$f":"IFERROR(VLOOKUP(B353, RemediationUnits!$B$6:$C$48,2, FALSE),\"\")","v":""},null,null,"",null,null,null,null,"",false,{"$f":"INDEX(EWEMs!$F$5:$F$29,MATCH(D353,EWEMs!$X$5:$X$29,0))","v":{"$error":"#N/A"}},"not bath","not kitchen",{"$f":"VLOOKUP(LEFT(D353,(FIND(\" \",D353,1)-1))*1,EWEMs!$B$5:$D$29,3,FALSE)","v":{"$error":"#VALUE!"}},false,""]
[null,null,{"$f":"IFERROR(VLOOKUP(B354, RemediationUnits!$B$6:$C$48,2, FALSE),\"\")","v":""},null,null,"",null,null,null,null,"",false,{"$f":"INDEX(EWEMs!$F$5:$F$29,MATCH(D354,EWEMs!$X$5:$X$29,0))","v":{"$error":"#N/A"}},"not bath","not kitchen",{"$f":"VLOOKUP(LEFT(D354,(FIND(\" \",D354,1)-1))*1,EWEMs!$B$5:$D$29,3,FALSE)","v":{"$error":"#VALUE!"}},false,""]
[null,null,{"$f":"IFERROR(VLOOKUP(B355, RemediationUnits!$B$6:$C$48,2, FALSE),\"\")","v":""},null,null,"",null,null,null,null,"",false,{"$f":"INDEX(EWEMs!$F$5:$F$29,MATCH(D355,EWEMs!$X$5:$X$29,0))","v":{"$error":"#N/A"}},"not bath","not kitchen",{"$f":"VLOOKUP(LEFT(D355,(FIND(\" \",D355,1)-1))*1,EWEMs!$B$5:$D$29,3,FALSE)","v":{"$error":"#VALUE!"}},false,""]
[null,null,{"$f":"IFERROR(VLOOKUP(B356, RemediationUnits!$B$6:$C$48,2, FALSE),\"\")","v":""},null,null,"",null,null,null,null,"",false,{"$f":"INDEX(EWEMs!$F$5:$F$29,MATCH(D356,EWEMs!$X$5:$X$29,0))","v":{"$error":"#N/A"}},"not bath","not kitchen",{"$f":"VLOOKUP(LEFT(D356,(FIND(\" \",D356,1)-1))*1,EWEMs!$B$5:$D$29,3,FALSE)","v":{"$error":"#VALUE!"}},false,""]
[null,null,{"$f":"IFERROR(VLOOKUP(B357, RemediationUnits!$B$6:$C$48,2, FALSE),\"\")","v":""},null,null,"",null,null,null,null,"",false,{"$f":"INDEX(EWEMs!$F$5:$F$29,MATCH(D357,EWEMs!$X$5:$X$29,0))","v":{"$error":"#N/A"}},"not bath","not kitchen",{"$f":"VLOOKUP(LEFT(D357,(FIND(\" \",D357,1)-1))*1,EWEMs!$B$5:$D$29,3,FALSE)","v":{"$error":"#VALUE!"}},false,""]
[null,null,{"$f":"IFERROR(VLOOKUP(B358, RemediationUnits!$B$6:$C$48,2, FALSE),\"\")","v":""},null,null,"",null,null,null,null,"",false,{"$f":"INDEX(EWEMs!$F$5:$F$29,MATCH(D358,EWEMs!$X$5:$X$29,0))","v":{"$error":"#N/A"}},"not bath","not kitchen",{"$f":"VLOOKUP(LEFT(D358,(FIND(\" \",D358,1)-1))*1,EWEMs!$B$5:$D$29,3,FALSE)","v":{"$error":"#VALUE!"}},false,""]
[null,null,{"$f":"IFERROR(VLOOKUP(B359, RemediationUnits!$B$6:$C$48,2, FALSE),\"\")","v":""},null,null,"",null,null,null,null,"",false,{"$f":"INDEX(EWEMs!$F$5:$F$29,MATCH(D359,EWEMs!$X$5:$X$29,0))","v":{"$error":"#N/A"}},"not bath","not kitchen",{"$f":"VLOOKUP(LEFT(D359,(FIND(\" \",D359,1)-1))*1,EWEMs!$B$5:$D$29,3,FALSE)","v":{"$error":"#VALUE!"}},false,""]
[null,null,{"$f":"IFERROR(VLOOKUP(B360, RemediationUnits!$B$6:$C$48,2, FALSE),\"\")","v":""},null,null,"",null,null,null,null,"",false,{"$f":"INDEX(EWEMs!$F$5:$F$29,MATCH(D360,EWEMs!$X$5:$X$29,0))","v":{"$error":"#N/A"}},"not bath","not kitchen",{"$f":"VLOOKUP(LEFT(D360,(FIND(\" \",D360,1)-1))*1,EWEMs!$B$5:$D$29,3,FALSE)","v":{"$error":"#VALUE!"}},false,""]
[null,null,{"$f":"IFERROR(VLOOKUP(B361, RemediationUnits!$B$6:$C$48,2, FALSE),\"\")","v":""},null,null,"",null,null,null,null,"",false,{"$f":"INDEX(EWEMs!$F$5:$F$29,MATCH(D361,EWEMs!$X$5:$X$29,0))","v":{"$error":"#N/A"}},"not bath","not kitchen",{"$f":"VLOOKUP(LEFT(D361,(FIND(\" \",D361,1)-1))*1,EWEMs!$B$5:$D$29,3,FALSE)","v":{"$error":"#VALUE!"}},false,""]
[null,null,{"$f":"IFERROR(VLOOKUP(B362, RemediationUnits!$B$6:$C$48,2, FALSE),\"\")","v":""},null,null,"",null,null,null,null,"",false,{"$f":"INDEX(EWEMs!$F$5:$F$29,MATCH(D362,EWEMs!$X$5:$X$29,0))","v":{"$error":"#N/A"}},"not bath","not kitchen",{"$f":"VLOOKUP(LEFT(D362,(FIND(\" \",D362,1)-1))*1,EWEMs!$B$5:$D$29,3,FALSE)","v":{"$error":"#VALUE!"}},false,""]
[null,null,{"$f":"IFERROR(VLOOKUP(B363, RemediationUnits!$B$6:$C$48,2, FALSE),\"\")","v":""},null,null,"",null,null,null,null,"",false,{"$f":"INDEX(EWEMs!$F$5:$F$29,MATCH(D363,EWEMs!$X$5:$X$29,0))","v":{"$error":"#N/A"}},"not bath","not kitchen",{"$f":"VLOOKUP(LEFT(D363,(FIND(\" \",D363,1)-1))*1,EWEMs!$B$5:$D$29,3,FALSE)","v":{"$error":"#VALUE!"}},false,""]
[null,null,{"$f":"IFERROR(VLOOKUP(B364, RemediationUnits!$B$6:$C$48,2, FALSE),\"\")","v":""},null,null,"",null,null,null,null,"",false,{"$f":"INDEX(EWEMs!$F$5:$F$29,MATCH(D364,EWEMs!$X$5:$X$29,0))","v":{"$error":"#N/A"}},"not bath","not kitchen",{"$f":"VLOOKUP(LEFT(D364,(FIND(\" \",D364,1)-1))*1,EWEMs!$B$5:$D$29,3,FALSE)","v":{"$error":"#VALUE!"}},false,""]
[null,null,{"$f":"IFERROR(VLOOKUP(B365, RemediationUnits!$B$6:$C$48,2, FALSE),\"\")","v":""},null,null,"",null,null,null,null,"",false,{"$f":"INDEX(EWEMs!$F$5:$F$29,MATCH(D365,EWEMs!$X$5:$X$29,0))","v":{"$error":"#N/A"}},"not bath","not kitchen",{"$f":"VLOOKUP(LEFT(D365,(FIND(\" \",D365,1)-1))*1,EWEMs!$B$5:$D$29,3,FALSE)","v":{"$error":"#VALUE!"}},false,""]
[null,null,{"$f":"IFERROR(VLOOKUP(B366, RemediationUnits!$B$6:$C$48,2, FALSE),\"\")","v":""},null,null,"",null,null,null,null,"",false,{"$f":"INDEX(EWEMs!$F$5:$F$29,MATCH(D366,EWEMs!$X$5:$X$29,0))","v":{"$error":"#N/A"}},"not bath","not kitchen",{"$f":"VLOOKUP(LEFT(D366,(FIND(\" \",D366,1)-1))*1,EWEMs!$B$5:$D$29,3,FALSE)","v":{"$error":"#VALUE!"}},false,""]
[null,null,{"$f":"IFERROR(VLOOKUP(B367, RemediationUnits!$B$6:$C$48,2, FALSE),\"\")","v":""},null,null,"",null,null,null,null,"",false,{"$f":"INDEX(EWEMs!$F$5:$F$29,MATCH(D367,EWEMs!$X$5:$X$29,0))","v":{"$error":"#N/A"}},"not bath","not kitchen",{"$f":"VLOOKUP(LEFT(D367,(FIND(\" \",D367,1)-1))*1,EWEMs!$B$5:$D$29,3,FALSE)","v":{"$error":"#VALUE!"}},false,""]
[null,null,{"$f":"IFERROR(VLOOKUP(B368, RemediationUnits!$B$6:$C$48,2, FALSE),\"\")","v":""},null,null,"",null,null,null,null,"",false,{"$f":"INDEX(EWEMs!$F$5:$F$29,MATCH(D368,EWEMs!$X$5:$X$29,0))","v":{"$error":"#N/A"}},"not bath","not kitchen",{"$f":"VLOOKUP(LEFT(D368,(FIND(\" \",D368,1)-1))*1,EWEMs!$B$5:$D$29,3,FALSE)","v":{"$error":"#VALUE!"}},false,""]
[null,null,{"$f":"IFERROR(VLOOKUP(B369, RemediationUnits!$B$6:$C$48,2, FALSE),\"\")","v":""},null,null,"",null,null,null,null,"",false,{"$f":"INDEX(EWEMs!$F$5:$F$29,MATCH(D369,EWEMs!$X$5:$X$29,0))","v":{"$error":"#N/A"}},"not bath","not kitchen",{"$f":"VLOOKUP(LEFT(D369,(FIND(\" \",D369,1)-1))*1,EWEMs!$B$5:$D$29,3,FALSE)","v":{"$error":"#VALUE!"}},false,""]
[null,null,{"$f":"IFERROR(VLOOKUP(B370, RemediationUnits!$B$6:$C$48,2, FALSE),\"\")","v":""},null,null,"",null,null,null,null,"",false,{"$f":"INDEX(EWEMs!$F$5:$F$29,MATCH(D370,EWEMs!$X$5:$X$29,0))","v":{"$error":"#N/A"}},"not bath","not kitchen",{"$f":"VLOOKUP(LEFT(D370,(FIND(\" \",D370,1)-1))*1,EWEMs!$B$5:$D$29,3,FALSE)","v":{"$error":"#VALUE!"}},false,""]
[null,null,{"$f":"IFERROR(VLOOKUP(B371, RemediationUnits!$B$6:$C$48,2, FALSE),\"\")","v":""},null,null,"",null,null,null,null,"",false,{"$f":"INDEX(EWEMs!$F$5:$F$29,MATCH(D371,EWEMs!$X$5:$X$29,0))","v":{"$error":"#N/A"}},"not bath","not kitchen",{"$f":"VLOOKUP(LEFT(D371,(FIND(\" \",D371,1)-1))*1,EWEMs!$B$5:$D$29,3,FALSE)","v":{"$error":"#VALUE!"}},false,""]
[null,null,{"$f":"IFERROR(VLOOKUP(B372, RemediationUnits!$B$6:$C$48,2, FALSE),\"\")","v":""},null,null,"",null,null,null,null,"",false,{"$f":"INDEX(EWEMs!$F$5:$F$29,MATCH(D372,EWEMs!$X$5:$X$29,0))","v":{"$error":"#N/A"}},"not bath","not kitchen",{"$f":"VLOOKUP(LEFT(D372,(FIND(\" \",D372,1)-1))*1,EWEMs!$B$5:$D$29,3,FALSE)","v":{"$error":"#VALUE!"}},false,""]
[null,null,{"$f":"IFERROR(VLOOKUP(B373, RemediationUnits!$B$6:$C$48,2, FALSE),\"\")","v":""},null,null,"",null,null,null,null,"",false,{"$f":"INDEX(EWEMs!$F$5:$F$29,MATCH(D373,EWEMs!$X$5:$X$29,0))","v":{"$error":"#N/A"}},"not bath","not kitchen",{"$f":"VLOOKUP(LEFT(D373,(FIND(\" \",D373,1)-1))*1,EWEMs!$B$5:$D$29,3,FALSE)","v":{"$error":"#VALUE!"}},false,""]
[null,null,{"$f":"IFERROR(VLOOKUP(B374, RemediationUnits!$B$6:$C$48,2, FALSE),\"\")","v":""},null,null,"",null,null,null,null,"",false,{"$f":"INDEX(EWEMs!$F$5:$F$29,MATCH(D374,EWEMs!$X$5:$X$29,0))","v":{"$error":"#N/A"}},"not bath","not kitchen",{"$f":"VLOOKUP(LEFT(D374,(FIND(\" \",D374,1)-1))*1,EWEMs!$B$5:$D$29,3,FALSE)","v":{"$error":"#VALUE!"}},false,""]
[null,null,{"$f":"IFERROR(VLOOKUP(B375, RemediationUnits!$B$6:$C$48,2, FALSE),\"\")","v":""},null,null,"",null,null,null,null,"",false,{"$f":"INDEX(EWEMs!$F$5:$F$29,MATCH(D375,EWEMs!$X$5:$X$29,0))","v":{"$error":"#N/A"}},"not bath","not kitchen",{"$f":"VLOOKUP(LEFT(D375,(FIND(\" \",D375,1)-1))*1,EWEMs!$B$5:$D$29,3,FALSE)","v":{"$error":"#VALUE!"}},false,""]
[null,null,{"$f":"IFERROR(VLOOKUP(B376, RemediationUnits!$B$6:$C$48,2, FALSE),\"\")","v":""},null,null,"",null,null,null,null,"",false,{"$f":"INDEX(EWEMs!$F$5:$F$29,MATCH(D376,EWEMs!$X$5:$X$29,0))","v":{"$error":"#N/A"}},"not bath","not kitchen",{"$f":"VLOOKUP(LEFT(D376,(FIND(\" \",D376,1)-1))*1,EWEMs!$B$5:$D$29,3,FALSE)","v":{"$error":"#VALUE!"}},false,""]
[null,null,{"$f":"IFERROR(VLOOKUP(B377, RemediationUnits!$B$6:$C$48,2, FALSE),\"\")","v":""},null,null,"",null,null,null,null,"",false,{"$f":"INDEX(EWEMs!$F$5:$F$29,MATCH(D377,EWEMs!$X$5:$X$29,0))","v":{"$error":"#N/A"}},"not bath","not kitchen",{"$f":"VLOOKUP(LEFT(D377,(FIND(\" \",D377,1)-1))*1,EWEMs!$B$5:$D$29,3,FALSE)","v":{"$error":"#VALUE!"}},false,""]
[null,null,{"$f":"IFERROR(VLOOKUP(B378, RemediationUnits!$B$6:$C$48,2, FALSE),\"\")","v":""},null,null,"",null,null,null,null,"",false,{"$f":"INDEX(EWEMs!$F$5:$F$29,MATCH(D378,EWEMs!$X$5:$X$29,0))","v":{"$error":"#N/A"}},"not bath","not kitchen",{"$f":"VLOOKUP(LEFT(D378,(FIND(\" \",D378,1)-1))*1,EWEMs!$B$5:$D$29,3,FALSE)","v":{"$error":"#VALUE!"}},false,""]
[null,null,{"$f":"IFERROR(VLOOKUP(B379, RemediationUnits!$B$6:$C$48,2, FALSE),\"\")","v":""},null,null,"",null,null,null,null,"",false,{"$f":"INDEX(EWEMs!$F$5:$F$29,MATCH(D379,EWEMs!$X$5:$X$29,0))","v":{"$error":"#N/A"}},"not bath","not kitchen",{"$f":"VLOOKUP(LEFT(D379,(FIND(\" \",D379,1)-1))*1,EWEMs!$B$5:$D$29,3,FALSE)","v":{"$error":"#VALUE!"}},false,""]
[null,null,{"$f":"IFERROR(VLOOKUP(B380, RemediationUnits!$B$6:$C$48,2, FALSE),\"\")","v":""},null,null,"",null,null,null,null,"",false,{"$f":"INDEX(EWEMs!$F$5:$F$29,MATCH(D380,EWEMs!$X$5:$X$29,0))","v":{"$error":"#N/A"}},"not bath","not kitchen",{"$f":"VLOOKUP(LEFT(D380,(FIND(\" \",D380,1)-1))*1,EWEMs!$B$5:$D$29,3,FALSE)","v":{"$error":"#VALUE!"}},false,""]
[null,null,{"$f":"IFERROR(VLOOKUP(B381, RemediationUnits!$B$6:$C$48,2, FALSE),\"\")","v":""},null,null,"",null,null,null,null,"",false,{"$f":"INDEX(EWEMs!$F$5:$F$29,MATCH(D381,EWEMs!$X$5:$X$29,0))","v":{"$error":"#N/A"}},"not bath","not kitchen",{"$f":"VLOOKUP(LEFT(D381,(FIND(\" \",D381,1)-1))*1,EWEMs!$B$5:$D$29,3,FALSE)","v":{"$error":"#VALUE!"}},false,""]
[null,null,{"$f":"IFERROR(VLOOKUP(B382, RemediationUnits!$B$6:$C$48,2, FALSE),\"\")","v":""},null,null,"",null,null,null,null,"",false,{"$f":"INDEX(EWEMs!$F$5:$F$29,MATCH(D382,EWEMs!$X$5:$X$29,0))","v":{"$error":"#N/A"}},"not bath","not kitchen",{"$f":"VLOOKUP(LEFT(D382,(FIND(\" \",D382,1)-1))*1,EWEMs!$B$5:$D$29,3,FALSE)","v":{"$error":"#VALUE!"}},false,""]
[null,null,{"$f":"IFERROR(VLOOKUP(B383, RemediationUnits!$B$6:$C$48,2, FALSE),\"\")","v":""},null,null,"",null,null,null,null,"",false,{"$f":"INDEX(EWEMs!$F$5:$F$29,MATCH(D383,EWEMs!$X$5:$X$29,0))","v":{"$error":"#N/A"}},"not bath","not kitchen",{"$f":"VLOOKUP(LEFT(D383,(FIND(\" \",D383,1)-1))*1,EWEMs!$B$5:$D$29,3,FALSE)","v":{"$error":"#VALUE!"}},false,""]
[null,null,{"$f":"IFERROR(VLOOKUP(B384, RemediationUnits!$B$6:$C$48,2, FALSE),\"\")","v":""},null,null,"",null,null,null,null,"",false,{"$f":"INDEX(EWEMs!$F$5:$F$29,MATCH(D384,EWEMs!$X$5:$X$29,0))","v":{"$error":"#N/A"}},"not bath","not kitchen",{"$f":"VLOOKUP(LEFT(D384,(FIND(\" \",D384,1)-1))*1,EWEMs!$B$5:$D$29,3,FALSE)","v":{"$error":"#VALUE!"}},false,""]
[null,null,{"$f":"IFERROR(VLOOKUP(B385, RemediationUnits!$B$6:$C$48,2, FALSE),\"\")","v":""},null,null,"",null,null,null,null,"",false,{"$f":"INDEX(EWEMs!$F$5:$F$29,MATCH(D385,EWEMs!$X$5:$X$29,0))","v":{"$error":"#N/A"}},"not bath","not kitchen",{"$f":"VLOOKUP(LEFT(D385,(FIND(\" \",D385,1)-1))*1,EWEMs!$B$5:$D$29,3,FALSE)","v":{"$error":"#VALUE!"}},false,""]
[null,null,{"$f":"IFERROR(VLOOKUP(B386, RemediationUnits!$B$6:$C$48,2, FALSE),\"\")","v":""},null,null,"",null,null,null,null,"",false,{"$f":"INDEX(EWEMs!$F$5:$F$29,MATCH(D386,EWEMs!$X$5:$X$29,0))","v":{"$error":"#N/A"}},"not bath","not kitchen",{"$f":"VLOOKUP(LEFT(D386,(FIND(\" \",D386,1)-1))*1,EWEMs!$B$5:$D$29,3,FALSE)","v":{"$error":"#VALUE!"}},false,""]
[null,null,{"$f":"IFERROR(VLOOKUP(B387, RemediationUnits!$B$6:$C$48,2, FALSE),\"\")","v":""},null,null,"",null,null,null,null,"",false,{"$f":"INDEX(EWEMs!$F$5:$F$29,MATCH(D387,EWEMs!$X$5:$X$29,0))","v":{"$error":"#N/A"}},"not bath","not kitchen",{"$f":"VLOOKUP(LEFT(D387,(FIND(\" \",D387,1)-1))*1,EWEMs!$B$5:$D$29,3,FALSE)","v":{"$error":"#VALUE!"}},false,""]
[null,null,{"$f":"IFERROR(VLOOKUP(B388, RemediationUnits!$B$6:$C$48,2, FALSE),\"\")","v":""},null,null,"",null,null,null,null,"",false,{"$f":"INDEX(EWEMs!$F$5:$F$29,MATCH(D388,EWEMs!$X$5:$X$29,0))","v":{"$error":"#N/A"}},"not bath","not kitchen",{"$f":"VLOOKUP(LEFT(D388,(FIND(\" \",D388,1)-1))*1,EWEMs!$B$5:$D$29,3,FALSE)","v":{"$error":"#VALUE!"}},false,""]
[null,null,{"$f":"IFERROR(VLOOKUP(B389, RemediationUnits!$B$6:$C$48,2, FALSE),\"\")","v":""},null,null,"",null,null,null,null,"",false,{"$f":"INDEX(EWEMs!$F$5:$F$29,MATCH(D389,EWEMs!$X$5:$X$29,0))","v":{"$error":"#N/A"}},"not bath","not kitchen",{"$f":"VLOOKUP(LEFT(D389,(FIND(\" \",D389,1)-1))*1,EWEMs!$B$5:$D$29,3,FALSE)","v":{"$error":"#VALUE!"}},false,""]
[null,null,{"$f":"IFERROR(VLOOKUP(B390, RemediationUnits!$B$6:$C$48,2, FALSE),\"\")","v":""},null,null,"",null,null,null,null,"",false,{"$f":"INDEX(EWEMs!$F$5:$F$29,MATCH(D390,EWEMs!$X$5:$X$29,0))","v":{"$error":"#N/A"}},"not bath","not kitchen",{"$f":"VLOOKUP(LEFT(D390,(FIND(\" \",D390,1)-1))*1,EWEMs!$B$5:$D$29,3,FALSE)","v":{"$error":"#VALUE!"}},false,""]
[null,null,{"$f":"IFERROR(VLOOKUP(B391, RemediationUnits!$B$6:$C$48,2, FALSE),\"\")","v":""},null,null,{"$f":"IF(AND(L391=TRUE,D391<>\"\"), IF(ISNUMBER(SEARCH(\"compliant\", N391)),N391,IF(ISNUMBER(SEARCH(\"compliant\",O391)),O391,IF(E391<=M391,\"compliant\",\"noncompliant\"))),\"\")","v":""},null,null,null,null,{"$f":"IF(OR(F391=\"compliant\",F391=\"noncompliant\"),D391&F391,D391&G391)","v":""},{"$f":"IF(OR(ISNUMBER(FIND(\"low-flow\",D391,1)), ISNUMBER(FIND(\"low-flush\",D391,1))),TRUE,FALSE)","v":false},{"$f":"INDEX(EWEMs!$F$5:$F$29,MATCH(D391,EWEMs!$X$5:$X$29,0))","v":{"$error":"#N/A"}},{"$f":"IF(OR(ISNUMBER(SEARCH(\"bath faucets\", D391)), AND( ISNUMBER(SEARCH(\"fixture\", D391)),ISNUMBER(SEARCH(\"bath\",P391)) )), IF(M391<=1, IF(AND(E391>=M391, E391<=1), \"compliant\", \"noncompliant\"), IF(AND(E391>=1, E391<=M391),\"compliant\",\"noncompliant\")), \"not bath\")","v":"not bath"},{"$f":"IF(OR(ISNUMBER(SEARCH(\"kitchen faucets\",D391)),AND(ISNUMBER(SEARCH(\"fixtures\",D391)),ISNUMBER(SEARCH(\"kitchen\",P391)))),IF(M391<=1.5,IF(AND(E391>=1, E391<=1.5),\"compliant\",\"noncompliant\"),IF(AND(E391>=1.5,E391<=M391),\"compliant\",\"noncompliant\")),\"not kitchen\"\n)","v":"not kitchen"},{"$f":"VLOOKUP(LEFT(D391,(FIND(\" \",D391,1)-1))*1,EWEMs!$B$5:$D$29,3,FALSE)","v":{"$error":"#VALUE!"}},false,{"$f":"IF(OR(F391=\"noncompliant\", G391=\"noncompliant\"), IFERROR(LEFT(D391, LEN(_xlfn.TEXTBEFORE(D391,\"-\",-1)))&\" (Space: \"&B391&\")\", \"\"), \"\")","v":""}]
[null,null,{"$f":"IFERROR(VLOOKUP(B392, RemediationUnits!$B$6:$C$48,2, FALSE),\"\")","v":""},null,null,"",null,null,null,null,"",false,{"$f":"INDEX(EWEMs!$F$5:$F$29,MATCH(D392,EWEMs!$X$5:$X$29,0))","v":{"$error":"#N/A"}},"not bath","not kitchen",{"$f":"VLOOKUP(LEFT(D392,(FIND(\" \",D392,1)-1))*1,EWEMs!$B$5:$D$29,3,FALSE)","v":{"$error":"#VALUE!"}},{"$f":"IF(OR(B392<>\"\",D392<>\"\", E392<>\"\",G392<>\"\",H392<>\"\"), IF(L392=TRUE, IF(OR(B392=\"\", D392=\"\", E392=\"\", H392=\"\"), TRUE, FALSE), IF(OR(B392=\"\", D392=\"\", G392=\"\", H392=\"\"), TRUE, FALSE)), FALSE)","v":false},""]
[null,null,{"$f":"IFERROR(VLOOKUP(B393, RemediationUnits!$B$6:$C$48,2, FALSE),\"\")","v":""},null,null,"",null,null,null,null,"",false,{"$f":"INDEX(EWEMs!$F$5:$F$29,MATCH(D393,EWEMs!$X$5:$X$29,0))","v":{"$error":"#N/A"}},"not bath","not kitchen",{"$f":"VLOOKUP(LEFT(D393,(FIND(\" \",D393,1)-1))*1,EWEMs!$B$5:$D$29,3,FALSE)","v":{"$error":"#VALUE!"}},false,""]
[null,null,{"$f":"IFERROR(VLOOKUP(B394, RemediationUnits!$B$6:$C$48,2, FALSE),\"\")","v":""},null,null,"",null,null,null,null,"",false,{"$f":"INDEX(EWEMs!$F$5:$F$29,MATCH(D394,EWEMs!$X$5:$X$29,0))","v":{"$error":"#N/A"}},"not bath","not kitchen",{"$f":"VLOOKUP(LEFT(D394,(FIND(\" \",D394,1)-1))*1,EWEMs!$B$5:$D$29,3,FALSE)","v":{"$error":"#VALUE!"}},false,""]
[null,null,{"$f":"IFERROR(VLOOKUP(B395, RemediationUnits!$B$6:$C$48,2, FALSE),\"\")","v":""},null,null,"",null,null,null,null,"",false,{"$f":"INDEX(EWEMs!$F$5:$F$29,MATCH(D395,EWEMs!$X$5:$X$29,0))","v":{"$error":"#N/A"}},"not bath","not kitchen",{"$f":"VLOOKUP(LEFT(D395,(FIND(\" \",D395,1)-1))*1,EWEMs!$B$5:$D$29,3,FALSE)","v":{"$error":"#VALUE!"}},false,""]
[null,null,{"$f":"IFERROR(VLOOKUP(B396, RemediationUnits!$B$6:$C$48,2, FALSE),\"\")","v":""},null,null,"",null,null,null,null,"",false,{"$f":"INDEX(EWEMs!$F$5:$F$29,MATCH(D396,EWEMs!$X$5:$X$29,0))","v":{"$error":"#N/A"}},"not bath","not kitchen",{"$f":"VLOOKUP(LEFT(D396,(FIND(\" \",D396,1)-1))*1,EWEMs!$B$5:$D$29,3,FALSE)","v":{"$error":"#VALUE!"}},false,""]
[null,null,{"$f":"IFERROR(VLOOKUP(B397, RemediationUnits!$B$6:$C$48,2, FALSE),\"\")","v":""},null,null,"",null,null,null,null,"",false,{"$f":"INDEX(EWEMs!$F$5:$F$29,MATCH(D397,EWEMs!$X$5:$X$29,0))","v":{"$error":"#N/A"}},"not bath","not kitchen",{"$f":"VLOOKUP(LEFT(D397,(FIND(\" \",D397,1)-1))*1,EWEMs!$B$5:$D$29,3,FALSE)","v":{"$error":"#VALUE!"}},false,""]
[null,null,{"$f":"IFERROR(VLOOKUP(B398, RemediationUnits!$B$6:$C$48,2, FALSE),\"\")","v":""},null,null,"",null,null,null,null,"",false,{"$f":"INDEX(EWEMs!$F$5:$F$29,MATCH(D398,EWEMs!$X$5:$X$29,0))","v":{"$error":"#N/A"}},"not bath","not kitchen",{"$f":"VLOOKUP(LEFT(D398,(FIND(\" \",D398,1)-1))*1,EWEMs!$B$5:$D$29,3,FALSE)","v":{"$error":"#VALUE!"}},false,""]
[null,null,{"$f":"IFERROR(VLOOKUP(B399, RemediationUnits!$B$6:$C$48,2, FALSE),\"\")","v":""},null,null,"",null,null,null,null,"",false,{"$f":"INDEX(EWEMs!$F$5:$F$29,MATCH(D399,EWEMs!$X$5:$X$29,0))","v":{"$error":"#N/A"}},"not bath","not kitchen",{"$f":"VLOOKUP(LEFT(D399,(FIND(\" \",D399,1)-1))*1,EWEMs!$B$5:$D$29,3,FALSE)","v":{"$error":"#VALUE!"}},false,""]
[null,null,{"$f":"IFERROR(VLOOKUP(B400, RemediationUnits!$B$6:$C$48,2, FALSE),\"\")","v":""},null,null,"",null,null,null,null,"",false,{"$f":"INDEX(EWEMs!$F$5:$F$29,MATCH(D400,EWEMs!$X$5:$X$29,0))","v":{"$error":"#N/A"}},"not bath","not kitchen",{"$f":"VLOOKUP(LEFT(D400,(FIND(\" \",D400,1)-1))*1,EWEMs!$B$5:$D$29,3,FALSE)","v":{"$error":"#VALUE!"}},false,""]
[null,null,{"$f":"IFERROR(VLOOKUP(B401, RemediationUnits!$B$6:$C$48,2, FALSE),\"\")","v":""},null,null,"",null,null,null,null,"",false,{"$f":"INDEX(EWEMs!$F$5:$F$29,MATCH(D401,EWEMs!$X$5:$X$29,0))","v":{"$error":"#N/A"}},"not bath","not kitchen",{"$f":"VLOOKUP(LEFT(D401,(FIND(\" \",D401,1)-1))*1,EWEMs!$B$5:$D$29,3,FALSE)","v":{"$error":"#VALUE!"}},false,""]
[null,null,{"$f":"IFERROR(VLOOKUP(B402, RemediationUnits!$B$6:$C$48,2, FALSE),\"\")","v":""},null,null,"",null,null,null,null,"",false,{"$f":"INDEX(EWEMs!$F$5:$F$29,MATCH(D402,EWEMs!$X$5:$X$29,0))","v":{"$error":"#N/A"}},"not bath","not kitchen",{"$f":"VLOOKUP(LEFT(D402,(FIND(\" \",D402,1)-1))*1,EWEMs!$B$5:$D$29,3,FALSE)","v":{"$error":"#VALUE!"}},false,""]
[null,null,{"$f":"IFERROR(VLOOKUP(B403, RemediationUnits!$B$6:$C$48,2, FALSE),\"\")","v":""},null,null,"",null,null,null,null,"",false,{"$f":"INDEX(EWEMs!$F$5:$F$29,MATCH(D403,EWEMs!$X$5:$X$29,0))","v":{"$error":"#N/A"}},"not bath","not kitchen",{"$f":"VLOOKUP(LEFT(D403,(FIND(\" \",D403,1)-1))*1,EWEMs!$B$5:$D$29,3,FALSE)","v":{"$error":"#VALUE!"}},false,""]
[null,null,{"$f":"IFERROR(VLOOKUP(B404, RemediationUnits!$B$6:$C$48,2, FALSE),\"\")","v":""},null,null,"",null,null,null,null,"",false,{"$f":"INDEX(EWEMs!$F$5:$F$29,MATCH(D404,EWEMs!$X$5:$X$29,0))","v":{"$error":"#N/A"}},"not bath","not kitchen",{"$f":"VLOOKUP(LEFT(D404,(FIND(\" \",D404,1)-1))*1,EWEMs!$B$5:$D$29,3,FALSE)","v":{"$error":"#VALUE!"}},false,""]
[null,null,{"$f":"IFERROR(VLOOKUP(B405, RemediationUnits!$B$6:$C$48,2, FALSE),\"\")","v":""},null,null,"",null,null,null,null,"",false,{"$f":"INDEX(EWEMs!$F$5:$F$29,MATCH(D405,EWEMs!$X$5:$X$29,0))","v":{"$error":"#N/A"}},"not bath","not kitchen",{"$f":"VLOOKUP(LEFT(D405,(FIND(\" \",D405,1)-1))*1,EWEMs!$B$5:$D$29,3,FALSE)","v":{"$error":"#VALUE!"}},false,""]
[null,null,{"$f":"IFERROR(VLOOKUP(B406, RemediationUnits!$B$6:$C$48,2, FALSE),\"\")","v":""},null,null,"",null,null,null,null,"",false,{"$f":"INDEX(EWEMs!$F$5:$F$29,MATCH(D406,EWEMs!$X$5:$X$29,0))","v":{"$error":"#N/A"}},"not bath","not kitchen",{"$f":"VLOOKUP(LEFT(D406,(FIND(\" \",D406,1)-1))*1,EWEMs!$B$5:$D$29,3,FALSE)","v":{"$error":"#VALUE!"}},false,""]
[null,null,{"$f":"IFERROR(VLOOKUP(B407, RemediationUnits!$B$6:$C$48,2, FALSE),\"\")","v":""},null,null,"",null,null,null,null,"",false,{"$f":"INDEX(EWEMs!$F$5:$F$29,MATCH(D407,EWEMs!$X$5:$X$29,0))","v":{"$error":"#N/A"}},"not bath","not kitchen",{"$f":"VLOOKUP(LEFT(D407,(FIND(\" \",D407,1)-1))*1,EWEMs!$B$5:$D$29,3,FALSE)","v":{"$error":"#VALUE!"}},false,""]
[null,null,{"$f":"IFERROR(VLOOKUP(B408, RemediationUnits!$B$6:$C$48,2, FALSE),\"\")","v":""},null,null,"",null,null,null,null,"",false,{"$f":"INDEX(EWEMs!$F$5:$F$29,MATCH(D408,EWEMs!$X$5:$X$29,0))","v":{"$error":"#N/A"}},"not bath","not kitchen",{"$f":"VLOOKUP(LEFT(D408,(FIND(\" \",D408,1)-1))*1,EWEMs!$B$5:$D$29,3,FALSE)","v":{"$error":"#VALUE!"}},false,""]
[null,null,{"$f":"IFERROR(VLOOKUP(B409, RemediationUnits!$B$6:$C$48,2, FALSE),\"\")","v":""},null,null,"",null,null,null,null,"",false,{"$f":"INDEX(EWEMs!$F$5:$F$29,MATCH(D409,EWEMs!$X$5:$X$29,0))","v":{"$error":"#N/A"}},"not bath","not kitchen",{"$f":"VLOOKUP(LEFT(D409,(FIND(\" \",D409,1)-1))*1,EWEMs!$B$5:$D$29,3,FALSE)","v":{"$error":"#VALUE!"}},false,""]
[null,null,{"$f":"IFERROR(VLOOKUP(B410, RemediationUnits!$B$6:$C$48,2, FALSE),\"\")","v":""},null,null,"",null,null,null,null,"",false,{"$f":"INDEX(EWEMs!$F$5:$F$29,MATCH(D410,EWEMs!$X$5:$X$29,0))","v":{"$error":"#N/A"}},"not bath","not kitchen",{"$f":"VLOOKUP(LEFT(D410,(FIND(\" \",D410,1)-1))*1,EWEMs!$B$5:$D$29,3,FALSE)","v":{"$error":"#VALUE!"}},false,""]
[null,null,{"$f":"IFERROR(VLOOKUP(B411, RemediationUnits!$B$6:$C$48,2, FALSE),\"\")","v":""},null,null,"",null,null,null,null,"",false,{"$f":"INDEX(EWEMs!$F$5:$F$29,MATCH(D411,EWEMs!$X$5:$X$29,0))","v":{"$error":"#N/A"}},"not bath","not kitchen",{"$f":"VLOOKUP(LEFT(D411,(FIND(\" \",D411,1)-1))*1,EWEMs!$B$5:$D$29,3,FALSE)","v":{"$error":"#VALUE!"}},false,""]
[null,null,{"$f":"IFERROR(VLOOKUP(B412, RemediationUnits!$B$6:$C$48,2, FALSE),\"\")","v":""},null,null,"",null,null,null,null,"",false,{"$f":"INDEX(EWEMs!$F$5:$F$29,MATCH(D412,EWEMs!$X$5:$X$29,0))","v":{"$error":"#N/A"}},"not bath","not kitchen",{"$f":"VLOOKUP(LEFT(D412,(FIND(\" \",D412,1)-1))*1,EWEMs!$B$5:$D$29,3,FALSE)","v":{"$error":"#VALUE!"}},false,""]
[null,null,{"$f":"IFERROR(VLOOKUP(B413, RemediationUnits!$B$6:$C$48,2, FALSE),\"\")","v":""},null,null,"",null,null,null,null,"",false,{"$f":"INDEX(EWEMs!$F$5:$F$29,MATCH(D413,EWEMs!$X$5:$X$29,0))","v":{"$error":"#N/A"}},"not bath","not kitchen",{"$f":"VLOOKUP(LEFT(D413,(FIND(\" \",D413,1)-1))*1,EWEMs!$B$5:$D$29,3,FALSE)","v":{"$error":"#VALUE!"}},false,""]
[null,null,{"$f":"IFERROR(VLOOKUP(B414, RemediationUnits!$B$6:$C$48,2, FALSE),\"\")","v":""},null,null,"",null,null,null,null,"",false,{"$f":"INDEX(EWEMs!$F$5:$F$29,MATCH(D414,EWEMs!$X$5:$X$29,0))","v":{"$error":"#N/A"}},"not bath","not kitchen",{"$f":"VLOOKUP(LEFT(D414,(FIND(\" \",D414,1)-1))*1,EWEMs!$B$5:$D$29,3,FALSE)","v":{"$error":"#VALUE!"}},false,""]
[null,null,{"$f":"IFERROR(VLOOKUP(B415, RemediationUnits!$B$6:$C$48,2, FALSE),\"\")","v":""},null,null,"",null,null,null,null,"",false,{"$f":"INDEX(EWEMs!$F$5:$F$29,MATCH(D415,EWEMs!$X$5:$X$29,0))","v":{"$error":"#N/A"}},"not bath","not kitchen",{"$f":"VLOOKUP(LEFT(D415,(FIND(\" \",D415,1)-1))*1,EWEMs!$B$5:$D$29,3,FALSE)","v":{"$error":"#VALUE!"}},false,""]
[null,null,{"$f":"IFERROR(VLOOKUP(B416, RemediationUnits!$B$6:$C$48,2, FALSE),\"\")","v":""},null,null,"",null,null,null,null,"",false,{"$f":"INDEX(EWEMs!$F$5:$F$29,MATCH(D416,EWEMs!$X$5:$X$29,0))","v":{"$error":"#N/A"}},"not bath","not kitchen",{"$f":"VLOOKUP(LEFT(D416,(FIND(\" \",D416,1)-1))*1,EWEMs!$B$5:$D$29,3,FALSE)","v":{"$error":"#VALUE!"}},false,""]
[null,null,{"$f":"IFERROR(VLOOKUP(B417, RemediationUnits!$B$6:$C$48,2, FALSE),\"\")","v":""},null,null,"",null,null,null,null,"",false,{"$f":"INDEX(EWEMs!$F$5:$F$29,MATCH(D417,EWEMs!$X$5:$X$29,0))","v":{"$error":"#N/A"}},"not bath","not kitchen",{"$f":"VLOOKUP(LEFT(D417,(FIND(\" \",D417,1)-1))*1,EWEMs!$B$5:$D$29,3,FALSE)","v":{"$error":"#VALUE!"}},false,""]
[null,null,{"$f":"IFERROR(VLOOKUP(B418, RemediationUnits!$B$6:$C$48,2, FALSE),\"\")","v":""},null,null,"",null,null,null,null,"",false,{"$f":"INDEX(EWEMs!$F$5:$F$29,MATCH(D418,EWEMs!$X$5:$X$29,0))","v":{"$error":"#N/A"}},"not bath","not kitchen",{"$f":"VLOOKUP(LEFT(D418,(FIND(\" \",D418,1)-1))*1,EWEMs!$B$5:$D$29,3,FALSE)","v":{"$error":"#VALUE!"}},false,""]
[null,null,{"$f":"IFERROR(VLOOKUP(B419, RemediationUnits!$B$6:$C$48,2, FALSE),\"\")","v":""},null,null,"",null,null,null,null,"",false,{"$f":"INDEX(EWEMs!$F$5:$F$29,MATCH(D419,EWEMs!$X$5:$X$29,0))","v":{"$error":"#N/A"}},"not bath","not kitchen",{"$f":"VLOOKUP(LEFT(D419,(FIND(\" \",D419,1)-1))*1,EWEMs!$B$5:$D$29,3,FALSE)","v":{"$error":"#VALUE!"}},false,""]
[null,null,{"$f":"IFERROR(VLOOKUP(B420, RemediationUnits!$B$6:$C$48,2, FALSE),\"\")","v":""},null,null,"",null,null,null,null,"",false,{"$f":"INDEX(EWEMs!$F$5:$F$29,MATCH(D420,EWEMs!$X$5:$X$29,0))","v":{"$error":"#N/A"}},"not bath","not kitchen",{"$f":"VLOOKUP(LEFT(D420,(FIND(\" \",D420,1)-1))*1,EWEMs!$B$5:$D$29,3,FALSE)","v":{"$error":"#VALUE!"}},false,""]
[null,null,{"$f":"IFERROR(VLOOKUP(B421, RemediationUnits!$B$6:$C$48,2, FALSE),\"\")","v":""},null,null,"",null,null,null,null,"",false,{"$f":"INDEX(EWEMs!$F$5:$F$29,MATCH(D421,EWEMs!$X$5:$X$29,0))","v":{"$error":"#N/A"}},"not bath","not kitchen",{"$f":"VLOOKUP(LEFT(D421,(FIND(\" \",D421,1)-1))*1,EWEMs!$B$5:$D$29,3,FALSE)","v":{"$error":"#VALUE!"}},false,""]
[null,null,{"$f":"IFERROR(VLOOKUP(B422, RemediationUnits!$B$6:$C$48,2, FALSE),\"\")","v":""},null,null,"",null,null,null,null,"",false,{"$f":"INDEX(EWEMs!$F$5:$F$29,MATCH(D422,EWEMs!$X$5:$X$29,0))","v":{"$error":"#N/A"}},"not bath","not kitchen",{"$f":"VLOOKUP(LEFT(D422,(FIND(\" \",D422,1)-1))*1,EWEMs!$B$5:$D$29,3,FALSE)","v":{"$error":"#VALUE!"}},false,""]
[null,null,{"$f":"IFERROR(VLOOKUP(B423, RemediationUnits!$B$6:$C$48,2, FALSE),\"\")","v":""},null,null,"",null,null,null,null,"",false,{"$f":"INDEX(EWEMs!$F$5:$F$29,MATCH(D423,EWEMs!$X$5:$X$29,0))","v":{"$error":"#N/A"}},"not bath","not kitchen",{"$f":"VLOOKUP(LEFT(D423,(FIND(\" \",D423,1)-1))*1,EWEMs!$B$5:$D$29,3,FALSE)","v":{"$error":"#VALUE!"}},false,""]
[null,null,{"$f":"IFERROR(VLOOKUP(B424, RemediationUnits!$B$6:$C$48,2, FALSE),\"\")","v":""},null,null,"",null,null,null,null,"",false,{"$f":"INDEX(EWEMs!$F$5:$F$29,MATCH(D424,EWEMs!$X$5:$X$29,0))","v":{"$error":"#N/A"}},"not bath","not kitchen",{"$f":"VLOOKUP(LEFT(D424,(FIND(\" \",D424,1)-1))*1,EWEMs!$B$5:$D$29,3,FALSE)","v":{"$error":"#VALUE!"}},false,""]
[null,null,{"$f":"IFERROR(VLOOKUP(B425, RemediationUnits!$B$6:$C$48,2, FALSE),\"\")","v":""},null,null,"",null,null,null,null,"",false,{"$f":"INDEX(EWEMs!$F$5:$F$29,MATCH(D425,EWEMs!$X$5:$X$29,0))","v":{"$error":"#N/A"}},"not bath","not kitchen",{"$f":"VLOOKUP(LEFT(D425,(FIND(\" \",D425,1)-1))*1,EWEMs!$B$5:$D$29,3,FALSE)","v":{"$error":"#VALUE!"}},false,""]
[null,null,{"$f":"IFERROR(VLOOKUP(B426, RemediationUnits!$B$6:$C$48,2, FALSE),\"\")","v":""},null,null,"",null,null,null,null,"",false,{"$f":"INDEX(EWEMs!$F$5:$F$29,MATCH(D426,EWEMs!$X$5:$X$29,0))","v":{"$error":"#N/A"}},"not bath","not kitchen",{"$f":"VLOOKUP(LEFT(D426,(FIND(\" \",D426,1)-1))*1,EWEMs!$B$5:$D$29,3,FALSE)","v":{"$error":"#VALUE!"}},false,""]
[null,null,{"$f":"IFERROR(VLOOKUP(B427, RemediationUnits!$B$6:$C$48,2, FALSE),\"\")","v":""},null,null,"",null,null,null,null,"",false,{"$f":"INDEX(EWEMs!$F$5:$F$29,MATCH(D427,EWEMs!$X$5:$X$29,0))","v":{"$error":"#N/A"}},"not bath","not kitchen",{"$f":"VLOOKUP(LEFT(D427,(FIND(\" \",D427,1)-1))*1,EWEMs!$B$5:$D$29,3,FALSE)","v":{"$error":"#VALUE!"}},false,""]
[null,null,{"$f":"IFERROR(VLOOKUP(B428, RemediationUnits!$B$6:$C$48,2, FALSE),\"\")","v":""},null,null,"",null,null,null,null,"",false,{"$f":"INDEX(EWEMs!$F$5:$F$29,MATCH(D428,EWEMs!$X$5:$X$29,0))","v":{"$error":"#N/A"}},"not bath","not kitchen",{"$f":"VLOOKUP(LEFT(D428,(FIND(\" \",D428,1)-1))*1,EWEMs!$B$5:$D$29,3,FALSE)","v":{"$error":"#VALUE!"}},false,""]
[null,null,{"$f":"IFERROR(VLOOKUP(B429, RemediationUnits!$B$6:$C$48,2, FALSE),\"\")","v":""},null,null,"",null,null,null,null,"",false,{"$f":"INDEX(EWEMs!$F$5:$F$29,MATCH(D429,EWEMs!$X$5:$X$29,0))","v":{"$error":"#N/A"}},"not bath","not kitchen",{"$f":"VLOOKUP(LEFT(D429,(FIND(\" \",D429,1)-1))*1,EWEMs!$B$5:$D$29,3,FALSE)","v":{"$error":"#VALUE!"}},false,""]
[null,null,{"$f":"IFERROR(VLOOKUP(B430, RemediationUnits!$B$6:$C$48,2, FALSE),\"\")","v":""},null,null,"",null,null,null,null,"",false,{"$f":"INDEX(EWEMs!$F$5:$F$29,MATCH(D430,EWEMs!$X$5:$X$29,0))","v":{"$error":"#N/A"}},"not bath","not kitchen",{"$f":"VLOOKUP(LEFT(D430,(FIND(\" \",D430,1)-1))*1,EWEMs!$B$5:$D$29,3,FALSE)","v":{"$error":"#VALUE!"}},false,""]
[null,null,{"$f":"IFERROR(VLOOKUP(B431, RemediationUnits!$B$6:$C$48,2, FALSE),\"\")","v":""},null,null,"",null,null,null,null,"",false,{"$f":"INDEX(EWEMs!$F$5:$F$29,MATCH(D431,EWEMs!$X$5:$X$29,0))","v":{"$error":"#N/A"}},"not bath","not kitchen",{"$f":"VLOOKUP(LEFT(D431,(FIND(\" \",D431,1)-1))*1,EWEMs!$B$5:$D$29,3,FALSE)","v":{"$error":"#VALUE!"}},false,""]
[null,null,{"$f":"IFERROR(VLOOKUP(B432, RemediationUnits!$B$6:$C$48,2, FALSE),\"\")","v":""},null,null,"",null,null,null,null,"",false,{"$f":"INDEX(EWEMs!$F$5:$F$29,MATCH(D432,EWEMs!$X$5:$X$29,0))","v":{"$error":"#N/A"}},"not bath","not kitchen",{"$f":"VLOOKUP(LEFT(D432,(FIND(\" \",D432,1)-1))*1,EWEMs!$B$5:$D$29,3,FALSE)","v":{"$error":"#VALUE!"}},false,""]
[null,null,{"$f":"IFERROR(VLOOKUP(B433, RemediationUnits!$B$6:$C$48,2, FALSE),\"\")","v":""},null,null,"",null,null,null,null,"",false,{"$f":"INDEX(EWEMs!$F$5:$F$29,MATCH(D433,EWEMs!$X$5:$X$29,0))","v":{"$error":"#N/A"}},"not bath","not kitchen",{"$f":"VLOOKUP(LEFT(D433,(FIND(\" \",D433,1)-1))*1,EWEMs!$B$5:$D$29,3,FALSE)","v":{"$error":"#VALUE!"}},false,""]
[null,null,{"$f":"IFERROR(VLOOKUP(B434, RemediationUnits!$B$6:$C$48,2, FALSE),\"\")","v":""},null,null,"",null,null,null,null,"",false,{"$f":"INDEX(EWEMs!$F$5:$F$29,MATCH(D434,EWEMs!$X$5:$X$29,0))","v":{"$error":"#N/A"}},"not bath","not kitchen",{"$f":"VLOOKUP(LEFT(D434,(FIND(\" \",D434,1)-1))*1,EWEMs!$B$5:$D$29,3,FALSE)","v":{"$error":"#VALUE!"}},false,""]
[null,null,{"$f":"IFERROR(VLOOKUP(B435, RemediationUnits!$B$6:$C$48,2, FALSE),\"\")","v":""},null,null,"",null,null,null,null,"",false,{"$f":"INDEX(EWEMs!$F$5:$F$29,MATCH(D435,EWEMs!$X$5:$X$29,0))","v":{"$error":"#N/A"}},"not bath","not kitchen",{"$f":"VLOOKUP(LEFT(D435,(FIND(\" \",D435,1)-1))*1,EWEMs!$B$5:$D$29,3,FALSE)","v":{"$error":"#VALUE!"}},false,""]
[null,null,{"$f":"IFERROR(VLOOKUP(B436, RemediationUnits!$B$6:$C$48,2, FALSE),\"\")","v":""},null,null,"",null,null,null,null,"",false,{"$f":"INDEX(EWEMs!$F$5:$F$29,MATCH(D436,EWEMs!$X$5:$X$29,0))","v":{"$error":"#N/A"}},"not bath","not kitchen",{"$f":"VLOOKUP(LEFT(D436,(FIND(\" \",D436,1)-1))*1,EWEMs!$B$5:$D$29,3,FALSE)","v":{"$error":"#VALUE!"}},false,""]
[null,null,{"$f":"IFERROR(VLOOKUP(B437, RemediationUnits!$B$6:$C$48,2, FALSE),\"\")","v":""},null,null,"",null,null,null,null,"",false,{"$f":"INDEX(EWEMs!$F$5:$F$29,MATCH(D437,EWEMs!$X$5:$X$29,0))","v":{"$error":"#N/A"}},"not bath","not kitchen",{"$f":"VLOOKUP(LEFT(D437,(FIND(\" \",D437,1)-1))*1,EWEMs!$B$5:$D$29,3,FALSE)","v":{"$error":"#VALUE!"}},false,""]
[null,null,{"$f":"IFERROR(VLOOKUP(B438, RemediationUnits!$B$6:$C$48,2, FALSE),\"\")","v":""},null,null,"",null,null,null,null,"",false,{"$f":"INDEX(EWEMs!$F$5:$F$29,MATCH(D438,EWEMs!$X$5:$X$29,0))","v":{"$error":"#N/A"}},"not bath","not kitchen",{"$f":"VLOOKUP(LEFT(D438,(FIND(\" \",D438,1)-1))*1,EWEMs!$B$5:$D$29,3,FALSE)","v":{"$error":"#VALUE!"}},false,""]
[null,null,{"$f":"IFERROR(VLOOKUP(B439, RemediationUnits!$B$6:$C$48,2, FALSE),\"\")","v":""},null,null,"",null,null,null,null,"",false,{"$f":"INDEX(EWEMs!$F$5:$F$29,MATCH(D439,EWEMs!$X$5:$X$29,0))","v":{"$error":"#N/A"}},"not bath","not kitchen",{"$f":"VLOOKUP(LEFT(D439,(FIND(\" \",D439,1)-1))*1,EWEMs!$B$5:$D$29,3,FALSE)","v":{"$error":"#VALUE!"}},false,""]
[null,null,{"$f":"IFERROR(VLOOKUP(B440, RemediationUnits!$B$6:$C$48,2, FALSE),\"\")","v":""},null,null,"",null,null,null,null,"",false,{"$f":"INDEX(EWEMs!$F$5:$F$29,MATCH(D440,EWEMs!$X$5:$X$29,0))","v":{"$error":"#N/A"}},"not bath","not kitchen",{"$f":"VLOOKUP(LEFT(D440,(FIND(\" \",D440,1)-1))*1,EWEMs!$B$5:$D$29,3,FALSE)","v":{"$error":"#VALUE!"}},false,""]
[null,null,{"$f":"IFERROR(VLOOKUP(B441, RemediationUnits!$B$6:$C$48,2, FALSE),\"\")","v":""},null,null,"",null,null,null,null,"",false,{"$f":"INDEX(EWEMs!$F$5:$F$29,MATCH(D441,EWEMs!$X$5:$X$29,0))","v":{"$error":"#N/A"}},"not bath","not kitchen",{"$f":"VLOOKUP(LEFT(D441,(FIND(\" \",D441,1)-1))*1,EWEMs!$B$5:$D$29,3,FALSE)","v":{"$error":"#VALUE!"}},false,""]
[null,null,{"$f":"IFERROR(VLOOKUP(B442, RemediationUnits!$B$6:$C$48,2, FALSE),\"\")","v":""},null,null,"",null,null,null,null,"",false,{"$f":"INDEX(EWEMs!$F$5:$F$29,MATCH(D442,EWEMs!$X$5:$X$29,0))","v":{"$error":"#N/A"}},"not bath","not kitchen",{"$f":"VLOOKUP(LEFT(D442,(FIND(\" \",D442,1)-1))*1,EWEMs!$B$5:$D$29,3,FALSE)","v":{"$error":"#VALUE!"}},false,""]
[null,null,{"$f":"IFERROR(VLOOKUP(B443, RemediationUnits!$B$6:$C$48,2, FALSE),\"\")","v":""},null,null,"",null,null,null,null,"",false,{"$f":"INDEX(EWEMs!$F$5:$F$29,MATCH(D443,EWEMs!$X$5:$X$29,0))","v":{"$error":"#N/A"}},"not bath","not kitchen",{"$f":"VLOOKUP(LEFT(D443,(FIND(\" \",D443,1)-1))*1,EWEMs!$B$5:$D$29,3,FALSE)","v":{"$error":"#VALUE!"}},false,""]
[null,null,{"$f":"IFERROR(VLOOKUP(B444, RemediationUnits!$B$6:$C$48,2, FALSE),\"\")","v":""},null,null,"",null,null,null,null,"",false,{"$f":"INDEX(EWEMs!$F$5:$F$29,MATCH(D444,EWEMs!$X$5:$X$29,0))","v":{"$error":"#N/A"}},"not bath","not kitchen",{"$f":"VLOOKUP(LEFT(D444,(FIND(\" \",D444,1)-1))*1,EWEMs!$B$5:$D$29,3,FALSE)","v":{"$error":"#VALUE!"}},false,""]
[null,null,{"$f":"IFERROR(VLOOKUP(B445, RemediationUnits!$B$6:$C$48,2, FALSE),\"\")","v":""},null,null,"",null,null,null,null,"",false,{"$f":"INDEX(EWEMs!$F$5:$F$29,MATCH(D445,EWEMs!$X$5:$X$29,0))","v":{"$error":"#N/A"}},"not bath","not kitchen",{"$f":"VLOOKUP(LEFT(D445,(FIND(\" \",D445,1)-1))*1,EWEMs!$B$5:$D$29,3,FALSE)","v":{"$error":"#VALUE!"}},false,""]
[null,null,{"$f":"IFERROR(VLOOKUP(B446, RemediationUnits!$B$6:$C$48,2, FALSE),\"\")","v":""},null,null,"",null,null,null,null,"",false,{"$f":"INDEX(EWEMs!$F$5:$F$29,MATCH(D446,EWEMs!$X$5:$X$29,0))","v":{"$error":"#N/A"}},"not bath","not kitchen",{"$f":"VLOOKUP(LEFT(D446,(FIND(\" \",D446,1)-1))*1,EWEMs!$B$5:$D$29,3,FALSE)","v":{"$error":"#VALUE!"}},false,""]
[null,null,{"$f":"IFERROR(VLOOKUP(B447, RemediationUnits!$B$6:$C$48,2, FALSE),\"\")","v":""},null,null,"",null,null,null,null,"",false,{"$f":"INDEX(EWEMs!$F$5:$F$29,MATCH(D447,EWEMs!$X$5:$X$29,0))","v":{"$error":"#N/A"}},"not bath","not kitchen",{"$f":"VLOOKUP(LEFT(D447,(FIND(\" \",D447,1)-1))*1,EWEMs!$B$5:$D$29,3,FALSE)","v":{"$error":"#VALUE!"}},false,""]
[null,null,{"$f":"IFERROR(VLOOKUP(B448, RemediationUnits!$B$6:$C$48,2, FALSE),\"\")","v":""},null,null,"",null,null,null,null,"",false,{"$f":"INDEX(EWEMs!$F$5:$F$29,MATCH(D448,EWEMs!$X$5:$X$29,0))","v":{"$error":"#N/A"}},"not bath","not kitchen",{"$f":"VLOOKUP(LEFT(D448,(FIND(\" \",D448,1)-1))*1,EWEMs!$B$5:$D$29,3,FALSE)","v":{"$error":"#VALUE!"}},false,""]
[null,null,{"$f":"IFERROR(VLOOKUP(B449, RemediationUnits!$B$6:$C$48,2, FALSE),\"\")","v":""},null,null,"",null,null,null,null,"",false,{"$f":"INDEX(EWEMs!$F$5:$F$29,MATCH(D449,EWEMs!$X$5:$X$29,0))","v":{"$error":"#N/A"}},"not bath","not kitchen",{"$f":"VLOOKUP(LEFT(D449,(FIND(\" \",D449,1)-1))*1,EWEMs!$B$5:$D$29,3,FALSE)","v":{"$error":"#VALUE!"}},false,""]
[null,null,{"$f":"IFERROR(VLOOKUP(B450, RemediationUnits!$B$6:$C$48,2, FALSE),\"\")","v":""},null,null,"",null,null,null,null,"",false,{"$f":"INDEX(EWEMs!$F$5:$F$29,MATCH(D450,EWEMs!$X$5:$X$29,0))","v":{"$error":"#N/A"}},"not bath","not kitchen",{"$f":"VLOOKUP(LEFT(D450,(FIND(\" \",D450,1)-1))*1,EWEMs!$B$5:$D$29,3,FALSE)","v":{"$error":"#VALUE!"}},false,""]
[null,null,{"$f":"IFERROR(VLOOKUP(B451, RemediationUnits!$B$6:$C$48,2, FALSE),\"\")","v":""},null,null,"",null,null,null,null,"",false,{"$f":"INDEX(EWEMs!$F$5:$F$29,MATCH(D451,EWEMs!$X$5:$X$29,0))","v":{"$error":"#N/A"}},"not bath","not kitchen",{"$f":"VLOOKUP(LEFT(D451,(FIND(\" \",D451,1)-1))*1,EWEMs!$B$5:$D$29,3,FALSE)","v":{"$error":"#VALUE!"}},false,""]
[null,null,{"$f":"IFERROR(VLOOKUP(B452, RemediationUnits!$B$6:$C$48,2, FALSE),\"\")","v":""},null,null,"",null,null,null,null,"",false,{"$f":"INDEX(EWEMs!$F$5:$F$29,MATCH(D452,EWEMs!$X$5:$X$29,0))","v":{"$error":"#N/A"}},"not bath","not kitchen",{"$f":"VLOOKUP(LEFT(D452,(FIND(\" \",D452,1)-1))*1,EWEMs!$B$5:$D$29,3,FALSE)","v":{"$error":"#VALUE!"}},false,""]
[null,null,{"$f":"IFERROR(VLOOKUP(B453, RemediationUnits!$B$6:$C$48,2, FALSE),\"\")","v":""},null,null,"",null,null,null,null,"",false,{"$f":"INDEX(EWEMs!$F$5:$F$29,MATCH(D453,EWEMs!$X$5:$X$29,0))","v":{"$error":"#N/A"}},"not bath","not kitchen",{"$f":"VLOOKUP(LEFT(D453,(FIND(\" \",D453,1)-1))*1,EWEMs!$B$5:$D$29,3,FALSE)","v":{"$error":"#VALUE!"}},false,""]
[null,null,{"$f":"IFERROR(VLOOKUP(B454, RemediationUnits!$B$6:$C$48,2, FALSE),\"\")","v":""},null,null,"",null,null,null,null,"",false,{"$f":"INDEX(EWEMs!$F$5:$F$29,MATCH(D454,EWEMs!$X$5:$X$29,0))","v":{"$error":"#N/A"}},"not bath","not kitchen",{"$f":"VLOOKUP(LEFT(D454,(FIND(\" \",D454,1)-1))*1,EWEMs!$B$5:$D$29,3,FALSE)","v":{"$error":"#VALUE!"}},false,""]
[null,null,{"$f":"IFERROR(VLOOKUP(B455, RemediationUnits!$B$6:$C$48,2, FALSE),\"\")","v":""},null,null,{"$f":"IF(AND(L455=TRUE,D455<>\"\"), IF(ISNUMBER(SEARCH(\"compliant\", N455)),N455,IF(ISNUMBER(SEARCH(\"compliant\",O455)),O455,IF(E455<=M455,\"compliant\",\"noncompliant\"))),\"\")","v":""},null,null,null,null,{"$f":"IF(OR(F455=\"compliant\",F455=\"noncompliant\"),D455&F455,D455&G455)","v":""},{"$f":"IF(OR(ISNUMBER(FIND(\"low-flow\",D455,1)), ISNUMBER(FIND(\"low-flush\",D455,1))),TRUE,FALSE)","v":false},{"$f":"INDEX(EWEMs!$F$5:$F$29,MATCH(D455,EWEMs!$X$5:$X$29,0))","v":{"$error":"#N/A"}},{"$f":"IF(OR(ISNUMBER(SEARCH(\"bath faucets\", D455)), AND( ISNUMBER(SEARCH(\"fixture\", D455)),ISNUMBER(SEARCH(\"bath\",P455)) )), IF(M455<=1, IF(AND(E455>=M455, E455<=1), \"compliant\", \"noncompliant\"), IF(AND(E455>=1, E455<=M455),\"compliant\",\"noncompliant\")), \"not bath\")","v":"not bath"},{"$f":"IF(OR(ISNUMBER(SEARCH(\"kitchen faucets\",D455)),AND(ISNUMBER(SEARCH(\"fixtures\",D455)),ISNUMBER(SEARCH(\"kitchen\",P455)))),IF(M455<=1.5,IF(AND(E455>=1, E455<=1.5),\"compliant\",\"noncompliant\"),IF(AND(E455>=1.5,E455<=M455),\"compliant\",\"noncompliant\")),\"not kitchen\"\n)","v":"not kitchen"},{"$f":"VLOOKUP(LEFT(D455,(FIND(\" \",D455,1)-1))*1,EWEMs!$B$5:$D$29,3,FALSE)","v":{"$error":"#VALUE!"}},false,{"$f":"IF(OR(F455=\"noncompliant\", G455=\"noncompliant\"), IFERROR(LEFT(D455, LEN(_xlfn.TEXTBEFORE(D455,\"-\",-1)))&\" (Space: \"&B455&\")\", \"\"), \"\")","v":""}]
[null,null,{"$f":"IFERROR(VLOOKUP(B456, RemediationUnits!$B$6:$C$48,2, FALSE),\"\")","v":""},null,null,"",null,null,null,null,"",false,{"$f":"INDEX(EWEMs!$F$5:$F$29,MATCH(D456,EWEMs!$X$5:$X$29,0))","v":{"$error":"#N/A"}},"not bath","not kitchen",{"$f":"VLOOKUP(LEFT(D456,(FIND(\" \",D456,1)-1))*1,EWEMs!$B$5:$D$29,3,FALSE)","v":{"$error":"#VALUE!"}},{"$f":"IF(OR(B456<>\"\",D456<>\"\", E456<>\"\",G456<>\"\",H456<>\"\"), IF(L456=TRUE, IF(OR(B456=\"\", D456=\"\", E456=\"\", H456=\"\"), TRUE, FALSE), IF(OR(B456=\"\", D456=\"\", G456=\"\", H456=\"\"), TRUE, FALSE)), FALSE)","v":false},""]
[null,null,{"$f":"IFERROR(VLOOKUP(B457, RemediationUnits!$B$6:$C$48,2, FALSE),\"\")","v":""},null,null,"",null,null,null,null,"",false,{"$f":"INDEX(EWEMs!$F$5:$F$29,MATCH(D457,EWEMs!$X$5:$X$29,0))","v":{"$error":"#N/A"}},"not bath","not kitchen",{"$f":"VLOOKUP(LEFT(D457,(FIND(\" \",D457,1)-1))*1,EWEMs!$B$5:$D$29,3,FALSE)","v":{"$error":"#VALUE!"}},false,""]
[null,null,{"$f":"IFERROR(VLOOKUP(B458, RemediationUnits!$B$6:$C$48,2, FALSE),\"\")","v":""},null,null,"",null,null,null,null,"",false,{"$f":"INDEX(EWEMs!$F$5:$F$29,MATCH(D458,EWEMs!$X$5:$X$29,0))","v":{"$error":"#N/A"}},"not bath","not kitchen",{"$f":"VLOOKUP(LEFT(D458,(FIND(\" \",D458,1)-1))*1,EWEMs!$B$5:$D$29,3,FALSE)","v":{"$error":"#VALUE!"}},false,""]
[null,null,{"$f":"IFERROR(VLOOKUP(B459, RemediationUnits!$B$6:$C$48,2, FALSE),\"\")","v":""},null,null,"",null,null,null,null,"",false,{"$f":"INDEX(EWEMs!$F$5:$F$29,MATCH(D459,EWEMs!$X$5:$X$29,0))","v":{"$error":"#N/A"}},"not bath","not kitchen",{"$f":"VLOOKUP(LEFT(D459,(FIND(\" \",D459,1)-1))*1,EWEMs!$B$5:$D$29,3,FALSE)","v":{"$error":"#VALUE!"}},false,""]
[null,null,{"$f":"IFERROR(VLOOKUP(B460, RemediationUnits!$B$6:$C$48,2, FALSE),\"\")","v":""},null,null,"",null,null,null,null,"",false,{"$f":"INDEX(EWEMs!$F$5:$F$29,MATCH(D460,EWEMs!$X$5:$X$29,0))","v":{"$error":"#N/A"}},"not bath","not kitchen",{"$f":"VLOOKUP(LEFT(D460,(FIND(\" \",D460,1)-1))*1,EWEMs!$B$5:$D$29,3,FALSE)","v":{"$error":"#VALUE!"}},false,""]
[null,null,{"$f":"IFERROR(VLOOKUP(B461, RemediationUnits!$B$6:$C$48,2, FALSE),\"\")","v":""},null,null,"",null,null,null,null,"",false,{"$f":"INDEX(EWEMs!$F$5:$F$29,MATCH(D461,EWEMs!$X$5:$X$29,0))","v":{"$error":"#N/A"}},"not bath","not kitchen",{"$f":"VLOOKUP(LEFT(D461,(FIND(\" \",D461,1)-1))*1,EWEMs!$B$5:$D$29,3,FALSE)","v":{"$error":"#VALUE!"}},false,""]
[null,null,{"$f":"IFERROR(VLOOKUP(B462, RemediationUnits!$B$6:$C$48,2, FALSE),\"\")","v":""},null,null,"",null,null,null,null,"",false,{"$f":"INDEX(EWEMs!$F$5:$F$29,MATCH(D462,EWEMs!$X$5:$X$29,0))","v":{"$error":"#N/A"}},"not bath","not kitchen",{"$f":"VLOOKUP(LEFT(D462,(FIND(\" \",D462,1)-1))*1,EWEMs!$B$5:$D$29,3,FALSE)","v":{"$error":"#VALUE!"}},false,""]
[null,null,{"$f":"IFERROR(VLOOKUP(B463, RemediationUnits!$B$6:$C$48,2, FALSE),\"\")","v":""},null,null,"",null,null,null,null,"",false,{"$f":"INDEX(EWEMs!$F$5:$F$29,MATCH(D463,EWEMs!$X$5:$X$29,0))","v":{"$error":"#N/A"}},"not bath","not kitchen",{"$f":"VLOOKUP(LEFT(D463,(FIND(\" \",D463,1)-1))*1,EWEMs!$B$5:$D$29,3,FALSE)","v":{"$error":"#VALUE!"}},false,""]
[null,null,{"$f":"IFERROR(VLOOKUP(B464, RemediationUnits!$B$6:$C$48,2, FALSE),\"\")","v":""},null,null,"",null,null,null,null,"",false,{"$f":"INDEX(EWEMs!$F$5:$F$29,MATCH(D464,EWEMs!$X$5:$X$29,0))","v":{"$error":"#N/A"}},"not bath","not kitchen",{"$f":"VLOOKUP(LEFT(D464,(FIND(\" \",D464,1)-1))*1,EWEMs!$B$5:$D$29,3,FALSE)","v":{"$error":"#VALUE!"}},false,""]
[null,null,{"$f":"IFERROR(VLOOKUP(B465, RemediationUnits!$B$6:$C$48,2, FALSE),\"\")","v":""},null,null,"",null,null,null,null,"",false,{"$f":"INDEX(EWEMs!$F$5:$F$29,MATCH(D465,EWEMs!$X$5:$X$29,0))","v":{"$error":"#N/A"}},"not bath","not kitchen",{"$f":"VLOOKUP(LEFT(D465,(FIND(\" \",D465,1)-1))*1,EWEMs!$B$5:$D$29,3,FALSE)","v":{"$error":"#VALUE!"}},false,""]
[null,null,{"$f":"IFERROR(VLOOKUP(B466, RemediationUnits!$B$6:$C$48,2, FALSE),\"\")","v":""},null,null,"",null,null,null,null,"",false,{"$f":"INDEX(EWEMs!$F$5:$F$29,MATCH(D466,EWEMs!$X$5:$X$29,0))","v":{"$error":"#N/A"}},"not bath","not kitchen",{"$f":"VLOOKUP(LEFT(D466,(FIND(\" \",D466,1)-1))*1,EWEMs!$B$5:$D$29,3,FALSE)","v":{"$error":"#VALUE!"}},false,""]
[null,null,{"$f":"IFERROR(VLOOKUP(B467, RemediationUnits!$B$6:$C$48,2, FALSE),\"\")","v":""},null,null,"",null,null,null,null,"",false,{"$f":"INDEX(EWEMs!$F$5:$F$29,MATCH(D467,EWEMs!$X$5:$X$29,0))","v":{"$error":"#N/A"}},"not bath","not kitchen",{"$f":"VLOOKUP(LEFT(D467,(FIND(\" \",D467,1)-1))*1,EWEMs!$B$5:$D$29,3,FALSE)","v":{"$error":"#VALUE!"}},false,""]
[null,null,{"$f":"IFERROR(VLOOKUP(B468, RemediationUnits!$B$6:$C$48,2, FALSE),\"\")","v":""},null,null,"",null,null,null,null,"",false,{"$f":"INDEX(EWEMs!$F$5:$F$29,MATCH(D468,EWEMs!$X$5:$X$29,0))","v":{"$error":"#N/A"}},"not bath","not kitchen",{"$f":"VLOOKUP(LEFT(D468,(FIND(\" \",D468,1)-1))*1,EWEMs!$B$5:$D$29,3,FALSE)","v":{"$error":"#VALUE!"}},false,""]
[null,null,{"$f":"IFERROR(VLOOKUP(B469, RemediationUnits!$B$6:$C$48,2, FALSE),\"\")","v":""},null,null,"",null,null,null,null,"",false,{"$f":"INDEX(EWEMs!$F$5:$F$29,MATCH(D469,EWEMs!$X$5:$X$29,0))","v":{"$error":"#N/A"}},"not bath","not kitchen",{"$f":"VLOOKUP(LEFT(D469,(FIND(\" \",D469,1)-1))*1,EWEMs!$B$5:$D$29,3,FALSE)","v":{"$error":"#VALUE!"}},false,""]
[null,null,{"$f":"IFERROR(VLOOKUP(B470, RemediationUnits!$B$6:$C$48,2, FALSE),\"\")","v":""},null,null,"",null,null,null,null,"",false,{"$f":"INDEX(EWEMs!$F$5:$F$29,MATCH(D470,EWEMs!$X$5:$X$29,0))","v":{"$error":"#N/A"}},"not bath","not kitchen",{"$f":"VLOOKUP(LEFT(D470,(FIND(\" \",D470,1)-1))*1,EWEMs!$B$5:$D$29,3,FALSE)","v":{"$error":"#VALUE!"}},false,""]
[null,null,{"$f":"IFERROR(VLOOKUP(B471, RemediationUnits!$B$6:$C$48,2, FALSE),\"\")","v":""},null,null,"",null,null,null,null,"",false,{"$f":"INDEX(EWEMs!$F$5:$F$29,MATCH(D471,EWEMs!$X$5:$X$29,0))","v":{"$error":"#N/A"}},"not bath","not kitchen",{"$f":"VLOOKUP(LEFT(D471,(FIND(\" \",D471,1)-1))*1,EWEMs!$B$5:$D$29,3,FALSE)","v":{"$error":"#VALUE!"}},false,""]
[null,null,{"$f":"IFERROR(VLOOKUP(B472, RemediationUnits!$B$6:$C$48,2, FALSE),\"\")","v":""},null,null,"",null,null,null,null,"",false,{"$f":"INDEX(EWEMs!$F$5:$F$29,MATCH(D472,EWEMs!$X$5:$X$29,0))","v":{"$error":"#N/A"}},"not bath","not kitchen",{"$f":"VLOOKUP(LEFT(D472,(FIND(\" \",D472,1)-1))*1,EWEMs!$B$5:$D$29,3,FALSE)","v":{"$error":"#VALUE!"}},false,""]
[null,null,{"$f":"IFERROR(VLOOKUP(B473, RemediationUnits!$B$6:$C$48,2, FALSE),\"\")","v":""},null,null,"",null,null,null,null,"",false,{"$f":"INDEX(EWEMs!$F$5:$F$29,MATCH(D473,EWEMs!$X$5:$X$29,0))","v":{"$error":"#N/A"}},"not bath","not kitchen",{"$f":"VLOOKUP(LEFT(D473,(FIND(\" \",D473,1)-1))*1,EWEMs!$B$5:$D$29,3,FALSE)","v":{"$error":"#VALUE!"}},false,""]
[null,null,{"$f":"IFERROR(VLOOKUP(B474, RemediationUnits!$B$6:$C$48,2, FALSE),\"\")","v":""},null,null,"",null,null,null,null,"",false,{"$f":"INDEX(EWEMs!$F$5:$F$29,MATCH(D474,EWEMs!$X$5:$X$29,0))","v":{"$error":"#N/A"}},"not bath","not kitchen",{"$f":"VLOOKUP(LEFT(D474,(FIND(\" \",D474,1)-1))*1,EWEMs!$B$5:$D$29,3,FALSE)","v":{"$error":"#VALUE!"}},false,""]
[null,null,{"$f":"IFERROR(VLOOKUP(B475, RemediationUnits!$B$6:$C$48,2, FALSE),\"\")","v":""},null,null,"",null,null,null,null,"",false,{"$f":"INDEX(EWEMs!$F$5:$F$29,MATCH(D475,EWEMs!$X$5:$X$29,0))","v":{"$error":"#N/A"}},"not bath","not kitchen",{"$f":"VLOOKUP(LEFT(D475,(FIND(\" \",D475,1)-1))*1,EWEMs!$B$5:$D$29,3,FALSE)","v":{"$error":"#VALUE!"}},false,""]
[null,null,{"$f":"IFERROR(VLOOKUP(B476, RemediationUnits!$B$6:$C$48,2, FALSE),\"\")","v":""},null,null,"",null,null,null,null,"",false,{"$f":"INDEX(EWEMs!$F$5:$F$29,MATCH(D476,EWEMs!$X$5:$X$29,0))","v":{"$error":"#N/A"}},"not bath","not kitchen",{"$f":"VLOOKUP(LEFT(D476,(FIND(\" \",D476,1)-1))*1,EWEMs!$B$5:$D$29,3,FALSE)","v":{"$error":"#VALUE!"}},false,""]
[null,null,{"$f":"IFERROR(VLOOKUP(B477, RemediationUnits!$B$6:$C$48,2, FALSE),\"\")","v":""},null,null,"",null,null,null,null,"",false,{"$f":"INDEX(EWEMs!$F$5:$F$29,MATCH(D477,EWEMs!$X$5:$X$29,0))","v":{"$error":"#N/A"}},"not bath","not kitchen",{"$f":"VLOOKUP(LEFT(D477,(FIND(\" \",D477,1)-1))*1,EWEMs!$B$5:$D$29,3,FALSE)","v":{"$error":"#VALUE!"}},false,""]
[null,null,{"$f":"IFERROR(VLOOKUP(B478, RemediationUnits!$B$6:$C$48,2, FALSE),\"\")","v":""},null,null,"",null,null,null,null,"",false,{"$f":"INDEX(EWEMs!$F$5:$F$29,MATCH(D478,EWEMs!$X$5:$X$29,0))","v":{"$error":"#N/A"}},"not bath","not kitchen",{"$f":"VLOOKUP(LEFT(D478,(FIND(\" \",D478,1)-1))*1,EWEMs!$B$5:$D$29,3,FALSE)","v":{"$error":"#VALUE!"}},false,""]
[null,null,{"$f":"IFERROR(VLOOKUP(B479, RemediationUnits!$B$6:$C$48,2, FALSE),\"\")","v":""},null,null,"",null,null,null,null,"",false,{"$f":"INDEX(EWEMs!$F$5:$F$29,MATCH(D479,EWEMs!$X$5:$X$29,0))","v":{"$error":"#N/A"}},"not bath","not kitchen",{"$f":"VLOOKUP(LEFT(D479,(FIND(\" \",D479,1)-1))*1,EWEMs!$B$5:$D$29,3,FALSE)","v":{"$error":"#VALUE!"}},false,""]
[null,null,{"$f":"IFERROR(VLOOKUP(B480, RemediationUnits!$B$6:$C$48,2, FALSE),\"\")","v":""},null,null,"",null,null,null,null,"",false,{"$f":"INDEX(EWEMs!$F$5:$F$29,MATCH(D480,EWEMs!$X$5:$X$29,0))","v":{"$error":"#N/A"}},"not bath","not kitchen",{"$f":"VLOOKUP(LEFT(D480,(FIND(\" \",D480,1)-1))*1,EWEMs!$B$5:$D$29,3,FALSE)","v":{"$error":"#VALUE!"}},false,""]
[null,null,{"$f":"IFERROR(VLOOKUP(B481, RemediationUnits!$B$6:$C$48,2, FALSE),\"\")","v":""},null,null,"",null,null,null,null,"",false,{"$f":"INDEX(EWEMs!$F$5:$F$29,MATCH(D481,EWEMs!$X$5:$X$29,0))","v":{"$error":"#N/A"}},"not bath","not kitchen",{"$f":"VLOOKUP(LEFT(D481,(FIND(\" \",D481,1)-1))*1,EWEMs!$B$5:$D$29,3,FALSE)","v":{"$error":"#VALUE!"}},false,""]
[null,null,{"$f":"IFERROR(VLOOKUP(B482, RemediationUnits!$B$6:$C$48,2, FALSE),\"\")","v":""},null,null,"",null,null,null,null,"",false,{"$f":"INDEX(EWEMs!$F$5:$F$29,MATCH(D482,EWEMs!$X$5:$X$29,0))","v":{"$error":"#N/A"}},"not bath","not kitchen",{"$f":"VLOOKUP(LEFT(D482,(FIND(\" \",D482,1)-1))*1,EWEMs!$B$5:$D$29,3,FALSE)","v":{"$error":"#VALUE!"}},false,""]
[null,null,{"$f":"IFERROR(VLOOKUP(B483, RemediationUnits!$B$6:$C$48,2, FALSE),\"\")","v":""},null,null,"",null,null,null,null,"",false,{"$f":"INDEX(EWEMs!$F$5:$F$29,MATCH(D483,EWEMs!$X$5:$X$29,0))","v":{"$error":"#N/A"}},"not bath","not kitchen",{"$f":"VLOOKUP(LEFT(D483,(FIND(\" \",D483,1)-1))*1,EWEMs!$B$5:$D$29,3,FALSE)","v":{"$error":"#VALUE!"}},false,""]
[null,null,{"$f":"IFERROR(VLOOKUP(B484, RemediationUnits!$B$6:$C$48,2, FALSE),\"\")","v":""},null,null,"",null,null,null,null,"",false,{"$f":"INDEX(EWEMs!$F$5:$F$29,MATCH(D484,EWEMs!$X$5:$X$29,0))","v":{"$error":"#N/A"}},"not bath","not kitchen",{"$f":"VLOOKUP(LEFT(D484,(FIND(\" \",D484,1)-1))*1,EWEMs!$B$5:$D$29,3,FALSE)","v":{"$error":"#VALUE!"}},false,""]
[null,null,{"$f":"IFERROR(VLOOKUP(B485, RemediationUnits!$B$6:$C$48,2, FALSE),\"\")","v":""},null,null,"",null,null,null,null,"",false,{"$f":"INDEX(EWEMs!$F$5:$F$29,MATCH(D485,EWEMs!$X$5:$X$29,0))","v":{"$error":"#N/A"}},"not bath","not kitchen",{"$f":"VLOOKUP(LEFT(D485,(FIND(\" \",D485,1)-1))*1,EWEMs!$B$5:$D$29,3,FALSE)","v":{"$error":"#VALUE!"}},false,""]
[null,null,{"$f":"IFERROR(VLOOKUP(B486, RemediationUnits!$B$6:$C$48,2, FALSE),\"\")","v":""},null,null,"",null,null,null,null,"",false,{"$f":"INDEX(EWEMs!$F$5:$F$29,MATCH(D486,EWEMs!$X$5:$X$29,0))","v":{"$error":"#N/A"}},"not bath","not kitchen",{"$f":"VLOOKUP(LEFT(D486,(FIND(\" \",D486,1)-1))*1,EWEMs!$B$5:$D$29,3,FALSE)","v":{"$error":"#VALUE!"}},false,""]
[null,null,{"$f":"IFERROR(VLOOKUP(B487, RemediationUnits!$B$6:$C$48,2, FALSE),\"\")","v":""},null,null,"",null,null,null,null,"",false,{"$f":"INDEX(EWEMs!$F$5:$F$29,MATCH(D487,EWEMs!$X$5:$X$29,0))","v":{"$error":"#N/A"}},"not bath","not kitchen",{"$f":"VLOOKUP(LEFT(D487,(FIND(\" \",D487,1)-1))*1,EWEMs!$B$5:$D$29,3,FALSE)","v":{"$error":"#VALUE!"}},false,""]
[null,null,{"$f":"IFERROR(VLOOKUP(B488, RemediationUnits!$B$6:$C$48,2, FALSE),\"\")","v":""},null,null,"",null,null,null,null,"",false,{"$f":"INDEX(EWEMs!$F$5:$F$29,MATCH(D488,EWEMs!$X$5:$X$29,0))","v":{"$error":"#N/A"}},"not bath","not kitchen",{"$f":"VLOOKUP(LEFT(D488,(FIND(\" \",D488,1)-1))*1,EWEMs!$B$5:$D$29,3,FALSE)","v":{"$error":"#VALUE!"}},false,""]
[null,null,{"$f":"IFERROR(VLOOKUP(B489, RemediationUnits!$B$6:$C$48,2, FALSE),\"\")","v":""},null,null,"",null,null,null,null,"",false,{"$f":"INDEX(EWEMs!$F$5:$F$29,MATCH(D489,EWEMs!$X$5:$X$29,0))","v":{"$error":"#N/A"}},"not bath","not kitchen",{"$f":"VLOOKUP(LEFT(D489,(FIND(\" \",D489,1)-1))*1,EWEMs!$B$5:$D$29,3,FALSE)","v":{"$error":"#VALUE!"}},false,""]
[null,null,{"$f":"IFERROR(VLOOKUP(B490, RemediationUnits!$B$6:$C$48,2, FALSE),\"\")","v":""},null,null,"",null,null,null,null,"",false,{"$f":"INDEX(EWEMs!$F$5:$F$29,MATCH(D490,EWEMs!$X$5:$X$29,0))","v":{"$error":"#N/A"}},"not bath","not kitchen",{"$f":"VLOOKUP(LEFT(D490,(FIND(\" \",D490,1)-1))*1,EWEMs!$B$5:$D$29,3,FALSE)","v":{"$error":"#VALUE!"}},false,""]
[null,null,{"$f":"IFERROR(VLOOKUP(B491, RemediationUnits!$B$6:$C$48,2, FALSE),\"\")","v":""},null,null,"",null,null,null,null,"",false,{"$f":"INDEX(EWEMs!$F$5:$F$29,MATCH(D491,EWEMs!$X$5:$X$29,0))","v":{"$error":"#N/A"}},"not bath","not kitchen",{"$f":"VLOOKUP(LEFT(D491,(FIND(\" \",D491,1)-1))*1,EWEMs!$B$5:$D$29,3,FALSE)","v":{"$error":"#VALUE!"}},false,""]
[null,null,{"$f":"IFERROR(VLOOKUP(B492, RemediationUnits!$B$6:$C$48,2, FALSE),\"\")","v":""},null,null,"",null,null,null,null,"",false,{"$f":"INDEX(EWEMs!$F$5:$F$29,MATCH(D492,EWEMs!$X$5:$X$29,0))","v":{"$error":"#N/A"}},"not bath","not kitchen",{"$f":"VLOOKUP(LEFT(D492,(FIND(\" \",D492,1)-1))*1,EWEMs!$B$5:$D$29,3,FALSE)","v":{"$error":"#VALUE!"}},false,""]
[null,null,{"$f":"IFERROR(VLOOKUP(B493, RemediationUnits!$B$6:$C$48,2, FALSE),\"\")","v":""},null,null,"",null,null,null,null,"",false,{"$f":"INDEX(EWEMs!$F$5:$F$29,MATCH(D493,EWEMs!$X$5:$X$29,0))","v":{"$error":"#N/A"}},"not bath","not kitchen",{"$f":"VLOOKUP(LEFT(D493,(FIND(\" \",D493,1)-1))*1,EWEMs!$B$5:$D$29,3,FALSE)","v":{"$error":"#VALUE!"}},false,""]
[null,null,{"$f":"IFERROR(VLOOKUP(B494, RemediationUnits!$B$6:$C$48,2, FALSE),\"\")","v":""},null,null,"",null,null,null,null,"",false,{"$f":"INDEX(EWEMs!$F$5:$F$29,MATCH(D494,EWEMs!$X$5:$X$29,0))","v":{"$error":"#N/A"}},"not bath","not kitchen",{"$f":"VLOOKUP(LEFT(D494,(FIND(\" \",D494,1)-1))*1,EWEMs!$B$5:$D$29,3,FALSE)","v":{"$error":"#VALUE!"}},false,""]
[null,null,{"$f":"IFERROR(VLOOKUP(B495, RemediationUnits!$B$6:$C$48,2, FALSE),\"\")","v":""},null,null,"",null,null,null,null,"",false,{"$f":"INDEX(EWEMs!$F$5:$F$29,MATCH(D495,EWEMs!$X$5:$X$29,0))","v":{"$error":"#N/A"}},"not bath","not kitchen",{"$f":"VLOOKUP(LEFT(D495,(FIND(\" \",D495,1)-1))*1,EWEMs!$B$5:$D$29,3,FALSE)","v":{"$error":"#VALUE!"}},false,""]
[null,null,{"$f":"IFERROR(VLOOKUP(B496, RemediationUnits!$B$6:$C$48,2, FALSE),\"\")","v":""},null,null,"",null,null,null,null,"",false,{"$f":"INDEX(EWEMs!$F$5:$F$29,MATCH(D496,EWEMs!$X$5:$X$29,0))","v":{"$error":"#N/A"}},"not bath","not kitchen",{"$f":"VLOOKUP(LEFT(D496,(FIND(\" \",D496,1)-1))*1,EWEMs!$B$5:$D$29,3,FALSE)","v":{"$error":"#VALUE!"}},false,""]
[null,null,{"$f":"IFERROR(VLOOKUP(B497, RemediationUnits!$B$6:$C$48,2, FALSE),\"\")","v":""},null,null,"",null,null,null,null,"",false,{"$f":"INDEX(EWEMs!$F$5:$F$29,MATCH(D497,EWEMs!$X$5:$X$29,0))","v":{"$error":"#N/A"}},"not bath","not kitchen",{"$f":"VLOOKUP(LEFT(D497,(FIND(\" \",D497,1)-1))*1,EWEMs!$B$5:$D$29,3,FALSE)","v":{"$error":"#VALUE!"}},false,""]
[null,null,{"$f":"IFERROR(VLOOKUP(B498, RemediationUnits!$B$6:$C$48,2, FALSE),\"\")","v":""},null,null,"",null,null,null,null,"",false,{"$f":"INDEX(EWEMs!$F$5:$F$29,MATCH(D498,EWEMs!$X$5:$X$29,0))","v":{"$error":"#N/A"}},"not bath","not kitchen",{"$f":"VLOOKUP(LEFT(D498,(FIND(\" \",D498,1)-1))*1,EWEMs!$B$5:$D$29,3,FALSE)","v":{"$error":"#VALUE!"}},false,""]
[null,null,{"$f":"IFERROR(VLOOKUP(B499, RemediationUnits!$B$6:$C$48,2, FALSE),\"\")","v":""},null,null,"",null,null,null,null,"",false,{"$f":"INDEX(EWEMs!$F$5:$F$29,MATCH(D499,EWEMs!$X$5:$X$29,0))","v":{"$error":"#N/A"}},"not bath","not kitchen",{"$f":"VLOOKUP(LEFT(D499,(FIND(\" \",D499,1)-1))*1,EWEMs!$B$5:$D$29,3,FALSE)","v":{"$error":"#VALUE!"}},false,""]
[null,null,{"$f":"IFERROR(VLOOKUP(B500, RemediationUnits!$B$6:$C$48,2, FALSE),\"\")","v":""},null,null,"",null,null,null,null,"",false,{"$f":"INDEX(EWEMs!$F$5:$F$29,MATCH(D500,EWEMs!$X$5:$X$29,0))","v":{"$error":"#N/A"}},"not bath","not kitchen",{"$f":"VLOOKUP(LEFT(D500,(FIND(\" \",D500,1)-1))*1,EWEMs!$B$5:$D$29,3,FALSE)","v":{"$error":"#VALUE!"}},false,""]
[null,null,{"$f":"IFERROR(VLOOKUP(B501, RemediationUnits!$B$6:$C$48,2, FALSE),\"\")","v":""},null,null,"",null,null,null,null,"",false,{"$f":"INDEX(EWEMs!$F$5:$F$29,MATCH(D501,EWEMs!$X$5:$X$29,0))","v":{"$error":"#N/A"}},"not bath","not kitchen",{"$f":"VLOOKUP(LEFT(D501,(FIND(\" \",D501,1)-1))*1,EWEMs!$B$5:$D$29,3,FALSE)","v":{"$error":"#VALUE!"}},false,""]
[null,null,{"$f":"IFERROR(VLOOKUP(B502, RemediationUnits!$B$6:$C$48,2, FALSE),\"\")","v":""},null,null,"",null,null,null,null,"",false,{"$f":"INDEX(EWEMs!$F$5:$F$29,MATCH(D502,EWEMs!$X$5:$X$29,0))","v":{"$error":"#N/A"}},"not bath","not kitchen",{"$f":"VLOOKUP(LEFT(D502,(FIND(\" \",D502,1)-1))*1,EWEMs!$B$5:$D$29,3,FALSE)","v":{"$error":"#VALUE!"}},false,""]
[null,null,{"$f":"IFERROR(VLOOKUP(B503, RemediationUnits!$B$6:$C$48,2, FALSE),\"\")","v":""},null,null,"",null,null,null,null,"",false,{"$f":"INDEX(EWEMs!$F$5:$F$29,MATCH(D503,EWEMs!$X$5:$X$29,0))","v":{"$error":"#N/A"}},"not bath","not kitchen",{"$f":"VLOOKUP(LEFT(D503,(FIND(\" \",D503,1)-1))*1,EWEMs!$B$5:$D$29,3,FALSE)","v":{"$error":"#VALUE!"}},false,""]
[null,null,{"$f":"IFERROR(VLOOKUP(B504, RemediationUnits!$B$6:$C$48,2, FALSE),\"\")","v":""},null,null,"",null,null,null,null,"",false,{"$f":"INDEX(EWEMs!$F$5:$F$29,MATCH(D504,EWEMs!$X$5:$X$29,0))","v":{"$error":"#N/A"}},"not bath","not kitchen",{"$f":"VLOOKUP(LEFT(D504,(FIND(\" \",D504,1)-1))*1,EWEMs!$B$5:$D$29,3,FALSE)","v":{"$error":"#VALUE!"}},false,""]
[null,null,{"$f":"IFERROR(VLOOKUP(B505, RemediationUnits!$B$6:$C$48,2, FALSE),\"\")","v":""},null,null,"",null,null,null,null,"",false,{"$f":"INDEX(EWEMs!$F$5:$F$29,MATCH(D505,EWEMs!$X$5:$X$29,0))","v":{"$error":"#N/A"}},"not bath","not kitchen",{"$f":"VLOOKUP(LEFT(D505,(FIND(\" \",D505,1)-1))*1,EWEMs!$B$5:$D$29,3,FALSE)","v":{"$error":"#VALUE!"}},false,""]
[null,null,{"$f":"IFERROR(VLOOKUP(B506, RemediationUnits!$B$6:$C$48,2, FALSE),\"\")","v":""},null,null,"",null,null,null,null,"",false,{"$f":"INDEX(EWEMs!$F$5:$F$29,MATCH(D506,EWEMs!$X$5:$X$29,0))","v":{"$error":"#N/A"}},"not bath","not kitchen",{"$f":"VLOOKUP(LEFT(D506,(FIND(\" \",D506,1)-1))*1,EWEMs!$B$5:$D$29,3,FALSE)","v":{"$error":"#VALUE!"}},false,""]
[null,null,{"$f":"IFERROR(VLOOKUP(B507, RemediationUnits!$B$6:$C$48,2, FALSE),\"\")","v":""},null,null,"",null,null,null,null,"",false,{"$f":"INDEX(EWEMs!$F$5:$F$29,MATCH(D507,EWEMs!$X$5:$X$29,0))","v":{"$error":"#N/A"}},"not bath","not kitchen",{"$f":"VLOOKUP(LEFT(D507,(FIND(\" \",D507,1)-1))*1,EWEMs!$B$5:$D$29,3,FALSE)","v":{"$error":"#VALUE!"}},false,""]

{"sheet":"RemediationPhotos","index":13,"n_rows":96,"n_cols":10,"rows_kept":96,"cut":false,"hidden":true,"merged":[[0,1,0,2]]}
[null,"USE THE \"INSERT INTO CELL\" FUNTION TO INSERT PHOTO\nCompliant photos for EWEMs: Photo of each type of equipment/part observed for that EWEM. Ask to see spare parts in a stockroom for a photo of the label/package. ",null,"YOU MUST COMPLETE ALL OF OBSERVATIONS FIRST.\nIF ANY NONCOMPLIANCE CHANGES, IT WILL CHANGE THE PHOTOS LIST ON LEFT, MISALIGNING YOUR PHOTOS"]
[null,"EWEM and/or Location","Backstock/Inventory Photo","Photo 1","Photo 2 (optional)","Photo 3 (optional)","Photo 4 (optional)","Photo 5 (optional)","Photo 6 (optional)","Photo 7 (optional)"]
[null,"NONCOMPLIANT EWEMs: Photo of each type of equipment/part observed for that EWEM"]
[{"$f":"IF(AND(B4<>\"NONCOMPLIANT OBSERVATIONS\", NOT(ISBLANK(B4)), ISBLANK(D4)), 1, 0)","v":{"$error":"#VALUE!"}},{"$f":"_xlfn.VSTACK(\n  _xlfn._xlws.FILTER(RemediationEWEMs!$U$4:$U$29, RemediationEWEMs!$V$4:$V$29),\n  \"Add photos from Noncompliant Remediation Observations below\",\n  IF(\n    RemediationObservations!R4 > 0,\n    _xlfn._xlws.FILTER(RemediationObservations!$R$6:$R$507, RemediationObservations!$R$6:$R$507 <> \"\"),\n    \"NONE\"\n  )\n)","v":{"$error":"#VALUE!"}}]
[0]
[0]
[0]
[0]
[0]
[0]
[0]
[0]
[0]
[0]
[0]
[0]
[0]
[0]
[0]
[0]
[0]
[0]
[0]
[0]
[0]
[0]
[0]
[0]
[0]
[0]
[0]
[0]
[0]
[0]
[0]
[{"$f":"IF(AND(B36<>\"NONCOMPLIANT OBSERVATIONS\", NOT(ISBLANK(B36)), ISBLANK(D36)), 1, 0)","v":0}]
[0]
[0]
[0]
[0]
[0]
[0]
[0]
[0]
[0]
[0]
[0]
[0]
[0]
[0]
[0]
[0]
[0]
[0]
[0]
[0]
[0]
[0]
[0]
[0]
[0]
[0]
[0]
[0]
[0]
[0]
[0]
[{"$f":"IF(AND(B68<>\"NONCOMPLIANT OBSERVATIONS\", NOT(ISBLANK(B68)), ISBLANK(D68)), 1, 0)","v":0}]
[0]
[0]
[0]
[0]
[0]
[0]
[0]
[0]
[0]
[0]
[0]
[0]
[0]
[0]
[0]
[0]
[0]
[0]
[0]
[0]
[0]
[0]
[0]
[0]
[0]
[0]
[0]
[0]

{"sheet":"LoanPropdat","index":14,"n_rows":1,"n_cols":14,"rows_kept":1,"cut":false,"hidden":true,"merged":[]}
["bp_id","fannie_mae_loan_number","collateral_reference_number","property_linkage_id","property_name","HPBVendor","servicer_name","origination_date","verification_expected_ewem_installation_completion","property_address","city","state","zip_code","property_unit_count"]

{"sheet":"EWEMdat","index":15,"n_rows":1,"n_cols":11,"rows_kept":1,"cut":false,"hidden":true,"merged":[]}
["bp_collateral_id","fannie_mae_loan_number","servicer_name","EWEMNumber","EWEMCategory","EWEMName","EWEMDescription","LocationServed","Quantity","NumberOfUnits","InstalledCost"]

{"sheet":"SecurityKey","index":16,"n_rows":95,"n_cols":3,"rows_kept":95,"cut":false,"hidden":true,"merged":[]}
["LoanID + Linkage ID mashup","BP ID","Key"]
["1717474329_181521",1995,{"$f":"VLOOKUP('Property Info'!B8&\"_\"&'Property Info'!B11,SecurityKey!A:B,2,FALSE)","v":{"$error":"#N/A"}}]
["1717478234_188826",2500]
["1717478545_189007",2561]
["1717480336_156066",2892]
["1717480844_120006",2960]
["1717480223_126951",2970]
["1717478999_81127",3142]
["1717481055_190931",3311]
["1717481056_144954",3346]
["1717481274_79274",3361]
["1717481982_192084",3405]
["1717482522_191958",3447]
["1717481784_126532",3453]
["1717481980_116703",3483]
["1717482906_191500",3545]
["1740000207_142247",3593]
["1740000206_19588",3594]
["1740000205_31826",3595]
["1740000204_28033",3596]
["1740000033_194665",3633]
["1740000829_168122",3651]
["1740000851_68065",3712]
["1740001592_195442",3912]
["1720001098_37713",4119]
["1720001446_108735",4128]
["1720001554_64765",4202]
["1720001235_196372",4215]
["1720001855_13972",4251]
["1720001808_196852",4315]
["1720002021_152517",4324]
["1720002696_197604",4326]
["1720002703_197602",4329]
["1720002614_197495",4411]
["1720004967_244439",4500]
["1720004962_244416",4501]
["1720004226_243891",4517]
["1720005774_245019",4649]
["1720006442_166129",4700]
["1720007191_245865",4781]
["1720007482_245975",4850]
["1720007693_31038",4867]
["1720007775_246344",4881]
["1720008100_246506",4883]
["1720008751_247515",4921]
["1720008823_247549",4924]
["1720008821_185450",4935]
["1720009210_247762",4945]
["1720009391_247987",4952]
["1720009514_78440",4956]
["1720009515_9215",4957]
["1720009617_123700",4965]
["1720009896_248162",4971]
["1720010178_43511",4998]
["1720010179_125166",4999]
["1720010180_125165",5000]
["1720010196_248407",5001]
["1720010197_248406",5002]
["1720010205_248585",5003]
["1720010213_94143",5004]
["1720010319_146765",5012]
["1720010373_248500",5013]
["1720010406_248470",5018]
["1720010177_105956",5022]
["1720010491_175232",5028]
["1720010553_248690",5032]
["1720010554_248692",5033]
["1720010571_248686",5036]
["1720010648_249025",5043]
["1720010636_248833",5045]
["1720010693_127550",5048]
["1720010463_248838",5049]
["1720010464_23610",5050]
["1720010467_23592",5051]
["1720010467_248837",5052]
["1720010734_249045",5068]
["1720010776_178522",5069]
["1720010991_115168",5076]
["1720011035_179118",5082]
["1720011035_249163",5083]
["1720011085_103040",5088]
["1720011106_249102",5090]
["1720011011_249220",5098]
["1720011237_245342",5105]
["1720011237_249267",5106]
["1720011343_249387",5113]
["1720011415_175889",5118]
["1720011428_249414",5119]
["1720011465_26672",5124]
["1720011528_249390",5128]
["1720011557_30970",5137]
["1720011585_77441",5142]
["1720011700_159727",5158]
["1720011710_249703",5159]
["1720011722_249679",5160]

{"sheet":"Data","index":17,"n_rows":154,"n_cols":10,"rows_kept":154,"cut":false,"hidden":true,"merged":[]}
[]
[]
[]
[]
[]
["EWEM",null,"Backstock Required","Guidance","During Inspection"]
["Add or upgrade BAS/EMS/EMCS","complex",null,"Request the installed product specifications and user manual ahead of inspection. During inspection take photos of all components which are a part of and allow the system to perform its core functions. Ensure to document and verify any functionality specifically called out in the EWEM Description.","Take photos of controls including nameplate, verifying that this matches with specification. If needing to cycle through control settings, consult property staff and refer to user manual prior to doing so as this can impact default or custom conditions.","compliant",null,null,null,{"$f":"UPPER(B7)","v":"COMPLEX"}]
["Add or upgrade controls","complex",null,"Request the installed product specifications and user manual ahead of inspection. During inspection take photos of controls and settings if a particular setting is called for in the EWEM Description.","Take photos of controls including nameplate, verifying that this matches with specification. If needing to cycle through control settings, consult property staff and refer to user manual prior to doing so as this can impact default or custom conditions.","noncompliant",null,null,null,{"$f":"UPPER(B8)","v":"COMPLEX"}]
["Convert pneumatic controls to DDC","complex",null,"Request the installed product specifications ahead of inspection. During inspection ensure control is digital, and document with photos.","Take photos of controls including nameplate, verifying that this matches with specification. If needing to cycle through control settings, consult property staff and refer to user manual prior to doing so as this can impact default or custom conditions.",null,null,null,null,"COMPLEX"]
["Install advanced metering systems","complex",null,"Review the specification in the HPB and Inspection Form. Document any digital infrastructure with property staff with screenshots or login information; e.g. meter data management system.","Take photo confirming the correct equipment was installed based on product specifications; e.g. advanced/smart meters and/or load control devices in utility closets or exterior of building.",null,null,null,null,"COMPLEX"]
["Other","basic",null,"Review the specification in the HPB and Inspection Form.","Take photos of nameplate to confirm model matches with product specifications. Verification of operability contingent on type of upgrade.","Apartment",null,null,null,"BASIC"]
["Replace dishwashers with ENERGY STAR rated","basic",null,"Photograph the nameplate of each observed during inspection. Look up each unique model observed on the ENERGY STAR database. Include screenshot of PDF ENERGY STAR certificate for each model in the photos tab.","Confirm that the system is operational and working properly. Take photos of nameplate found within the appliance to confirm it matches the product specifications. ","Common Area",null,null,null,"BASIC"]
["Replace clothes dryers with ENERGY STAR rated","basic",null,"Check if the equipment is leased or not, take a photo to show leasing vendor if applicable. Photograph the nameplate of each observed during inspection. Look up each unique model observed on the ENERGY STAR database. Include screenshot of ENERGY STAR certificate for each model in the photos tab. Include photo showing leasing vendor if applicable. Note if leased, the EWEM is noncompliant.","Confirm that the system is operational and working properly. Take photos of nameplate found within the appliance to confirm it matches the product specifications. ",null,null,null,null,"BASIC"]
["Replace washing machines ENERGY STAR rated","basic",null,"Check if the equipment is leased or not, take a photo to show leasing vendor if applicable. Photograph the nameplate of each observed during inspection. Look up each unique model observed on the ENERGY STAR database. Include screenshot of ENERGY STAR certificate for each model in the photos tab. Include photo showing leasing vendor if applicable. Note if leased, the EWEM is noncompliant.","Confirm that the system is operational and working properly. Take photos of nameplate found within the appliance to confirm it matches the product specifications. ",null,null,null,null,"BASIC"]
["Replace refrigerators with ENERGY STAR rated","basic",null,"Photograph the nameplate of each observed during inspection. Look up each unique model observed on the ENERGY STAR database. Include screenshot of ENERGY STAR certificate for each model in the photos tab. Pay special attention to if the EWEM Description calls out an efficiency rating, and ensure the model meets it for compliance.","Confirm that the system is operational and working properly. Take photos of nameplate found within the appliance to confirm it matches the product specifications. ",null,null,null,null,"BASIC"]
["Install plug load controls","basic",null,"Request installed product specifications before inspection.","Take photos of controls including nameplate, verifying that this matches with specification. If needing to cycle through control settings, consult property staff and refer to user manual prior to doing so as this can impact default or custom conditions.",null,null,null,null,"BASIC"]
["Install programmable thermostats","basic",null,"Request installed product specifications before inspection. Ensure thermostat is operational during inspection.","Take photos of controls including nameplate, verifying that this matches with specification. If needing to cycle through thermostat settings, consult property staff and refer to user manual prior to doing so as this can impact default or custom conditions.",null,null,null,null,"BASIC"]
["Install smart thermostats","basic",null,"Request installed product specifications before inspection. Ensure thermostat is connected to the internet and operational during inspection.","Take photos of controls including nameplate, verifying that this matches with specification. If needing to cycle through thermostat settings, consult property staff and refer to user manual prior to doing so as this can impact default or custom conditions. If property has wireless internet, then MUST be connected to internet for compliance. If it is tenant-wifi only, then connection to internet is optional for compliance. ",null,null,null,null,"BASIC"]
["Install or replace heat pumps","basic",null,"Photograph the indoor and outdoor unit nameplates. Confirm that the installed equipment matches or exceeds any specified SEER or COP rating. Look up the product/s on AHRI database and provide screenshot of certificate/s on photos tab. If ENERGYSTAR rating called for, provide screenshot of certificate in photos tab. Ensure EWEM Description req. are met.","Verify models installed match the product specifications and are operational; i.e.ensure that fan on indoor air handler is blowing, and the air is hot or cool based on thermostat setpoint temperature, by feeling the air as it exits the ducts. For water based heat pump systems, where ducts may not be present, use an infrared thermometer or simply touch the radiator, domestic hot water outlet, or radiant floor depending on application to confirm that the system is functioning as intended according to thermostat setpoints.",null,null,null,null,"BASIC"]
["Replace split system AC","basic",null,"Photograph the indoor and outdoor unit nameplates. Confirm that the installed equipment matches or exceeds any specified SEER or COP rating. Look up the product/s on AHRI database and provide screenshot of certificate/s on photos tab. If ENERGYSTAR rating called for, provide screenshot of certificate in photos tab. Ensure EWEM Description req. are met.","Verify models installed match the product specifications and are operational; i.e.ensure that fan on indoor air handler is blowing, and the air cool based on thermostat setpoint temperature, by feeling the air as it exits the ducts.Check that the condenser fan, outside of the apartment, is functioning and heat is being expelled by the unit.",null,null,null,null,"BASIC"]
["Replace split system AC with furnace","basic",null,"Photograph the indoor and outdoor unit nameplates. Confirm that the installed equipment matches or exceeds any specified efficiency ratings. Look up the product/s on AHRI database and provide screenshot of certificate/s on photos tab. If ENERGYSTAR rating called for, provide screenshot of certificate in photos tab. Ensure EWEM Description req. are met.","Verify models installed match the product specifications and are operational; i.e.ensure that fan on indoor air handler is blowing, and the air is hot based on thermostat setpoint temperature, by feeling the air as it exits the ducts.",null,null,null,null,"BASIC"]
["Replace furnace","basic",null,"Photograph furnace nameplate. Confirm that the installed equipment matches or exceeds any specified efficiency rating. Ensure EWEM Description req. are met.","Verify models installed match the product specifications and are operational; i.e.ensure that fan on indoor air handler is blowing, and the air is hot based on thermostat setpoint temperature, by feeling the air as it exits the ducts.",null,null,null,null,"BASIC"]
["Replace package units","basic",null,"Photograph unit nameplate. Confirm that the installed equipment matches or exceeds any specified SEER, COP, or efficiency ratings. Look up the product/s on AHRI database and provide screenshot of certificate/s on photos tab. Ensure EWEM Description req. are met.","Verify models installed match the product specifications and are operational; i.e.ensure that the duct air in the apartment is cool, based on thermostat setpoint temperature, by feeling the air as it exits the ducts. Check that the packaged unit, outside of the apartment, is functioning and heat is being expelled by the unit.",null,null,null,null,"BASIC"]
["Replace or modify AHU","complex",null,"Request installed product specifications and invoice before inspection. Ensure to photograph mofdified components. Provide screenshot of invoice along with photos. Ensure installation meets EWEM Description requirements.","Verify models installed match the product specifications and are operational; i.e.ensure that the duct air in the apartment is hot and/or cool, based on thermostat setpoint temperature and model features, by feeling the air as it exits the ducts. Check that air intake and exhaust on AHU are functioning properly.",null,null,null,null,"COMPLEX"]
["Replace PTACs","basic",null,"Photograph the unit nameplate. Confirm that the installed equipment matches or exceeds any specified efficiency rating/s. Ensure EWEM Description requirements are are met. If any particlar requirements provide screenshots of pertinent documentation on photos tab.","Verify models installed match the product specifications and are operational; i.e.ensure that fan on PTAC unit is blowing, and the air is hot or cool based on PTAC setpoint temperature, by feeling the air as it exits the unit.",null,null,null,null,"BASIC"]
["Replace wall/window AC","basic",null,"Photograph the unit nameplate. Confirm that the installed equipment matches or exceeds any specified efficiency rating/s. Ensure EWEM Description requirements are are met. If any particlar requirements provide screenshots of pertinent documentation on photos tab.","Verify models installed match the product specifications and are operational; i.e.ensure that fan on AC unit is blowing, and the air is hot or cool based on AC setpoint temperature, by feeling the air as it exits the unit.",null,null,null,null,"BASIC"]
["Add duct insulation","basic",null,"Photograph the R value noted on the insulation such it is legible.","Access the attic space and/or HVAC access panel within apartments to confirm that insulation is installed. Measure thickness of insulation wrapped around ducts to confirm it matches the product specifications.",null,null,null,null,"BASIC"]
["Seal ducts","basic",null,"Note EWEM Description target or requirements. Request testing results prior to inspection. During inspection check for any obvious openings if ducts are accessible, or check registers/boots for gaps by removing the grille on supply side of system. Photograph these observations and provide in photos tab along with screenshots of provided testing results.","Access the attic space and/or HVAC access panel within apartments to confirm that duct sealant is installed; for internal duct sealant, check for foam rubber or sealant by carefully removing grilles on supply and return registers. For external duct sealant, check for tape or mastic around duct exterior. Take photos veriyfing that this matches product specifications.",null,null,null,null,"BASIC"]
["Replace exhaust or ventilation fans","basic",null,"Request the installed product specifications before inspection. Ensure product meets any EWEM Description requirements.","Verify models installed match the product specifications and are operational; i.e.ensure that fan on ventilation unit is blowing when wall switch or unit dial is switched on.",null,null,null,null,"BASIC"]
["Upgrade and balance ventilation system","complex",null,"Request the installed product specifications before inspection. Ensure product meets any EWEM Description requirements.","Access the attic space to confirm upgrades accounting for separation in ventilation and air handling systems. Take photos veriyfing that this matches product specifications and, if part of the upgrade, document both ductwork as well as  supply and exhaust fans.",null,null,null,null,"COMPLEX"]
["Install ground source heat pump system","complex",null,"Request the installed product specifications before inspection. Photograph nameplate/s and equipment to show system is ground source. Ensure product meets any EWEM Description requirements.","Verify models installed match the product specifications and are operational; i.e.ensure that fan on indoor air handler is blowing, and the air is hot or cool based on thermostat setpoint temperature, by feeling the air as it exits the ducts. For water based heat pump systems, where ducts may not be present, use an infrared thermometer or simply touch the radiator, domestic hot water outlet, or radiant floor depending on application to confirm that the system is functioning as intended according to thermostat setpoints.",null,null,null,null,"COMPLEX"]
["Add or replace cooling tower","complex",null,"Request the installed product specifications before inspection. Photograph nameplate/s. Ensure product meets any EWEM Description requirements.","Take photos of nameplate to confirm models installed match the product specifications and visually confirm these are operational; i.e. cooling tower fan is on and exhaust is released from air outlet.",null,null,null,null,"COMPLEX"]
["Add economizer","complex",null,"Request the installed product specifications before inspection. Photograph nameplate/s. Ensure product meets any EWEM Description requirements.","Take photos of nameplate and temperature sensor, if accesible, to confirm models installed match the product specifications and visually confirm the unit is operational.",null,null,null,null,"COMPLEX"]
["Add energy recovery","complex",null,"Review the specification in the HPB and Inspection Form.","Take photos of nameplate to confirm model matches with product specifications. Verification of operability contingent on type of upgrade.",null,null,null,null,"COMPLEX"]
["Other heating","basic",null,"Review the specification in the HPB and Inspection Form.","Take photos of nameplate to confirm model matches with product specifications. Verification of operability contingent on type of upgrade.",null,null,null,null,"BASIC"]
["Other cooling","basic",null,"Review the specification in the HPB and Inspection Form.","Take photos of nameplate to confirm model matches with product specifications. Verification of operability contingent on type of upgrade.",null,null,null,null,"BASIC"]
["Other ventilation","complex",null,"Review the specification in the HPB and Inspection Form.","Take photos of nameplate to confirm model matches with product specifications. Verification of operability contingent on type of upgrade.",null,null,null,null,"COMPLEX"]
["Other distribution","complex",null,"Review the specification in the HPB and Inspection Form.","Take photos of nameplate to confirm model matches with product specifications. Verification of operability contingent on type of upgrade.",null,null,null,null,"COMPLEX"]
["Replace central heating boiler","complex",null,"Take photos of nameplate to confirm model matches with product specifications.","Take photos of nameplate to confirm model matches with product specifications. If needing to cycle through control settings, consult property staff and refer to user manual prior to doing so as this can impact default or custom conditions.",null,null,null,null,"COMPLEX"]
["Replace individual heating boiler","basic",null,"Take photos of nameplate to confirm model matches with product specifications.","Take photos of nameplate to confirm model matches with product specifications. If needing to cycle through control settings, consult property staff and refer to user manual prior to doing so as this can impact default or custom conditions; if using a thermostat, operability can be verified by adjusting from off state to the temperature setpoint.",null,null,null,null,"BASIC"]
["Replace burner","complex",null,"Request the installed product specifications before inspection. Photograph upgrades components. Ensure measure meets EWEM Description requirements.","Take photos of nameplate to confirm model matches with product specifications. If needing to cycle through control settings, consult property staff and refer to user manual prior to doing so as this can impact default or custom conditions; if using a thermostat, operability can be verified by adjusting from off state to the temperature setpoint.",null,null,null,null,"COMPLEX"]
["Insulate boiler room","basic",null,"Request the installed product specifications before inspection. If a particular rating is called for in the EWEM Description ensure it is documented with a photo or screenshot of spec. sheet or invoice in photos tab.","Take photos of insulation around the boiler, access points, distribution pipes, pumps, walls and surrounding any openings; measure thickness and length of insulated and noninsulated sections and verify these match the product specifications.",null,null,null,null,"BASIC"]
["Insulate boiler","basic",null,"Request the installed product specifications before inspection. If a particular rating is called for in the EWEM Description ensure it is documented with a photo or screenshot of spec. sheet or invoice in photos tab.","Take photos of insulation around the boiler or hot water tank; measure thickness and length of insulated and noninsulated sections and verify these match the product specifications.",null,null,null,null,"BASIC"]
["Add energy recovery","complex",null,"Review the specification in the HPB and Inspection Form.","Take photos of nameplate to confirm model matches with product specifications. Verification of operability contingent on type of upgrade.",null,null,null,null,"COMPLEX"]
["Convert system from steam to hot water","complex",null,"Request the installed product specifications before inspection. Photograph nameplate/s. Ensure measure meets any EWEM Description requirements.","Take photos of nameplate to confirm model matches with product specifications. If needing to cycle through control settings, consult property staff and refer to user manual prior to doing so as this can impact default or custom conditions.",null,null,null,null,"COMPLEX"]
["Upgrade whole building lighting","basic",1,"You must visually confirm that lighting is LED, so you will need to remove covers, if needed, or use a 'flicker' device that can determine LED. ","Verify lighting fixtures according to determined sample size, confirming they are installed, operational and match the product specifications. ",null,null,null,null,"BASIC"]
["Upgrade common area lighting","basic",1,"You must visually confirm that lighting is LED, so you will need to remove covers, if needed, or use a 'flicker' device that can determine LED. ","Verify lighting fixtures according to determined sample size, confirming they are installed, operational and match the product specifications. ",null,null,null,null,"BASIC"]
["Upgrade exterior lighting","basic",1,"You must visually confirm that lighting is LED, so you will need to remove covers, if needed, or use a 'flicker' device that can determine LED. ","Verify lighting fixtures according to determined sample size, confirming they are installed, operational and match the product specifications. ",null,null,null,null,"BASIC"]
["Upgrade in-unit lighting","basic",1,"You must visually confirm that lighting is LED, so you will need to remove covers, if needed, or use a 'flicker' device that can determine LED. ","Verify lighting fixtures according to determined sample size, confirming they are installed, operational and match the product specifications. ",null,null,null,null,"BASIC"]
["Install sensors/controls","basic",null,"Request the installed product specifications and user manual ahead of inspection. During inspection take photos of controls and settings if a particular setting is called for in the EWEM Description.","Take photos of sensors and controls including nameplate, where visible, verifying that this matches with specification. If needing to cycle through control settings, consult property staff and refer to user manual prior to doing so as this can impact default or custom conditions. Visit stock room to document surplus sensors if those installed are inaccessible (e.g. inline temperature sensors).",null,null,null,null,"BASIC"]
["Air seal envelope/weather-strip","basic",null,"Take photos which show weather striping or caulking forms a proper seal around fenestration. If EWEM Description calls for certain performance standard ask for documentation of blower door testing (showing both test in and test out) prior to inspection and include screenshot in photos tab.","Take photo of windows according to minimum sample size; visually confirm that weather strip forms a proper seal around fenestration.",null,null,null,null,"BASIC"]
["Increase wall insulation","basic",null,"Ensure to receive invoice or other documentation showing the R value installed. Provide screenshot in photos tab. If wall is not open to photograph insulation use nonconductive probe to check for insulation around electrical outlets. If possible shutoff power via breaker. Provide photo of depth measured.","If visual confirmation is necessary, request that staff turn off power circuit to an electrical outlet and confirm that power is off using a voltmeter. Only once power is off, outlet cover can be safely removed and photos can be taken around outlet box to confirm insulation.",null,null,null,null,"BASIC"]
["Increase roof insulation","basic",null,"Request product specifications and invoice before inspection. Provide screenshot of documents which show installation meets EWEM Description requirements.","Take photos of roof exterior and interior if safely accessible.",null,null,null,null,"BASIC"]
["Add attic insulation","basic",null,"Request product specifications and invoice before inspection. Provide screenshot of documents which show installation meets EWEM Description requirements if attic is inaccessible. If attic is accessible photograph R value if present, or depth measured as well as type/s of insulation present.","Access the attic space within apartments to confirm that insulation is installed and confirm it matches the product specifications. Take photos of insulation.",null,null,null,null,"BASIC"]
["Insulate foundation","basic",null,"Request product specification and invoices before inspection. Depending on the foundation, may not be accessible making documentation highly important. Include screenshot of documents in photos tab. If accessible photograph type of insulation, R value if present, or depth of insulation.","Access the crawl space within apartments to confirm that insulation is installed and confirm it matches the product specifications. Take photos of insulation.",null,null,null,null,"BASIC"]
["Replace roof","basic",null,"Request the installed product specifications; refer to Inspection Form or invoices. Take note on which buildings this is installed at the property. Ensure if any specifics are called for in the EWEM Description that information is captured and verified.","Take photos of roof exterior and interior if safely accessible.",null,null,null,null,"BASIC"]
["Replace windows","basic",null,"Request the installed product specifications. If there is any extra windows or there are still labels on the windows photograph labels and provide in photos tab. Take photos showing number of panes.","Take photo of windows according to minimum sample size; verify these are operable and match the specifications.",null,null,null,null,"BASIC"]
["Replace doors","basic",null,"Request the installed product specifications. Ensure to check measure meets EWEM Description requirements. Take photos to show installation conforms.","Take photo of doors according to minimum sample size; verify these are operable and match the specifications.",null,null,null,null,"BASIC"]
["Add storm windows","basic",null,"Request the installed product specifications. If there is any extra windows or there are still labels on the windows photograph labels and provide in photos tab. Take photos showing number of panes.","Take photo of windows according to minimum sample size; verify these are operable and match the specifications.",null,null,null,null,"BASIC"]
["Add window films","basic",null,"Request the installed product specifications. Ensure to check measure meets EWEM Description requirements. Take photos to show installation.","Take photo of windows according to minimum sample size; visually confirm that films are installed on panes.",null,null,null,null,"BASIC"]
["Install or replace solar screens","basic",null,"Request the installed product specifications. Ensure to check measure meets EWEM Description requirements. Take photos to show installation.","Take photo of windows according to minimum sample size; visually confirm that these are installed on panes.",null,null,null,null,"BASIC"]
["Install cool/green roof","complex",null,"Request the installed product specifications. Ensure to check measure meets EWEM Description requirements. Take photos to show installation.","Take photos of roof exterior and interior if safely accessible.",null,null,null,null,"COMPLEX"]
["Install photovoltaic system","complex",null,"Request the installed product specifications, the system size, and any other pertinent plans or documents. Provide screenshots of documents in photos tab. Take photos of as much of the system as possible given access limitations.","Take photos of PV panels and balance of system components; i.e. racks, inverters, batteries, charge controller, AC/DC disconnects, power conditioning units and AC panel including nameplate of components where visible. Take photos of meter connections and readings. Verify these are operable and match the specifications.",null,null,null,null,"COMPLEX"]
["Install photovoltaic system with battery storage","complex",null,"Request the installed product specifications, the system size, and any other pertinent plans or documents. Provide screenshots of documents in photos tab. Take photos of as much of the system as possible given access limitations.","Take photos of PV panels and balance of system components; i.e. racks, inverters, batteries, charge controller, AC/DC disconnects, power conditioning units and AC panel including nameplate of components where visible. Take photos of meter connections and readings. Verify these are operable and match the specifications.",null,null,null,null,"COMPLEX"]
["Install battery storage","complex",null,"Request the installed product specifications, the capacity, and any other pertinent plans or documents. Provide screenshots of documents in photos tab. Take photos of the system.","Take photos of batteries including nameplate of components where visible. Verify these are operable and match the specifications.",null,null,null,null,"COMPLEX"]
["Install wind energy system","complex",null,"Request the installed product specifications, the system size, and any other pertinent plans or documents. Provide screenshots of documents in photos tab. Take photos of as much of the system as possible given access limitations.","Take photos of wind turbine and balance of system components; i.e. inverters, batteries, charge controller/regulator, AC/DC disconnects, and AC panel including nameplate of components where visible. Take photos of meter connections and readings. Verify these are operable and match the specifications.",null,null,null,null,"COMPLEX"]
["Upgrade controls","complex",null,"Request the installed product specifications and user manual ahead of inspection. During inspection take photos of controls and settings if a particular setting is called for in the EWEM Description.","Take photos of controls including nameplate, verifying that this matches with specification. If needing to cycle through control settings, consult property staff and refer to user manual prior to doing so as this can impact default or custom conditions.",null,null,null,null,"COMPLEX"]
["Add pipe insulation","basic",null,"Confirm that the entire length of pipe has been insulated. Confirm that the thickness and specification of the insulation match what is required. ","Take photos of pipe insulation around the boiler or hot water tank; measure thickness and length of insulated and noninsulated sections and verify these match the product specifications.",null,null,null,null,"BASIC"]
["Replace with higher efficiency pump","basic",null,"Request the installed product specifications and user manual ahead of inspection. During inspection take photos of controls and settings if a particular setting is called for in the EWEM Description.","Take photo of pump; verify these match the product specifications.",null,null,null,null,"BASIC"]
["Replace with variable speed pump","basic",null,"Request the installed product specifications and user manual ahead of inspection. During inspection take photos of controls and settings if a particular setting is called for in the EWEM Description.","Take photo of variable speed pump; verify these match the product specifications. If needing to cycle through speed settings, consult property staff and refer to user manual prior to doing so as this can impact default or custom conditions.",null,null,null,null,"BASIC"]
["Add recirculating pumps","complex",null,"Request the installed product specifications and user manual ahead of inspection. During inspection take photos of controls and settings if a particular setting is called for in the EWEM Description.","Take photo of recirculating pump; verify these match the product specifications.",null,null,null,null,"COMPLEX"]
["Balance distribution system","complex",null,"Request invoice and product specifications ahead of inspection. Such the changes performed to the system are clear and can be photographed. Provide screenshot of invoice in photos tab along with photos.","Take photos of any physical upgrades made as part of the system balancing.",null,null,null,null,{"$f":"UPPER(B72)","v":"COMPLEX"}]
["Replace steam traps","basic",null,"Request product specifications ahead of insepction. When onsite photograph installed parts.","Take photo of the steam traps, typically found on the inlet pipe to the radiator, and verify these match the product specifications. Confirm there is no condensate discharge or steam leaks. Verify operability of the unit by measuring temperature of the trap inlet using an infrared thermometer; condensate temperature should approximate that of saturated steam.",null,null,null,null,"BASIC"]
["Install thermostatic radiator valves","basic",1,"Request product specifications ahead of insepction. When onsite photograph installed parts and any available backstock.","Take photo of the thermostatic valve, typically found on the inlet pipe to the radiator, and verify these match the product specifications. Adjust the setting of the valve, by turning its head from the lowest number or off to a higher setpoint, and confirm operability of the unit by measuring temperature of the pipe downstream of valve in both settings using an infrared thermometer.",null,null,null,null,"BASIC"]
["Install or replace condensate return system","complex",null,"Request invoice and product specifications ahead of inspection. Such the changes performed to the system are clear and can be photographed. Provide screenshot of invoice in photos tab along with photos.","Take photo of variable speed pump; verify these match the product specifications. If needing to cycle through settings, consult property staff and refer to user manual prior to doing so as this can impact default or custom conditions.",null,null,null,null,"COMPLEX"]
["Replace chiller","complex",null,"Request invoice and product specifications ahead of inspection. Photograph nameplate/s. Provide screenshot of invoice in photos tab along with photos.","Take photo of chiller nameplate; verify these match the product specifications. If needing to cycle through settings, consult property staff and refer to user manual prior to doing so as this can impact default or custom conditions.",null,null,null,null,"COMPLEX"]
["Install VSD on electric centrifugal chillers","complex",null,"Take photo of variable speed drive nameplate; verify these match the product specifications. If needing to cycle through speed settings, consult property staff and refer to user manual prior to doing so as this can impact default or custom conditions. Ensure installation meets EWEM Description requirements.","Take photo of variable speed drive nameplate; verify these match the product specifications. If needing to cycle through speed settings, consult property staff and refer to user manual prior to doing so as this can impact default or custom conditions.",null,null,null,null,"COMPLEX"]
["Install low-flush toilets","basic",null,"Look for the GPF value on the toilet bowl and tank. Photograph both to confirm they meet the specification. Also allowed, ask for product spec, confirm the GPF, and visually confirm that the correct part was installed using a product number or label. ","Record apartment number. Take photo of toilet with close up of nameplate rating, typically between the seat and tank or engraved within the tank. Verify that it is operational and matches the rating in the specification sheets.",null,null,null,null,"BASIC"]
["Install low-flow bath faucets","basic",1,"Look for a GPM on the part. Ask if a stockroom has extra parts so that you can see the label and packaging to confirm GPM or WaterSense status. Inserts or line-restrictors are considered NON COMPLIANT unless specifically called for in EWEM Description.","Visit overstock room; i.e. supply closet or maintenance office. Take photos of nameplate information on aerator boxes if available. Record apartment number. Take photo of fixture aerator with close up of nameplate rating, typically engraved on its casing. Verify that it is operational and matches the rating in the specification sheets. Locking, Cache, or Tamper-proof aerator inserts are compliant, as long as the GPM can be verified with product info. ",null,null,null,null,"BASIC"]
["Install low-flow kitchen faucets","basic",1,"Look for a GPM on the part. Ask if a stockroom has extra parts so that you can see the label and packaging to confirm GPM or WaterSense status. Inserts or line-restrictors are considered NON COMPLIANT unless specifically called for in EWEM Description.","Visit overstock room; i.e. supply closet or maintenance office. Take photos of nameplate information on aerator boxes if available. Record apartment number. Take photo of fixture aerator with close up of nameplate rating, typically engraved on its casing. Verify that it is operational and matches the rating in the specification sheets. Locking, Cache, or Tamper-proof aerator inserts are compliant, as long as the GPM can be verified with product info. ",null,null,null,null,"BASIC"]
["Install low-flow showerheads","basic",1,"Look for a GPM on the part. Ask if a stockroom has extra parts so that you can see the label and packaging to confirm GPM or WaterSense status. Take photos of backstock.","Visit overstock room; i.e. supply closet or maintenance office. Take photos of nameplate information on aerator boxes if available. Record apartment number. Take photo of showerhead with close up of nameplate rating, typically engraved on its casing. Verify that it is operational and matches the rating in the specification sheets.",null,null,null,null,{"$f":"UPPER(B81)","v":"BASIC"}]
["Implement water efficient irrigation","basic",null,"Request the specification and manual before inspection. Look at the controller to confirm that it is on, operational, and is on a settings that matches the requirement (Typically weather-sensing). Take photos showing the installation and EWEM Description specification are met.","Take photos of nameplate to confirm model matches with product specifications, as well as photo documentaton of irrigation system on landscape. If needing to cycle through control settings on irrigation console, consult property staff and refer to user manual prior to doing so as this can impact default or custom conditions.",null,null,null,null,"BASIC"]
["Install pool cover","basic",null,"Request invoice and product specification for pool cover.","Take photos of pool cover to confirm this matches the product specifications.",null,null,null,null,"BASIC"]
["Replace or upgrade central water heater","complex",null,"Take photos of nameplate to confirm model matches with product specifications.","Take photos of nameplate to confirm model matches with product specifications. If needing to cycle through control settings, consult property staff and refer to user manual prior to doing so as this can impact default or custom conditions.",null,null,null,null,"COMPLEX"]
["Replace or upgrade individual water heater","basic",null,"Take photos of nameplate to confirm model matches with product specifications.","Take photos of nameplate to confirm model matches with product specifications. If needing to cycle through control settings, consult property staff and refer to user manual prior to doing so as this can impact default or custom conditions; if using a thermostat, operability can be verified by adjusting from off state to the temperature setpoint.",null,null,null,null,"BASIC"]
["Install solar hot water system","complex",null,"Request installed product specifications, and invoices before inspection. Provide screenshots of specs if available on photos tab. Take photos of system.","Take photos of solar hot water panels and balance of system components; i.e. racks, circulation pumps and panels, plumbing, mixing valves and storage tank including nameplate of components where visible. Verify these are operable and match the specifications.",null,null,null,null,"COMPLEX"]
["Separate DHW from heating","complex",null,"Request invoice before inspection. Take photographs showing changes made to separate they systems. Provide these as proof in photos tab along with screenshot of invoice.","Take photos of nameplate to confirm model matches with product specifications. If needing to cycle through control settings, consult property staff and refer to user manual prior to doing so as this can impact default or custom conditions.",null,null,null,null,"COMPLEX"]
["Add drive controls","complex",null,"Request the installed product specifications and user manual ahead of inspection. During inspection take photos of controls and settings if a particular setting is called for in the EWEM Description.","Take photos of controls including nameplate, verifying that this matches with specification. If needing to cycle through control settings, consult property staff and refer to user manual prior to doing so as this can impact default or custom conditions.",null,null,null,null,"COMPLEX"]
["Add VSD motor controller","basic",null,"Take photo of variable speed drive nameplate; verify these match the product specifications. If needing to cycle through speed settings, consult property staff and refer to user manual prior to doing so as this can impact default or custom conditions. Ensure installation meets EWEM Description requirements.","Take photo of variable speed drive nameplate; verify these match the product specifications. If needing to cycle through speed settings, consult property staff and refer to user manual prior to doing so as this can impact default or custom conditions.",null,null,null,null,"BASIC"]
["Upgrade elevator technology","complex",null,"Request the installed product specifications ahead of inspection. During inspection take photos of nameplate or other details to corroborate specification was installed as per EWEM Description.","Take photos in elevator room of nameplates for any upgrades; e.g. regenerative drives, or microprocessor controls in place of electromechanical relays.",null,null,null,null,"COMPLEX"]
["Install CHP/cogeneration systems","complex",null,"Request the installed product specifications ahead of inspection. During inspection take photos of nameplate or other details to corroborate specification was installed as per EWEM Description.","Take photos of CHP turbine or engine and balance of system components; i.e. inverters, heat exchangers, charge controller/regulator, AC/DC disconnects, AC panel and storage tanks (if applicable) including nameplate of components where visible. Take photos of meter connections and readings. Verify these are operable and match the specifications.",null,null,null,null,"COMPLEX"]
["Install fuel cells","complex",null,"Request the installed product specifications ahead of inspection. During inspection take photos of nameplate or other details to corroborate specification was installed as per EWEM Description.","Take photos of fuel cells and balance of system components; i.e. inverters, heat exchangers, charge controller/regulator, AC/DC disconnects, AC panel and storage tanks (if applicable) including nameplate of components where visible. Take photos of meter connections and readings. Verify these are operable and match the specifications.",null,null,null,null,"COMPLEX"]
["Install microturbines","complex",null,"Request the installed product specifications ahead of inspection. During inspection take photos of nameplate or other details to corroborate specification was installed as per EWEM Description.","Take photos of microturbines and balance of system components; i.e. inverters, batteries, charge controller/regulator, AC/DC disconnects, and AC panel including nameplate of components where visible. Take photos of meter connections and readings. Verify these are operable and match the specifications.",null,null,null,null,"COMPLEX"]
["Convert fuels","complex",null,"Refer to EWEM Description and request any appropriate documentation including but not limited to invoices to confirm measure was installed. Take photos to show changes made.","Contingent on type of fuel conversion.",null,null,null,null,"COMPLEX"]
["Install thermostatic showerhead valves and/or tub diverters","basic",1,"Request product information from property manager including specifications or invoices. Identify the visual appearance of the product that will need to be observed and photographed.","Are sometimes hidden. Look for a pull string or diverter valve. Match the observed product to the product information received from the property to confirm compliance.",null,null,null,null,"BASIC"]
["Install low-flow fixtures","basic",1,"Look for a GPM on the part. Ask if a stockroom has extra parts so that you can see the label and packaging to confirm GPM or WaterSense status. Inserts or line-restrictors are considered NON COMPLIANT.","Visit overstock room; i.e. supply closet or maintenance office. Take photos of nameplate information on aerator boxes if available. Record apartment number. Take photo of fixture aerator with close up of nameplate rating, typically engraved on its casing. Verify that it is operational and matches the rating in the specification sheets. Locking, Cache, or Tamper-proof aerator inserts are compliant, as long as the GPM can be verified with product info.",null,null,null,null,"BASIC"]
["Replace washing machines with ENERGY STAR rated","basic",null,"Check if the equipment is leased or not, take a photo to show leasing vendor if applicable. Photograph the nameplate of each observed during inspection. Look up each unique model observed on the ENERGY STAR database. Include screenshot of ENERGY STAR certificate for each model in the photos tab. Include photo showing leasing vendor if applicable. Note if leased, the EWEM is noncompliant.","Confirm that the system is operational and working properly. Take photos of nameplate found within the appliance to confirm it matches the product specifications. ",null,null,null,null,"BASIC"]
["Install WaterSense low-flush toilets","basic",null,"Request installed product specification, to confirm WaterSense. Include screenshot in photos tab. Look for the GPF value on the toilet bowl and tank. Photograph both to confirm they meet the specification. Also allowed, ask for product spec, confirm the GPF, and visually confirm that the correct part was installed using a product number or label. ","Record apartment number. Take photo of toilet with close up of nameplate rating, typically between the seat and tank or engraved within the tank. Verify that it is operational and matches the rating in the specification sheets.",null,null,null,null,"BASIC"]
["Install WaterSense low-flow bath faucets/aerators","basic",1,"Request installed product specification, to confirm WaterSense. Include screenshot in photos tab. Look for a GPM on the part. Ask if a stockroom has extra parts so that you can see the label and packaging to confirm GPM or WaterSense status. Inserts or line-restrictors are considered NON COMPLIANT unless specifically called for in EWEM Description.","Visit overstock room; i.e. supply closet or maintenance office. Take photos of nameplate information on aerator boxes if available. Record apartment number. Take photo of fixture aerator with close up of nameplate rating, typically engraved on its casing. Verify that it is operational and matches the rating in the specification sheets. Locking, Cache, or Tamper-proof aerator inserts are compliant, as long as the GPM can be verified with product info. ",null,null,null,null,"BASIC"]
["Install low-flow kitchen faucets/aerators","basic",1,"Request installed product specification, to confirm WaterSense. Include screenshot in photos tab. Look for a GPM on the part. Ask if a stockroom has extra parts so that you can see the label and packaging to confirm GPM or WaterSense status. Inserts or line-restrictors are considered NON COMPLIANT unless specifically called for in EWEM Description.","Visit overstock room; i.e. supply closet or maintenance office. Take photos of nameplate information on aerator boxes if available. Record apartment number. Take photo of fixture aerator with close up of nameplate rating, typically engraved on its casing. Verify that it is operational and matches the rating in the specification sheets. Locking, Cache, or Tamper-proof aerator inserts are compliant, as long as the GPM can be verified with product info. ",null,null,null,null,"BASIC"]
["Install WaterSense low-flow showerheads","basic",1,"Request installed product specification, to confirm WaterSense. Include screenshot in photos tab. Look for a GPM on the part. Ask if a stockroom has extra parts so that you can see the label and packaging to confirm GPM or WaterSense status. Take photos of backstock.","Visit overstock room; i.e. supply closet or maintenance office. Take photos of nameplate information on aerator boxes if available. Record apartment number. Take photo of showerhead with close up of nameplate rating, typically engraved on its casing. Verify that it is operational and matches the rating in the specification sheets.",null,null,null,null,"BASIC"]
["Add tank insulation","basic",null,"Request the installed product specifications before inspection. If a particular rating is called for in the EWEM Description ensure it is documented with a photo or screenshot of spec. sheet or invoice in photos tab.","Take photos of tank insulation around the boiler or hot water tank; measure thickness and length of insulated and noninsulated sections and verify these match the product specifications.",null,null,null,null,"BASIC"]
["Repair or replace roof for solar PV installation","basic",null,"Request the installed product specifications; refer to Inspection Form or invoices. Take note on which buildings this is installed at the property. Ensure if any specifics are called for in the EWEM Description that information is captured and verified.","Take photos of roof exterior and interior if safely accessible.",null,null,null,null,"BASIC"]
["Replace central heating boiler with electric heating","complex",null,"Take photos of nameplate to confirm model matches with product specifications and any specifics required per EWEM Description.","Take photos of nameplate to confirm model matches with product specifications. If needing to cycle through control settings, consult property staff and refer to user manual prior to doing so as this can impact default or custom conditions; if using a thermostat, operability can be verified by adjusting from off state to the temperature setpoint.",null,null,null,null,"COMPLEX"]
["Replace individual heating boiler with electric heating","basic",null,"Take photos of nameplate to confirm model matches with product specifications and any specifics required per EWEM Description.","Take photos of nameplate to confirm model matches with product specifications. If needing to cycle through control settings, consult property staff and refer to user manual prior to doing so as this can impact default or custom conditions; if using a thermostat, operability can be verified by adjusting from off state to the temperature setpoint.",null,null,null,null,"BASIC"]
[null,null,null,null,null,null,null,null,null,""]
[null,null,null,null,null,null,null,null,null,""]
[null,null,null,null,null,null,null,null,null,""]
[null,null,null,null,null,null,null,null,null,""]
[null,null,null,null,null,null,null,null,null,""]
[null,null,null,null,null,null,null,null,null,""]
[null,null,null,null,null,null,null,null,null,""]
[null,null,null,null,null,null,null,null,null,""]
[null,null,null,null,null,null,null,null,null,""]
[null,null,null,null,null,null,null,null,null,""]
[null,null,null,null,null,null,null,null,null,""]
[null,null,null,null,null,null,null,null,null,""]
[null,null,null,null,null,null,null,null,null,""]
[null,null,null,null,null,null,null,null,null,""]
[null,null,null,null,null,null,null,null,null,""]
[null,null,null,null,null,null,null,null,null,""]
[null,null,null,null,null,null,null,null,null,""]
[null,null,null,null,null,null,null,null,null,""]
[null,null,null,null,null,null,null,null,null,""]
[null,null,null,null,null,null,null,null,null,""]
[null,null,null,null,null,null,null,null,null,""]
[null,null,null,null,null,null,null,null,null,""]
[null,null,null,null,null,null,null,null,null,""]
[null,null,null,null,null,null,null,null,null,""]
[null,null,null,null,null,null,null,null,null,""]
[null,null,null,null,null,null,null,null,null,""]
[null,null,null,null,null,null,null,null,null,""]
[null,null,null,null,null,null,null,null,null,""]
[null,null,null,null,null,null,null,null,null,""]
[null,null,null,null,null,null,null,null,null,""]
[null,null,null,null,null,null,null,null,null,{"$f":"UPPER(B136)","v":""}]
[null,null,null,null,null,null,null,null,null,""]
[null,null,null,null,null,null,null,null,null,""]
[null,null,null,null,null,null,null,null,null,""]
[null,null,null,null,null,null,null,null,null,""]
[null,null,null,null,null,null,null,null,null,""]
[null,null,null,null,null,null,null,null,null,""]
[null,null,null,null,null,null,null,null,null,""]
[null,null,null,null,null,null,null,null,null,""]
[null,null,null,null,null,null,null,null,null,""]
[null,null,null,null,null,null,null,null,null,""]
[null,null,null,null,null,null,null,null,null,""]
[null,null,null,null,null,null,null,null,null,""]
[null,null,null,null,null,null,null,null,null,""]
[null,null,null,null,null,null,null,null,null,""]
[null,null,null,null,null,null,null,null,null,""]
[null,null,null,null,null,null,null,null,null,""]
[null,null,null,null,null,null,null,null,null,""]
[null,null,null,null,null,null,null,null,null,""]

{"sheet":"Updates","index":18,"n_rows":6,"n_cols":2,"rows_kept":6,"cut":false,"hidden":true,"merged":[]}
["2021-09-10","Updated the Observations sheet to account for 'install low flow fixtures' and determine if they are bath or kitchen and calculate compliance accordingly. "]
["Wednesday, October 20, 2021","Updated the Data sheet to account for an update to the cache aerators to low-flow bath and kitchen faucets."]
["2021-11-17","Updated the data sheet with newest list of ewems"]
["v1-8","- Counter added to \"Units and Spaces\" to show number of observations entered for each Apartment space. \n- Warning added to \"Units and Spaces\" to display if number of observations in an Apartment space is less than the number of Apartment EWEMs.\n- Added \"Install low-flow fixtures\" into the EWEM list, because there are still some of these in older inspections.\n- Manual override for EWEMs that contain the string \"pool pump\" in the description. These will always be considered BASIC.\n- New table \"Completeness Warnings\" to aggregate warnings on Property Info. New error warning on Property Info that tracks back to the Auto-Checklist. \n- New worksheet to upload rent roll or other document"]
["v2.0","Added remediation section of worksheets and conversion capabilities."]
["v3 - 2Q2024","Added Validation worksheet.\nAdded Validation completeness check to Property Info worksheet.\nRedesigned Photos and RemediationPhotos worksheet to give guided structure for photos.\nRemoved Print Sheets.\nAdded EWEM inspection guidance to EWEM worksheet.\nUpdates to Guidance"]